{"text_format":"1","workbook":"xlsx","n_sheets":61,"sheets":["Data pompa","Low liquid level","Sheet1","Wangi-wangi","Kolaka","Rote","Malinau","Bombana","Selayar","Waingapu","Alor","Tahuna","Nunukan","Nunukan (filling)","Flores","Bau-bau","Kupang","Maumere","Sumbawa","Bima","Pump sizing","How to use","Transfer Pump","Karawang (LP Pump)","Karawang (HP Pump)","Cirebon (LP Pump)","Cirebon (HP Pump)","Gresik (LP Pump)","Gresik (HP Pump)","Banyuwangi (LP Pump)","Semarang (med feed pump) 0.5 MM","recirculation","Kalsel (LP)","Kalsel (HP)","Kalsel","Minahasa (LP)","Minahasa (HP)","Minahasa","Pipe size sch 40","12 - BOOSTER (G-2AB)","12 - BOOSTER (G-1AB)","12 - VIT (G-1AB)","33.6 - BOOSTER (G-2AB)","33.6 - BOOSTER (G-1AB)","33.6 - BOOSTER (G-3AB)","33.6 - VIT (G-1AB)","33.6 - VIT (G-3AB)","36 - BOOSTER (G-2AB)","36 - BOOSTER (G-1AB)","36 - BOOSTER (G-3AB)","36 - VIT (G-1AB)","36 - VIT (G-3AB)","75.6 - BOOSTER (G-2AB)","75.6 - BOOSTER (G-1AB)","75.6 - BOOSTER (G-3AB)","75.6 - VIT (G-1AB)","75.6 - VIT (G-3AB)","K-value","Sheet2","Sheet2 (2)","Formulae"],"not_rendered":{"charts":0,"images":6,"macros":1,"external_links":0,"defined_names":159,"comments":51,"pivot_tables":0},"unopened":[],"bounds":{"document_bytes":16777216,"sheet_cells":100000,"rows_first":2000,"rows_last":500,"rows_between":2000,"halvings":0,"cell_chars":16384,"cell_head_chars":4096},"cells_cut":0,"cells_raw":0,"read":"whole","date_system":"1900"}

{"sheet":"Data pompa","index":0,"n_rows":27,"n_cols":20,"rows_kept":27,"cut":false,"hidden":true,"merged":[]}
[]
[null,1,2,3,4,5,6,7,8,9,10,11,12,13,14,15,16,17,18]
[null,"Location","Kapasitas Design Regasifikasi (MMSCFD)","Sendout Presssure (barg)","Kapasitas Tangki (m3)","Jumlah Tangki",null,null,"Pump Capacity (m3/h)","Pump Rated Capacity (m3/h)","Inlet Pressure (barg)","Outlet Pressure (barg)","Temperature (oC)","Density (kg/m3)","Dynamic viscosity (cP)","Vapor Pressure (bara)","Suction Size","Discharge Size","Low Liquid Level (mm)","Remarks"]
[]
[null,"Mobile PP Wangi-Wangi",0.96,50,120,4,{"$f":"C5*46/24","v":1.8399999999999999},null,7.34,{"$f":"I5*1.1","v":8.0739999999999998},2,52,-158.83000000000001,433.1,0.1174,{"$f":"0.217+1.01","v":1.2270000000000001},3,3,{"$f":"VLOOKUP(E5,'Low liquid level'!$J$6:$P$13,7,FALSE)","v":350}]
[null,"Mobile PP Kolaka Utara",0.96,50,450,1,1.8399999999999999,null,1.85,{"$f":"I6*1.1","v":2.0350000000000001},2,52,-158.83000000000001,433.1,0.1174,{"$f":"0.217+1.01","v":1.2270000000000001},2,2,{"$f":"VLOOKUP(E6,'Low liquid level'!$J$6:$P$13,7,FALSE)","v":450}]
[null,"Rote",0.96,8,350,1,{"$f":"C7*46/24","v":1.8399999999999999},null,8.08,8.8880000000000017,2,10,-158.83000000000001,433.1,0.1174,{"$f":"0.217+1.01","v":1.2270000000000001},3,3,{"$f":"VLOOKUP(E7,'Low liquid level'!$J$6:$P$13,7,FALSE)","v":400}]
[null,"Malinau",1.1519999999999999,8,180,1,2.2079999999999997,null,2.2200000000000002,2.4420000000000006,2,10,-158.85,433.2,0.1174,{"$f":"0.2151+1.01","v":1.2251000000000001},2,2,{"$f":"VLOOKUP(E8,'Low liquid level'!$J$6:$P$13,7,FALSE)","v":400}]
[null,"Selayar",1.92,8,"350 & 450",2,3.6799999999999997,null,3.7,4.07,2,10,-158.88,433.2,0.11749999999999999,{"$f":"0.2122+1.01","v":1.2222},2,2,400]
[null,"Mobile PP Bombana",1.92,50,"350 & 450",2,3.6799999999999997,null,6.46,7.1060000000000008,2,52,-158.88,433.2,0.11749999999999999,1.2222,3,2,400,"Taking the lowest"]
[null,"Waingapu",1.92,8,600,1,3.6799999999999997,null,3.7,4.07,2,10,-158.88,433.2,0.11749999999999999,1.2222,2,2,{"$f":"VLOOKUP(E11,'Low liquid level'!$J$6:$P$13,7,FALSE)","v":400},"Taking the lowest"]
[null,"Alor",1.92,8,350,2,3.6799999999999997,null,3.68,4.0480000000000009,2,10,-158.88,433.2,0.11749999999999999,1.2222,2,2,{"$f":"VLOOKUP(E12,'Low liquid level'!$J$6:$P$13,7,FALSE)","v":400}]
[null,"Tahuna",1.92,8,600,1,3.6799999999999997,null,3.7,4.07,2,10,-158.88,433.2,0.11749999999999999,1.2222,2,2,{"$f":"VLOOKUP(E13,'Low liquid level'!$J$6:$P$13,7,FALSE)","v":400}]
[null,"Nunukan 2",1.92,8,500,2,3.6799999999999997,null,3.7,4.07,2,10,-158.88,433.2,0.11749999999999999,1.2222,"z",2,{"$f":"VLOOKUP(E14,'Low liquid level'!$J$6:$P$13,7,FALSE)","v":450}]
[null,"Mobile PP Flores",3.84,50,600,1,7.3599999999999994,null,7.39,8.1289999999999996,2,52,-158.9,433.4,0.1176,{"$f":"0.2094+1.01","v":1.2194},3,3,{"$f":"VLOOKUP(E15,'Low liquid level'!$J$6:$P$13,7,FALSE)","v":400}]
[null,"Bau-bau",5.76,8,450,5,11.04,null,11.09,12.199000000000002,2,10,-158.91,433.3,0.1176,{"$f":"0.2094+1.01","v":1.2194},3,2,{"$f":"VLOOKUP(E16,'Low liquid level'!$J$6:$P$13,7,FALSE)","v":450}]
[null,"Maumere",7.68,8,350,8,14.719999999999999,null,14.78,16.257999999999999,2,10,-158.91999999999999,433.3,0.1176,{"$f":"0.2084+1.01","v":1.2183999999999999},3,3,{"$f":"VLOOKUP(E17,'Low liquid level'!$J$6:$P$13,7,FALSE)","v":400}]
[null,"Kupang Peaker",7.68,8,350,8,14.719999999999999,null,14.78,16.257999999999999,2,10,-158.91999999999999,433.3,0.1176,{"$f":"0.2084+1.01","v":1.2183999999999999},3,3,{"$f":"VLOOKUP(E18,'Low liquid level'!$J$6:$P$13,7,FALSE)","v":400}]
[null,"Sumbawa",9.6,8,350,8,18.399999999999999,null,18.48,20.328000000000003,2,10,-158.91999999999999,433.3,0.1176,{"$f":"0.2084+1.01","v":1.2183999999999999},4,3,{"$f":"VLOOKUP(E19,'Low liquid level'!$J$6:$P$13,7,FALSE)","v":400}]
[null,"Bima",9.6,8,350,8,18.399999999999999,null,18.48,20.328000000000003,2,10,-158.91999999999999,433.3,0.1176,{"$f":"0.2084+1.01","v":1.2183999999999999},4,3,{"$f":"VLOOKUP(E20,'Low liquid level'!$J$6:$P$13,7,FALSE)","v":400}]
[null,"Balongan",26,42,350,20,49.833333333333336,null,12.813640256533301,{"$f":"I21*1.1","v":14.095004282186633},1.99,42,-159.97999999999999,433.3,0.1202,{"$f":"0.152198221614014+1.01","v":1.1621982216140141},6,4,{"$f":"VLOOKUP(E21,'Low liquid level'!$J$6:$P$13,7,FALSE)","v":400}]
[null,"Kalsel Peaker-1 (LP)",33.6,50,5400,1,64.400000000000006,null,64.91,71.400999999999996,0.15,3.45,-159.53,434,0.119081029581106,{"$f":"0.150034049481549+1.01","v":1.1600340494815491},8,4,{"$f":"VLOOKUP(E22,'Low liquid level'!$J$6:$P$13,7,FALSE)","v":900}]
[null,"Kalsel Peaker-1 (HP)",33.6,50,null,null,null,null,64.930000000000007,71.423000000000016,2.9,52,-158.80000000000001,433.9,8.516E-2,{"$f":"2.878+1.01","v":3.8879999999999999},6,4,1000,"Assumption"]
[null,"Minahasa Peaker (LP)",36,50,10800,1,69,null,69.569999999999993,76.527000000000001,0.15,4.45,-159.54,434,0.1191,{"$f":"0.1504+1.01","v":1.1604000000000001},8,6,{"$f":"VLOOKUP(E24,'Low liquid level'!$J$6:$P$13,7,FALSE)","v":1200}]
[null,"Minahasa Peaker (HP)",36,50,null,null,null,null,69.75,{"$f":"I25*1.1","v":76.725000000000009},3.9,52,-158.80000000000001,432.9,7.9280000000000003E-2,3.8889999999999998,6,6,1000,"Assumption"]
[null,"Minahasa Peaker (reliq)",36,50,10800,1,null,null,69.33,{"$f":"I26*1.1","v":76.263000000000005},0.15,52,-159.54,433.9,0.1191,{"$f":"0.1504+1.01","v":1.1604000000000001},6,6,{"$f":"VLOOKUP(E26,'Low liquid level'!$J$6:$P$13,7,FALSE)","v":1200}]
[null,"Kalsel Peaker-1 (reliq)",33.6,50,5400,1,null,null,64.930000000000007,{"$f":"I27*1.1","v":71.423000000000016},0.15,52,-159.54,433.9,0.1191,{"$f":"0.1504+1.01","v":1.1604000000000001},6,4,{"$f":"VLOOKUP(E27,'Low liquid level'!$J$6:$P$13,7,FALSE)","v":900}]

{"sheet":"Low liquid level","index":1,"n_rows":24,"n_cols":18,"rows_kept":24,"cut":false,"hidden":true,"merged":[[3,10,3,11],[3,12,3,13]]}
[]
[null,"Location","Kapasitas Design Regasifikasi (MMSCFD)","Kapasitas Tangki (m3)","Jumlah Tangki","Head Type","OD","L"]
[]
[null,"Selayar",1.92,350,1,"Ellipsoidal",{"$f":"VLOOKUP(D4,$J$6:$L$13,2,FALSE)","v":4.5},{"$f":"VLOOKUP(D4,$J$6:$L$13,3,FALSE)","v":35},null,null,"Outside",null,"Inside",null,"Volume (m3)","Fluid Length","Fluid Volume (m3)"]
[null,null,null,450,1,"Ellipsoidal",5.2,32,null,null,"D (m)","L (m)","D (m)","L (m)"]
[null,"Mobile PP Wangi-Wangi",0.96,120,4,"Ellipsoidal",3.8,14.3,null,120,3.8,14.3,{"$f":"K6-0.2*2","v":3.4},{"$f":"L6-2*0.6","v":13.100000000000001},121.22,350,6.49,{"$f":"Q6/J6","v":5.4083333333333337E-2}]
[null,"Mobile PP Sultra (Kendari)",12,350,14,"Ellipsoidal",4.5,35,null,180,4.2,18.7,{"$f":"K7-0.3*2","v":3.6},{"$f":"L7-2*0.6","v":17.5},180.6,400,10.89,{"$f":"Q7/J7","v":6.0500000000000005E-2}]
[null,"Bau-bau",5.76,450,5,"Ellipsoidal",5.2,32,null,350,4.5,35,3.7,{"$f":"L8-2*1.3","v":32.4},351.07,400,20.47,5.848571428571428E-2]
[null,"Mobile PP Bombana",1.92,350,1,"Ellipsoidal",4.5,35,null,450,5.2,32,4.4000000000000004,{"$f":"L9-2*1.3","v":29.4},450.85,450,24.1,5.3555555555555558E-2]
[null,null,null,450,1,"Ellipsoidal",5.2,32,null,500,5.15,35.1,4.4000000000000004,{"$f":"L10-2*1.2","v":32.700000000000003},501.03,450,26.8,5.3600000000000002E-2]
[null,"Mobile PP Kolaka Utara",0.96,450,1,"Ellipsoidal",5.2,32,null,600,5.2,42,4.4000000000000004,39.24,600,400,32.15,5.358333333333333E-2]
[null,"Sumbawa",9.6,500,5,"Ellipsoidal",5.15,35.1,null,5400,22,22.5,20,{"$f":"L12-2*1","v":20.5},6440,900,282,5.2222222222222225E-2]
[null,"Bima",9.6,500,5,"Ellipsoidal",5.15,35.1,null,10800,30,28.66,25.3,24.4,12266,1200,603,5.5833333333333332E-2]
[null,"Waingapu",1.92,500,1,"Ellipsoidal",5.15,35.1]
[null,"Mobile PP Flores",3.84,350,3,"Ellipsoidal",4.5,35]
[null,"Maumere",7.68,350,8,"Ellipsoidal",4.5,35]
[null,"Alor",1.92,350,2,"Ellipsoidal",4.5,35]
[null,"Kupang Peaker",7.68,350,8,"Ellipsoidal",4.5,35]
[null,"Rote",0.96,350,1,"Ellipsoidal",4.5,35]
[null,"Kalsel Peaker-1",33.6,5400,1,"Ellipsoidal",22,22.5]
[null,"Minahasa Peaker",36,10800,1,"Ellipsoidal",30,28.66]
[null,"Tahuna",1.92,600,1,"Ellipsoidal",5.2,42]
[null,"Nunukan 2",1.92,500,2,"Ellipsoidal",5.15,35.1]
[null,"Malinau",1.1519999999999999,180,1,"Ellipsoidal",4.2,18.7]

{"sheet":"Sheet1","index":2,"n_rows":12,"n_cols":7,"rows_kept":12,"cut":false,"hidden":true,"merged":[]}
[]
[]
[]
[null,null,null,"Suction","Ball valve",2,"For multiple tank"]
[null,null,null,null,"Strainer",1]
[]
[null,null,null,"Discharge","Check valve",3]
[null,null,null,null,"Ball valve",5,"6 untuk discharge lebih besar sama dengan 3 in"]
[null,null,null,null,"Orifice",1]
[null,null,null,null,"Control valve",1]
[]
[null,null,null,"AAV",null,1]

{"sheet":"Wangi-wangi","index":3,"n_rows":72,"n_cols":24,"rows_kept":72,"cut":false,"hidden":true,"merged":[[0,5,3,10],[26,21,26,23],[26,19,27,20],[26,18,27,18]]}
[null,null,null,null,null,"PUMP SIZING"]
[]
[]
[]
[null,null,"Project: LNG Regasification in Central Region of Indonesia"]
[]
[null,null,"Equipment Design Group",null,"1-2","MMSCFD"]
[null,null,"Equipment Design",null,0.96,"MMSCFD"]
[null,null,"Tag No:",null,"MPW-G-001A/B"]
[null,null,"Description:",null,"LNG Pump"]
[null,null,"Location:",null,"Mobile PP Wangi-wangi",null,null,null,null,null,null,null,null,null,"Pipe roughness",0.05,"mm"]
[null,null,null,null,null,null,null,null,null,null,null,null,null,null,null,{"$f":"P11/1000/3.28","v":1.5243902439024392E-5},"ft"]
[]
[null,null,"DATA",null,null,null,null,null,"RESULTS",null,null,null,null,null,"Mass flow",{"$f":"E15*E16/0.45","v":7064.3422222222225},"lb/hr"]
[null,null,"Flow rate",null,7.34,"m3/h",null,null,"Suction Hydraulic",null,null,null,null,null,"Rho",{"$f":"E16/16.02","v":27.034956304619229},"lb/ft3"]
[null,null,"Density",null,{"$f":"VLOOKUP(E11,'Data pompa'!$B$5:$R$24,13,FALSE)","v":433.1},"kg/m3",null,null,"Pipe ID",{"$f":"VLOOKUP(E28,'Pipe size sch 40'!$A$5:$C$27,3,FALSE)*25.4/1000","v":7.7977999999999992E-2},"m"]
[null,null,"Flow temperature",null,{"$f":"VLOOKUP(E11,'Data pompa'!$B$5:$R$24,12,FALSE)","v":-158.83000000000001},"deg C",null,null,"Velocity",{"$f":"E15/(PI()/4*J16^2)/3600","v":0.42693277240202054},"m/s",null,null,null,"Side Calculation (Suction)"]
[null,null,"Viscocity",null,{"$f":"VLOOKUP(E11,'Data pompa'!$B$5:$R$24,14,FALSE)","v":0.1174},"cP",null,null,"Velocity acceptance",{"$f":"IF(E28<=2,0.9,IF(OR(E28>=3,E28<=6),1.2,IF(OR(E28>=8,E28<=18),1.5,1.8)))","v":1.2},"m/s","(max)",null,null,"f tebakan",1.8779010052540571E-2]
[null,null,null,null,{"$f":"E18*10^-3","v":1.1740000000000001E-4},"Nm2/s",null,null,"Reynold number",{"$f":"E16*J18*J16/E19","v":345202.09676320269},null,null,null,null,"f left",{"$f":"1/(P18)^0.5","v":7.2973243949137707}]
[null,null,"Vapor pressure",null,{"$f":"VLOOKUP(E11,'Data pompa'!$B$5:$R$24,15,FALSE)","v":1.2270000000000001},"bara",null,null,"Pipe DP",{"$f":"P24","v":9.6639554068962043E-3},"bar/100m",null,null,null,"f right",{"$f":"-2*LOG(P12/(3.7*J16*0.3048)+2.51/(J19*(P18)^0.5))","v":7.2902355470349596}]
[null,null,"Pump efficiency",null,0.45,null,null,null,"Pipe DP acceptance",{"$f":"IF(E28<=6,0.137,0.225)","v":0.13700000000000001},"bar/100m",null,null,null,"f left/f right",{"$f":"P19/P20","v":1.0009723756980244},"Goal seek"]
[null,null,null,null,null,null,null,null,"Static head",{"$f":"E16*9.8*E26/10^5","v":1.4855329999999998E-2},"bar",null,null,null,"psi/100 ft",{"$f":"0.000336*P18*P14^2/(J16*1000/25.4)^5/P15","v":4.2710817316318463E-2}]
[null,null,"SUCTION",null,null,null,null,null,"Pipe friction loss",{"$f":"J20*E27/100","v":5.7983732441377221E-3},"bar",null,null,null,"psi/ft",{"$f":"P22/100","v":4.2710817316318463E-4}]
[null,null,"Pressure at Vessel (min)",null,2,"barg",null,null,"Fitting friction loss",{"$f":"G46","v":6.1790400626393141E-2},"bar",null,null,null,"bar/100 m",{"$f":"P23*100/14.5/0.3048","v":9.6639554068962043E-3}]
[null,null,"Pressure at Vessel (max)",null,5,"barg",null,null,"Suction Pressure",{"$f":"E24+J22-SUM(J23:J24)","v":1.9472665561294691},"barg"]
[null,null,"Static head",null,{"$f":"VLOOKUP(E11,'Data pompa'!$B$5:$S$27,18,FALSE)/1000","v":0.35},"m",null,null,"Result",{"$f":"IF(AND(J17<J18,J20<J21),\"OK\",\"NOT OK\")","v":"OK"}]
[null,null,"Length",null,60,"m","assumption",null,null,null,null,null,null,null,"Side Calculation (Discharge)",null,null,null,null,"Suction",null,"Discharge"]
[null,null,"Pipe size",null,{"$f":"VLOOKUP(E11,'Data pompa'!$B$5:$R$24,16,FALSE)","v":3},"in",null,null,"Discharge Hydraulic",null,null,null,null,null,"f tebakan",1.7999608530021378E-2,null,null,null,null,null,null,"< 49 barg","> 49 barg"]
[null,null,"Schedule",null,40,null,null,null,"Pipe ID",{"$f":"VLOOKUP(E52,'Pipe size sch 40'!$A$5:$C$27,3,FALSE)*25.4/1000","v":7.7977999999999992E-2},"m",null,null,null,"f left",{"$f":"1/(P28)^0.5","v":7.4536409775698287},null,null,null,"Velocity","Pressure","Velocity","Pressure","Pressure"]
[null,null,"Fittings",null,null,null,null,null,"Velocity",{"$f":"E15/(PI()/4*J16^2)/3600","v":0.42693277240202054},"m/s",null,null,null,"f right",{"$f":"-2*LOG(P12/(3.7*J29*0.3048)+2.51/(J32*(P28)^0.5))","v":7.4526284991856917},null,null,0.5,0.9,0.13700000000000001,4.5,0.34300000000000003,0.68600000000000005]
[null,null,null,null,"Qty","K","DP",null,"Velocity acceptance",{"$f":"IF(E50<=18,4.5,6)","v":4.5},"m/s","(max)",null,null,"f left/f right",{"$f":"P29/P30","v":1.0001358552065553},"Goal seek",null,0.75,0.9,0.13700000000000001,4.5,0.34300000000000003,0.68600000000000005]
[null,null,"Elbow 90 LR",{"$f":"C32&$E$28","v":"Elbow 90 LR3"},10,{"$f":"VLOOKUP(D32,'K-value'!$D$48:$E$124,2,FALSE)","v":0.28999999999999998},{"$f":"E32*F32*$J$17^2/(2*9.8)*$E$16*9.8/10^5","v":1.1446564851278901E-3},null,"Reynold number",{"$f":"E16*J31*J29/E19","v":1294507.86286201},null,null,null,null,"psi/100 ft",{"$f":"0.000336*P28*P14^2/(J29*1000/25.4)^5/P15","v":4.0938153264739548E-2},null,null,1,0.9,0.13700000000000001,4.5,0.34300000000000003,0.68600000000000005]
[null,null,"Elbow 45 LR","Elbow 45 LR3",null,{"$f":"VLOOKUP(D33,'K-value'!$D$48:$E$124,2,FALSE)","v":0.28999999999999998},0,null,"Pipe DP",{"$f":"P34","v":9.2628638937323621E-3},"bar/100m",null,null,null,"psi/ft",{"$f":"P32/100","v":4.0938153264739549E-4},null,null,1.5,0.9,0.13700000000000001,4.5,0.34300000000000003,0.68600000000000005]
[null,null,"Tee thru","Tee thru3",null,{"$f":"VLOOKUP(D34,'K-value'!$D$48:$E$124,2,FALSE)","v":0.36},0,null,"Pipe DP acceptance",{"$f":"IF(E49<=49,0.343,0.686)","v":0.68600000000000005},"bar/100m",null,null,null,"bar/100 m",{"$f":"P33*100/14.5/0.3048","v":9.2628638937323621E-3},null,null,2,0.9,0.13700000000000001,4.5,0.34300000000000003,0.68600000000000005]
[null,null,"Tee branch","Tee branch3",null,{"$f":"VLOOKUP(D35,'K-value'!$D$48:$E$124,2,FALSE)","v":1.08},0,null,"Static head",{"$f":"E15*9.8*E50/10^5","v":2.15796E-3},"bar","note 1",null,null,null,null,null,null,3,1.2,0.13700000000000001,4.5,0.34300000000000003,0.68600000000000005]
[null,null,"Ball valve","Ball valve3",2,{"$f":"VLOOKUP(D36,'K-value'!$D$48:$E$124,2,FALSE)","v":0.05},3.9470913280272087E-5,null,"Line losses",{"$f":"J33*E51/100","v":9.2628638937323621E-3},"bar",null,null,null,null,null,null,null,4,1.2,0.13700000000000001,4.5,0.34300000000000003,0.68600000000000005]
[null,null,"Butterfly valve","Butterfly valve3",null,{"$f":"VLOOKUP(D37,'K-value'!$D$48:$E$124,2,FALSE)","v":0.81},0,null,"Fitting & eqp losses",{"$f":"G70+G72","v":1.0041491824040221},"bar",null,null,null,"NPSHA calculation",null,null,null,6,1.2,0.13700000000000001,4.5,0.34300000000000003,0.68600000000000005]
[null,null,"Gate valve","Gate valve3",null,{"$f":"VLOOKUP(D38,'K-value'!$D$48:$E$124,2,FALSE)","v":0.14000000000000001},0,null,"Discharge Pressure",{"$f":"E49+J35+J36+J37","v":51.01557000629775},"barg",null,null,null,"HA",{"$f":"(E24+1.01)*100000/(E16*9.81)","v":70.845016288469608},"m",null,8,1.5,0.22500000000000001,4.5,0.34300000000000003,0.68600000000000005]
[null,null,"Globe valve","Globe valve3",null,{"$f":"VLOOKUP(D39,'K-value'!$D$48:$E$124,2,FALSE)","v":6.1},0,null,"Result",{"$f":"IF(AND(J30<J31,J33<J34),\"OK\",\"NOT OK\")","v":"OK"},null,null,null,null,"HZ",{"$f":"E26","v":0.35},"m",null,10,1.5,0.22500000000000001,4.5,0.34300000000000003,0.68600000000000005]
[null,null,"Check valve","Check valve3",null,{"$f":"VLOOKUP(D40,'K-value'!$D$48:$E$124,2,FALSE)","v":1.8},0,null,null,null,null,null,null,null,"HF",{"$f":"SUM(J23:J24)*-1","v":-6.758877387053086E-2},null,null,12,1.5,0.22500000000000001,4.5,0.34300000000000003,0.68600000000000005]
[null,null,"Plug valve","Plug valve3",null,{"$f":"VLOOKUP(D41,'K-value'!$D$48:$E$124,2,FALSE)","v":1.62},0,null,"Pump Data",null,null,null,null,null,"HV",0,null,null,16,1.5,0.22500000000000001,4.5,0.34300000000000003,0.68600000000000005]
[null,null,"Pipe entrance","Pipe entrance3",1,{"$f":"VLOOKUP(D42,'K-value'!$D$48:$E$124,2,FALSE)","v":0.78},3.0787312358612225E-4,null,"Suction Pressure",{"$f":"J25","v":1.9472665561294691},"barg",null,null,null,"HVP",{"$f":"E20*10^5/(E16*9.8)*-1","v":-28.908815893016179},"m",null,18,1.5,0.22500000000000001,4.5,0.34300000000000003,0.68600000000000005]
[null,null,"Suction strainer","Suction strainer3",1,null,{"$f":"0.05*E43","v":0.05},null,"Discharge Pressure",{"$f":"J38","v":51.01557000629775},"barg",null,null,null,"NPSHA",{"$f":"SUM(P38:P42)","v":42.218611621582895},"m",null,20,1.8,0.22500000000000001,6,0.34300000000000003,0.68600000000000005]
[null,null,"Total, barg",null,null,null,{"$f":"SUM(G32:G43)","v":5.1492000521994284E-2},null,"Selected disc. Pressure",52,"barg"]
[null,null,"Contingency",null,null,null,0.2,null,"Differential Pressure",{"$f":"J44-J42","v":50.05273344387053},"bar"]
[null,null,"Total + Contingency",null,null,null,{"$f":"(1+G45)*G44","v":6.1790400626393141E-2},null,"Differential Head",{"$f":"J45*10^5/(E16*9.8)","v":1179.2707873439824},"m"]
[null,null,null,null,null,null,null,null,"Hydraulic Power",{"$f":"E16*9.8*J46*E15/3600000","v":10.205196207722489},"kW"]
[null,null,"DISCHARGE",null,null,null,null,null,"Pump BHP",{"$f":"J47/E21","v":22.678213794938863},"kW"]
[null,null,"Target Pressure ",null,{"$f":"VLOOKUP(E11,'Data pompa'!$B$5:$R$24,3,FALSE)","v":50},"barg",null,null,"NPSHa",{"$f":"P43","v":42.218611621582895},"m"]
[null,null,"Static head",null,3,"m","note 2",null,"NPSHr",{"$f":"J49-1","v":41.218611621582895},"m"]
[null,null,"Length",null,100,"m"]
[null,null,"Pipe size",null,{"$f":"VLOOKUP(E11,'Data pompa'!$B$5:$R$24,17,FALSE)","v":3},"in",null,null,"Shut in Pressure"]
[null,null,"Schedule",null,40,null,null,null,"P shut in",{"$f":"E25+1.3*J45","v":70.068553477031685},"barg"]
[null,null,"Fittings"]
[null,null,null,null,"Qty","K","DP"]
[null,null,"Elbow 90 LR",{"$f":"C56&$E$52","v":"Elbow 90 LR3"},7,{"$f":"VLOOKUP(D56,'K-value'!$D$48:$E$124,2,FALSE)","v":0.28999999999999998},{"$f":"E56*F56*$J$17^2/(2*9.8)*$E$16*9.8/10^5","v":8.0125953958952326E-4}]
[null,null,"Elbow 45 LR","Elbow 45 LR3",null,{"$f":"VLOOKUP(D57,'K-value'!$D$48:$E$124,2,FALSE)","v":0.28999999999999998},0]
[null,null,"Tee thru","Tee thru3",null,{"$f":"VLOOKUP(D58,'K-value'!$D$48:$E$124,2,FALSE)","v":0.36},0]
[null,null,"Tee branch","Tee branch3",1,{"$f":"VLOOKUP(D59,'K-value'!$D$48:$E$124,2,FALSE)","v":1.08},4.262858634269385E-4]
[null,null,"Ball valve","Ball valve3",5,{"$f":"VLOOKUP(D60,'K-value'!$D$48:$E$124,2,FALSE)","v":0.05},9.867728320068021E-5]
[null,null,"Butterfly valve","Butterfly valve3",null,{"$f":"VLOOKUP(D61,'K-value'!$D$48:$E$124,2,FALSE)","v":0.81},0]
[null,null,"Gate valve","Gate valve3",null,{"$f":"VLOOKUP(D62,'K-value'!$D$48:$E$124,2,FALSE)","v":0.14000000000000001},0]
[null,null,"Globe valve","Globe valve3",null,{"$f":"VLOOKUP(D63,'K-value'!$D$48:$E$124,2,FALSE)","v":6.1},0,null,"Note:"]
[null,null,"Check valve","Check valve3",3,{"$f":"VLOOKUP(D64,'K-value'!$D$48:$E$124,2,FALSE)","v":1.8},2.1314293171346924E-3]
[null,null,"Plug valve","Plug valve3",null,{"$f":"VLOOKUP(D65,'K-value'!$D$48:$E$124,2,FALSE)","v":1.62},0,null,"1. Discharge liquid level is assumed 3 m above grade elevation"]
[null,null,"Pipe entrance","Pipe entrance3",null,{"$f":"VLOOKUP(D66,'K-value'!$D$48:$E$124,2,FALSE)","v":0.78},0]
[null,null,"Flow orifice","Flow orifice3",1,null,0.25]
[null,null,"Total, barg",null,null,null,{"$f":"SUM(G56:G67)","v":0.25345765200335185}]
[null,null,"Contingency",null,null,null,0.2]
[null,null,"Total + contingency, barg",null,null,null,{"$f":"G68*(1+G69)","v":0.30414918240402222}]
[null,null,"Pressure Loss due to Equipment"]
[null,null,"AAV",null,null,null,0.7]

{"sheet":"Kolaka","index":4,"n_rows":72,"n_cols":24,"rows_kept":72,"cut":false,"hidden":true,"merged":[[0,5,3,10],[26,21,26,23],[26,19,27,20],[26,18,27,18]]}
[null,null,null,null,null,"PUMP SIZING"]
[]
[]
[]
[null,null,"Project: LNG Regasification in Central Region of Indonesia"]
[]
[null,null,"Equipment Design Group",null,"1-2","MMSCFD"]
[null,null,"Equipment Design",null,0.96,"MMSCFD"]
[null,null,"Tag No:",null,"MPK-G-001A/B"]
[null,null,"Description:",null,"LNG Pump"]
[null,null,"Location:",null,"Mobile PP Kolaka Utara",null,null,null,null,null,null,null,null,null,"Pipe roughness",0.05,"mm"]
[null,null,null,null,null,null,null,null,null,null,null,null,null,null,null,{"$f":"P11/1000/3.28","v":1.5243902439024392E-5},"ft"]
[]
[null,null,"DATA",null,null,null,null,null,"RESULTS",null,null,null,null,null,"Mass flow",{"$f":"E15*E16/0.45","v":1780.5222222222224},"lb/hr"]
[null,null,"Flow rate",null,{"$f":"'Data pompa'!I6","v":1.85},"m3/h",null,null,"Suction Hydraulic",null,null,null,null,null,"Rho",{"$f":"E16/16.02","v":27.034956304619229},"lb/ft3"]
[null,null,"Density",null,{"$f":"VLOOKUP(E11,'Data pompa'!$B$5:$R$24,13,FALSE)","v":433.1},"kg/m3",null,null,"Pipe ID",{"$f":"VLOOKUP(E28,'Pipe size sch 40'!$A$5:$C$27,3,FALSE)*25.4/1000","v":5.2577999999999993E-2},"m"]
[null,null,"Flow temperature",null,{"$f":"VLOOKUP(E11,'Data pompa'!$B$5:$R$24,12,FALSE)","v":-158.83000000000001},"deg C",null,null,"Velocity",{"$f":"E15/(PI()/4*J16^2)/3600","v":0.23668526534856732},"m/s",null,null,null,"Side Calculation (Suction)"]
[null,null,"Viscocity",null,{"$f":"VLOOKUP(E11,'Data pompa'!$B$5:$R$24,14,FALSE)","v":0.1174},"cP",null,null,"Velocity acceptance",{"$f":"IF(E28<=2,0.9,IF(OR(E28>=3,E28<=6),1.2,IF(OR(E28>=8,E28<=18),1.5,1.8)))","v":0.9},"m/s","(max)",null,null,"f tebakan",2.1100011294989406E-2]
[null,null,null,null,{"$f":"E18*10^-3","v":1.1740000000000001E-4},"Nm2/s",null,null,"Reynold number",{"$f":"E16*J18*J16/E19","v":174568.81277683133},null,null,null,null,"f left",{"$f":"1/(P18)^0.5","v":6.8842820656112886}]
[null,null,"Vapor pressure",null,{"$f":"VLOOKUP(E11,'Data pompa'!$B$5:$R$24,15,FALSE)","v":1.2270000000000001},"bara",null,null,"Pipe DP",{"$f":"P24","v":4.9494438049045367E-3},"bar/100m",null,null,null,"f right",{"$f":"-2*LOG(P12/(3.7*J16*0.3048)+2.51/(J19*(P18)^0.5))","v":6.8969331851179447}]
[null,null,"Pump efficiency",null,0.45,null,null,null,"Pipe DP acceptance",{"$f":"IF(E28<=6,0.137,0.225)","v":0.13700000000000001},"bar/100m",null,null,null,"f left/f right",{"$f":"P19/P20","v":0.99816568913064807},"Goal seek"]
[null,null,null,null,null,null,null,null,"Static head",{"$f":"E16*9.8*E26/10^5","v":1.9099709999999999E-2},"bar",null,null,null,"psi/100 ft",{"$f":"0.000336*P18*P14^2/(J16*1000/25.4)^5/P15","v":2.1874561840156091E-2}]
[null,null,"SUCTION",null,null,null,null,null,"Pipe friction loss",{"$f":"J20*E27/100","v":1.2373609512261342E-3},"bar",null,null,null,"psi/ft",{"$f":"P22/100","v":2.1874561840156092E-4}]
[null,null,"Pressure at Vessel (min)",null,2,"barg",null,null,"Fitting friction loss",{"$f":"G46","v":6.0296969635398115E-2},"bar",null,null,null,"bar/100 m",{"$f":"P23*100/14.5/0.3048","v":4.9494438049045367E-3}]
[null,null,"Pressure at Vessel (max)",null,5,"barg",null,null,"Suction Pressure",{"$f":"E24+J22-SUM(J23:J24)","v":1.9575653794133756},"barg"]
[null,null,"Static head",null,{"$f":"VLOOKUP(E11,'Data pompa'!$B$5:$S$27,18,FALSE)/1000","v":0.45},"m",null,null,"Result",{"$f":"IF(AND(J17<J18,J20<J21),\"OK\",\"NOT OK\")","v":"OK"}]
[null,null,"Length",null,25,"m","assumption",null,null,null,null,null,null,null,"Side Calculation (Discharge)",null,null,null,null,"Suction",null,"Discharge"]
[null,null,"Pipe size",null,{"$f":"VLOOKUP(E11,'Data pompa'!$B$5:$R$24,16,FALSE)","v":2},"in",null,null,"Discharge Hydraulic",null,null,null,null,null,"f tebakan",1.9756362996455008E-2,null,null,null,null,null,null,"< 49 barg","> 49 barg"]
[null,null,"Schedule",null,40,null,null,null,"Pipe ID",{"$f":"VLOOKUP(E52,'Pipe size sch 40'!$A$5:$C$27,3,FALSE)*25.4/1000","v":5.2577999999999993E-2},"m",null,null,null,"f left",{"$f":"1/(P28)^0.5","v":7.114534692093951},null,null,null,"Velocity","Pressure","Velocity","Pressure","Pressure"]
[null,null,"Fittings",null,null,null,null,null,"Velocity",{"$f":"E15/(PI()/4*J16^2)/3600","v":0.23668526534856732},"m/s",null,null,null,"f right",{"$f":"-2*LOG(P12/(3.7*J29*0.3048)+2.51/(J32*(P28)^0.5))","v":7.113338894487697},null,null,0.5,0.9,0.13700000000000001,4.5,0.34300000000000003,0.68600000000000005]
[null,null,null,null,"Qty","K","DP",null,"Velocity acceptance",{"$f":"IF(E50<=18,4.5,6)","v":4.5},"m/s","(max)",null,null,"f left/f right",{"$f":"P29/P30","v":1.0001681063736723},"Goal seek",null,0.75,0.9,0.13700000000000001,4.5,0.34300000000000003,0.68600000000000005]
[null,null,"Elbow 90 LR",{"$f":"C32&$E$28","v":"Elbow 90 LR2"},4,{"$f":"VLOOKUP(D32,'K-value'!$D$48:$E$124,2,FALSE)","v":0.3},{"$f":"E32*F32*$J$17^2/(2*9.8)*$E$16*9.8/10^5","v":1.4557335068535009E-4},null,"Reynold number",{"$f":"E16*J31*J29/E19","v":872844.06388415652},null,null,null,null,"psi/100 ft",{"$f":"0.000336*P28*P14^2/(J29*1000/25.4)^5/P15","v":2.0481590178349877E-2},null,null,1,0.9,0.13700000000000001,4.5,0.34300000000000003,0.68600000000000005]
[null,null,"Elbow 45 LR","Elbow 45 LR2",null,{"$f":"VLOOKUP(D33,'K-value'!$D$48:$E$124,2,FALSE)","v":0.3},0,null,"Pipe DP",{"$f":"P34","v":4.6342633220992574E-3},"bar/100m",null,null,null,"psi/ft",{"$f":"P32/100","v":2.0481590178349877E-4},null,null,1.5,0.9,0.13700000000000001,4.5,0.34300000000000003,0.68600000000000005]
[null,null,"Tee thru","Tee thru2",null,{"$f":"VLOOKUP(D34,'K-value'!$D$48:$E$124,2,FALSE)","v":0.38},0,null,"Pipe DP acceptance",{"$f":"IF(E49<=49,0.343,0.686)","v":0.68600000000000005},"bar/100m",null,null,null,"bar/100 m",{"$f":"P33*100/14.5/0.3048","v":4.6342633220992574E-3},null,null,2,0.9,0.13700000000000001,4.5,0.34300000000000003,0.68600000000000005]
[null,null,"Tee branch","Tee branch2",null,{"$f":"VLOOKUP(D35,'K-value'!$D$48:$E$124,2,FALSE)","v":1.1399999999999999},0,null,"Static head",{"$f":"E15*9.8*E50/10^5","v":5.4390000000000005E-4},"bar","note 1",null,null,null,null,null,null,3,1.2,0.13700000000000001,4.5,0.34300000000000003,0.68600000000000005]
[null,null,"Ball valve","Ball valve2",1,{"$f":"VLOOKUP(D36,'K-value'!$D$48:$E$124,2,FALSE)","v":0.06},7.278667534267507E-6,null,"Line losses",{"$f":"J33*E51/100","v":1.3902789966297772E-3},"bar",null,null,null,null,null,null,null,4,1.2,0.13700000000000001,4.5,0.34300000000000003,0.68600000000000005]
[null,null,"Butterfly valve","Butterfly valve2",null,{"$f":"VLOOKUP(D37,'K-value'!$D$48:$E$124,2,FALSE)","v":0.86},0,null,"Fitting & eqp losses",{"$f":"G70+G72","v":1.0015110513801138},"bar",null,null,null,"NPSHA calculation",null,null,null,6,1.2,0.13700000000000001,4.5,0.34300000000000003,0.68600000000000005]
[null,null,"Gate valve","Gate valve2",null,{"$f":"VLOOKUP(D38,'K-value'!$D$48:$E$124,2,FALSE)","v":0.15},0,null,"Discharge Pressure",{"$f":"E49+J35+J36+J37","v":51.003445230376741},"barg",null,null,null,"HA",{"$f":"(E24+1.01)*100000/(E16*9.81)","v":70.845016288469608},"m",null,8,1.5,0.22500000000000001,4.5,0.34300000000000003,0.68600000000000005]
[null,null,"Globe valve","Globe valve2",null,{"$f":"VLOOKUP(D39,'K-value'!$D$48:$E$124,2,FALSE)","v":6.5},0,null,"Result",{"$f":"IF(AND(J30<J31,J33<J34),\"OK\",\"NOT OK\")","v":"OK"},null,null,null,null,"HZ",{"$f":"E26","v":0.45},"m",null,10,1.5,0.22500000000000001,4.5,0.34300000000000003,0.68600000000000005]
[null,null,"Check valve","Check valve2",null,{"$f":"VLOOKUP(D40,'K-value'!$D$48:$E$124,2,FALSE)","v":1.9},0,null,null,null,null,null,null,null,"HF",{"$f":"SUM(J23:J24)*-1","v":-6.1534330586624247E-2},null,null,12,1.5,0.22500000000000001,4.5,0.34300000000000003,0.68600000000000005]
[null,null,"Plug valve","Plug valve2",null,{"$f":"VLOOKUP(D41,'K-value'!$D$48:$E$124,2,FALSE)","v":1.71},0,null,"Pump Data",null,null,null,null,null,"HV",0,null,null,16,1.5,0.22500000000000001,4.5,0.34300000000000003,0.68600000000000005]
[null,null,"Pipe entrance","Pipe entrance2",1,{"$f":"VLOOKUP(D42,'K-value'!$D$48:$E$124,2,FALSE)","v":0.78},9.4622677945477591E-5,null,"Suction Pressure",{"$f":"J25","v":1.9575653794133756},"barg",null,null,null,"HVP",{"$f":"E20*10^5/(E16*9.8)*-1","v":-28.908815893016179},"m",null,18,1.5,0.22500000000000001,4.5,0.34300000000000003,0.68600000000000005]
[null,null,"Suction strainer","Suction strainer2",1,null,{"$f":"0.05*E43","v":0.05},null,"Discharge Pressure",{"$f":"J38","v":51.003445230376741},"barg",null,null,null,"NPSHA",{"$f":"SUM(P38:P42)","v":42.324666064866804},"m",null,20,1.8,0.22500000000000001,6,0.34300000000000003,0.68600000000000005]
[null,null,"Total, barg",null,null,null,{"$f":"SUM(G32:G43)","v":5.0247474696165098E-2},null,"Selected disc. Pressure",52,"barg"]
[null,null,"Contingency",null,null,null,0.2,null,"Differential Pressure",{"$f":"J44-J42","v":50.042434620586626},"bar"]
[null,null,"Total + Contingency",null,null,null,{"$f":"(1+G45)*G44","v":6.0296969635398115E-2},null,"Differential Head",{"$f":"J45*10^5/(E16*9.8)","v":1179.0281412264364},"m"]
[null,null,null,null,null,null,null,null,"Hydraulic Power",{"$f":"E16*9.8*J46*E15/3600000","v":2.5716251124468128},"kW"]
[null,null,"DISCHARGE",null,null,null,null,null,"Pump BHP",{"$f":"J47/E21","v":5.714722472104028},"kW"]
[null,null,"Target Pressure ",null,{"$f":"VLOOKUP(E11,'Data pompa'!$B$5:$R$24,3,FALSE)","v":50},"barg",null,null,"NPSHa",{"$f":"P43","v":42.324666064866804},"m"]
[null,null,"Static head",null,3,"m","note 2",null,"NPSHr",{"$f":"J49-1","v":41.324666064866804},"m"]
[null,null,"Length",null,30,"m"]
[null,null,"Pipe size",null,{"$f":"VLOOKUP(E11,'Data pompa'!$B$5:$R$24,17,FALSE)","v":2},"in",null,null,"Shut in Pressure"]
[null,null,"Schedule",null,40,null,null,null,"P shut in",{"$f":"E25+1.3*J45","v":70.055165006762621},"barg"]
[null,null,"Fittings"]
[null,null,null,null,"Qty","K","DP"]
[null,null,"Elbow 90 LR",{"$f":"C56&$E$52","v":"Elbow 90 LR2"},{"$f":"2+1+3+1","v":7},{"$f":"VLOOKUP(D56,'K-value'!$D$48:$E$124,2,FALSE)","v":0.3},{"$f":"E56*F56*$J$17^2/(2*9.8)*$E$16*9.8/10^5","v":2.5475336369936271E-4}]
[null,null,"Elbow 45 LR","Elbow 45 LR2",null,{"$f":"VLOOKUP(D57,'K-value'!$D$48:$E$124,2,FALSE)","v":0.3},0]
[null,null,"Tee thru","Tee thru2",null,{"$f":"VLOOKUP(D58,'K-value'!$D$48:$E$124,2,FALSE)","v":0.38},0]
[null,null,"Tee branch","Tee branch2",2,{"$f":"VLOOKUP(D59,'K-value'!$D$48:$E$124,2,FALSE)","v":1.1399999999999999},2.7658936630216524E-4]
[null,null,"Ball valve","Ball valve2",5,{"$f":"VLOOKUP(D60,'K-value'!$D$48:$E$124,2,FALSE)","v":0.06},3.6393337671337522E-5]
[null,null,"Butterfly valve","Butterfly valve2",null,{"$f":"VLOOKUP(D61,'K-value'!$D$48:$E$124,2,FALSE)","v":0.86},0]
[null,null,"Gate valve","Gate valve2",null,{"$f":"VLOOKUP(D62,'K-value'!$D$48:$E$124,2,FALSE)","v":0.15},0]
[null,null,"Globe valve","Globe valve2",null,{"$f":"VLOOKUP(D63,'K-value'!$D$48:$E$124,2,FALSE)","v":6.5},0,null,"Note:"]
[null,null,"Check valve","Check valve2",3,{"$f":"VLOOKUP(D64,'K-value'!$D$48:$E$124,2,FALSE)","v":1.9},6.9147341575541291E-4]
[null,null,"Plug valve","Plug valve2",null,{"$f":"VLOOKUP(D65,'K-value'!$D$48:$E$124,2,FALSE)","v":1.71},0,null,"1. Discharge liquid level is assumed 3 m above grade elevation"]
[null,null,"Pipe entrance","Pipe entrance2",null,{"$f":"VLOOKUP(D66,'K-value'!$D$48:$E$124,2,FALSE)","v":0.78},0]
[null,null,"Flow orifice","Flow orifice2",1,null,0.25]
[null,null,"Total, barg",null,null,null,{"$f":"SUM(G56:G67)","v":0.25125920948342828}]
[null,null,"Contingency",null,null,null,0.2]
[null,null,"Total + contingency, barg",null,null,null,{"$f":"G68*(1+G69)","v":0.30151105138011391}]
[null,null,"Pressure Loss due to Equipment"]
[null,null,"AAV",null,null,null,0.7]

{"sheet":"Rote","index":5,"n_rows":72,"n_cols":24,"rows_kept":72,"cut":false,"hidden":true,"merged":[[0,5,3,10],[26,21,26,23],[26,19,27,20],[26,18,27,18]]}
[null,null,null,null,null,"PUMP SIZING"]
[]
[]
[]
[null,null,"Project: LNG Regasification in Central Region of Indonesia"]
[]
[null,null,"Equipment Design Group",null,"1-2","MMSCFD"]
[null,null,"Equipment Design",null,0.96,"MMSCFD"]
[null,null,"Tag No:",null,"ROT-G-001A/B"]
[null,null,"Description:",null,"LNG Pump"]
[null,null,"Location:",null,"Rote",null,null,null,null,null,null,null,null,null,"Pipe roughness",0.05,"mm"]
[null,null,null,null,null,null,null,null,null,null,null,null,null,null,null,{"$f":"P11/1000/3.28","v":1.5243902439024392E-5},"ft"]
[]
[null,null,"DATA",null,null,null,null,null,"RESULTS",null,null,null,null,null,"Mass flow",{"$f":"E15*E16/0.45","v":7776.5511111111118},"lb/hr"]
[null,null,"Flow rate",null,8.08,"m3/h",null,null,"Suction Hydraulic",null,null,null,null,null,"Rho",{"$f":"E16/16.02","v":27.034956304619229},"lb/ft3"]
[null,null,"Density",null,{"$f":"VLOOKUP(E11,'Data pompa'!$B$5:$R$24,13,FALSE)","v":433.1},"kg/m3",null,null,"Pipe ID",{"$f":"VLOOKUP(E28,'Pipe size sch 40'!$A$5:$C$27,3,FALSE)*25.4/1000","v":7.7977999999999992E-2},"m"]
[null,null,"Flow temperature",null,{"$f":"VLOOKUP(E11,'Data pompa'!$B$5:$R$24,12,FALSE)","v":-158.83000000000001},"deg C",null,null,"Velocity",{"$f":"E15/(PI()/4*J16^2)/3600","v":0.4699750410093087},"m/s",null,null,null,"Side Calculation (Suction)"]
[null,null,"Viscocity",null,{"$f":"VLOOKUP(E11,'Data pompa'!$B$5:$R$24,14,FALSE)","v":0.1174},"cP",null,null,"Velocity acceptance",{"$f":"IF(E28<=2,0.9,IF(OR(E28>=3,E28<=6),1.2,IF(OR(E28>=8,E28<=18),1.5,1.8)))","v":1.2},"m/s","(max)",null,null,"f tebakan",1.8812453071116411E-2]
[null,null,null,null,{"$f":"E18*10^-3","v":1.1740000000000001E-4},"Nm2/s",null,null,"Reynold number",{"$f":"E16*J18*J16/E19","v":345202.09676320269},null,null,null,null,"f left",{"$f":"1/(P18)^0.5","v":7.290835259478448}]
[null,null,"Vapor pressure",null,{"$f":"VLOOKUP(E11,'Data pompa'!$B$5:$R$24,15,FALSE)","v":1.2270000000000001},"bara",null,null,"Pipe DP",{"$f":"P24","v":1.1731627209199298E-2},"bar/100m",null,null,null,"f right",{"$f":"-2*LOG(P12/(3.7*J16*0.3048)+2.51/(J19*(P18)^0.5))","v":7.2904165828383407}]
[null,null,"Pump efficiency",null,0.45,null,null,null,"Pipe DP acceptance",{"$f":"IF(E28<=6,0.137,0.225)","v":0.13700000000000001},"bar/100m",null,null,null,"f left/f right",{"$f":"P19/P20","v":1.0000574283561645},"Goal seek"]
[null,null,null,null,null,null,null,null,"Static head",{"$f":"E16*9.8*E26/10^5","v":1.6977520000000003E-2},"bar",null,null,null,"psi/100 ft",{"$f":"0.000336*P18*P14^2/(J16*1000/25.4)^5/P15","v":5.1849099613777219E-2}]
[null,null,"SUCTION",null,null,null,null,null,"Pipe friction loss",{"$f":"J20*E27/100","v":2.9329068022998245E-3},"bar",null,null,null,"psi/ft",{"$f":"P22/100","v":5.1849099613777224E-4}]
[null,null,"Pressure at Vessel (min)",null,2,"barg",null,null,"Fitting friction loss",{"$f":"G46","v":6.1142199851636256E-2},"bar",null,null,null,"bar/100 m",{"$f":"P23*100/14.5/0.3048","v":1.1731627209199298E-2}]
[null,null,"Pressure at Vessel (max)",null,5,"barg",null,null,"Suction Pressure",{"$f":"E24+J22-SUM(J23:J24)","v":1.9529024133460642},"barg"]
[null,null,"Static head",null,{"$f":"VLOOKUP(E11,'Data pompa'!$B$5:$S$27,18,FALSE)/1000","v":0.4},"m",null,null,"Result",{"$f":"IF(AND(J17<J18,J20<J21),\"OK\",\"NOT OK\")","v":"OK"}]
[null,null,"Length",null,25,"m","assumption",null,null,null,null,null,null,null,"Side Calculation (Discharge)",null,null,null,null,"Suction",null,"Discharge"]
[null,null,"Pipe size",null,3,"in",null,null,"Discharge Hydraulic",null,null,null,null,null,"f tebakan",1.7999608530021378E-2,null,null,null,null,null,null,"< 49 barg","> 49 barg"]
[null,null,"Schedule",null,40,null,null,null,"Pipe ID",{"$f":"VLOOKUP(E52,'Pipe size sch 40'!$A$5:$C$27,3,FALSE)*25.4/1000","v":7.7977999999999992E-2},"m",null,null,null,"f left",{"$f":"1/(P28)^0.5","v":7.4536409775698287},null,null,null,"Velocity","Pressure","Velocity","Pressure","Pressure"]
[null,null,"Fittings",null,null,null,null,null,"Velocity",{"$f":"E15/(PI()/4*J16^2)/3600","v":0.4699750410093087},"m/s",null,null,null,"f right",{"$f":"-2*LOG(P12/(3.7*J29*0.3048)+2.51/(J32*(P28)^0.5))","v":7.4526284991856917},null,null,0.5,0.9,0.13700000000000001,4.5,0.34300000000000003,0.68600000000000005]
[null,null,null,null,"Qty","K","DP",null,"Velocity acceptance",{"$f":"IF(E50<=18,4.5,6)","v":4.5},"m/s","(max)",null,null,"f left/f right",{"$f":"P29/P30","v":1.0001358552065553},"Goal seek",null,0.75,0.9,0.13700000000000001,4.5,0.34300000000000003,0.68600000000000005]
[null,null,"Elbow 90 LR",{"$f":"C32&$E$28","v":"Elbow 90 LR3"},4,{"$f":"VLOOKUP(D32,'K-value'!$D$48:$E$124,2,FALSE)","v":0.28999999999999998},{"$f":"E32*F32*$J$17^2/(2*9.8)*$E$16*9.8/10^5","v":5.5483744886853043E-4},null,"Reynold number",{"$f":"E16*J31*J29/E19","v":1294507.86286201},null,null,null,null,"psi/100 ft",{"$f":"0.000336*P28*P14^2/(J29*1000/25.4)^5/P15","v":4.960881455247073E-2},null,null,1,0.9,0.13700000000000001,4.5,0.34300000000000003,0.68600000000000005]
[null,null,"Elbow 45 LR","Elbow 45 LR3",null,{"$f":"VLOOKUP(D33,'K-value'!$D$48:$E$124,2,FALSE)","v":0.28999999999999998},0,null,"Pipe DP",{"$f":"P34","v":1.1224729512279557E-2},"bar/100m",null,null,null,"psi/ft",{"$f":"P32/100","v":4.960881455247073E-4},null,null,1.5,0.9,0.13700000000000001,4.5,0.34300000000000003,0.68600000000000005]
[null,null,"Tee thru","Tee thru3",null,{"$f":"VLOOKUP(D34,'K-value'!$D$48:$E$124,2,FALSE)","v":0.36},0,null,"Pipe DP acceptance",{"$f":"IF(E49<=49,0.343,0.686)","v":0.34300000000000003},"bar/100m",null,null,null,"bar/100 m",{"$f":"P33*100/14.5/0.3048","v":1.1224729512279557E-2},null,null,2,0.9,0.13700000000000001,4.5,0.34300000000000003,0.68600000000000005]
[null,null,"Tee branch","Tee branch3",null,{"$f":"VLOOKUP(D35,'K-value'!$D$48:$E$124,2,FALSE)","v":1.08},0,null,"Static head",{"$f":"E15*9.8*E50/10^5","v":2.3755200000000003E-3},"bar","note 1",null,null,null,null,null,null,3,1.2,0.13700000000000001,4.5,0.34300000000000003,0.68600000000000005]
[null,null,"Ball valve","Ball valve3",1,{"$f":"VLOOKUP(D36,'K-value'!$D$48:$E$124,2,FALSE)","v":0.05},2.3915407278815972E-5,null,"Line losses",{"$f":"J33*E51/100","v":3.3674188536838667E-3},"bar",null,null,null,null,null,null,null,4,1.2,0.13700000000000001,4.5,0.34300000000000003,0.68600000000000005]
[null,null,"Butterfly valve","Butterfly valve3",null,{"$f":"VLOOKUP(D37,'K-value'!$D$48:$E$124,2,FALSE)","v":0.81},0,null,"Fitting & eqp losses",{"$f":"G70+G72","v":1.0061472162869469},"bar",null,null,null,"NPSHA calculation",null,null,null,6,1.2,0.13700000000000001,4.5,0.34300000000000003,0.68600000000000005]
[null,null,"Gate valve","Gate valve3",null,{"$f":"VLOOKUP(D38,'K-value'!$D$48:$E$124,2,FALSE)","v":0.14000000000000001},0,null,"Discharge Pressure",{"$f":"E49+J35+J36+J37","v":11.01189015514063},"barg",null,null,null,"HA",{"$f":"(E24+1.01)*100000/(E16*9.81)","v":70.845016288469608},"m",null,8,1.5,0.22500000000000001,4.5,0.34300000000000003,0.68600000000000005]
[null,null,"Globe valve","Globe valve3",null,{"$f":"VLOOKUP(D39,'K-value'!$D$48:$E$124,2,FALSE)","v":6.1},0,null,"Result",{"$f":"IF(AND(J30<J31,J33<J34),\"OK\",\"NOT OK\")","v":"OK"},null,null,null,null,"HZ",{"$f":"E26","v":0.4},"m",null,10,1.5,0.22500000000000001,4.5,0.34300000000000003,0.68600000000000005]
[null,null,"Check valve","Check valve3",null,{"$f":"VLOOKUP(D40,'K-value'!$D$48:$E$124,2,FALSE)","v":1.8},0,null,null,null,null,null,null,null,"HF",{"$f":"SUM(J23:J24)*-1","v":-6.4075106653936079E-2},null,null,12,1.5,0.22500000000000001,4.5,0.34300000000000003,0.68600000000000005]
[null,null,"Plug valve","Plug valve3",null,{"$f":"VLOOKUP(D41,'K-value'!$D$48:$E$124,2,FALSE)","v":1.62},0,null,"Pump Data",null,null,null,null,null,"HV",0,null,null,16,1.5,0.22500000000000001,4.5,0.34300000000000003,0.68600000000000005]
[null,null,"Pipe entrance","Pipe entrance3",1,{"$f":"VLOOKUP(D42,'K-value'!$D$48:$E$124,2,FALSE)","v":0.78},3.7308035354952909E-4,null,"Suction Pressure",{"$f":"J25","v":1.9529024133460642},"barg",null,null,null,"HVP",{"$f":"E20*10^5/(E16*9.8)*-1","v":-28.908815893016179},"m",null,18,1.5,0.22500000000000001,4.5,0.34300000000000003,0.68600000000000005]
[null,null,"Suction strainer","Suction strainer3",1,null,{"$f":"0.05*E43","v":0.05},null,"Discharge Pressure",{"$f":"J38","v":11.01189015514063},"barg",null,null,null,"NPSHA",{"$f":"SUM(P38:P42)","v":42.272125288799501},"m",null,20,1.8,0.22500000000000001,6,0.34300000000000003,0.68600000000000005]
[null,null,"Total, barg",null,null,null,{"$f":"SUM(G32:G43)","v":5.095183320969688E-2},null,"Selected disc. Pressure",10,"barg"]
[null,null,"Contingency",null,null,null,0.2,null,"Differential Pressure",{"$f":"J44-J42","v":8.0470975866539352},"bar"]
[null,null,"Total + Contingency",null,null,null,{"$f":"(1+G45)*G44","v":6.1142199851636256E-2},null,"Differential Head",{"$f":"J45*10^5/(E16*9.8)","v":189.59418305274116},"m"]
[null,null,null,null,null,null,null,null,"Hydraulic Power",{"$f":"E16*9.8*J46*E15/3600000","v":1.8061263472267721},"kW"]
[null,null,"DISCHARGE",null,null,null,null,null,"Pump BHP",{"$f":"J47/E21","v":4.013614104948382},"kW"]
[null,null,"Target Pressure ",null,10,"barg",null,null,"NPSHa",{"$f":"P43","v":42.272125288799501},"m"]
[null,null,"Static head",null,3,"m","note 2",null,"NPSHr",{"$f":"J49-1","v":41.272125288799501},"m"]
[null,null,"Length",null,30,"m"]
[null,null,"Pipe size",null,{"$f":"VLOOKUP(E11,'Data pompa'!$B$5:$R$24,17,FALSE)","v":3},"in",null,null,"Shut in Pressure"]
[null,null,"Schedule",null,40,null,null,null,"P shut in",{"$f":"E25+1.3*J45","v":15.461226862650117},"barg"]
[null,null,"Fittings"]
[null,null,null,null,"Qty","K","DP"]
[null,null,"Elbow 90 LR",{"$f":"C56&$E$52","v":"Elbow 90 LR3"},10,{"$f":"VLOOKUP(D56,'K-value'!$D$48:$E$124,2,FALSE)","v":0.28999999999999998},{"$f":"E56*F56*$J$17^2/(2*9.8)*$E$16*9.8/10^5","v":1.3870936221713262E-3}]
[null,null,"Elbow 45 LR","Elbow 45 LR3",null,{"$f":"VLOOKUP(D57,'K-value'!$D$48:$E$124,2,FALSE)","v":0.28999999999999998},0]
[null,null,"Tee thru","Tee thru3",null,{"$f":"VLOOKUP(D58,'K-value'!$D$48:$E$124,2,FALSE)","v":0.36},0]
[null,null,"Tee branch","Tee branch3",2,{"$f":"VLOOKUP(D59,'K-value'!$D$48:$E$124,2,FALSE)","v":1.08},1.0331455944448498E-3]
[null,null,"Ball valve","Ball valve3",5,{"$f":"VLOOKUP(D60,'K-value'!$D$48:$E$124,2,FALSE)","v":0.05},1.1957703639407983E-4]
[null,null,"Butterfly valve","Butterfly valve3",null,{"$f":"VLOOKUP(D61,'K-value'!$D$48:$E$124,2,FALSE)","v":0.81},0]
[null,null,"Gate valve","Gate valve3",null,{"$f":"VLOOKUP(D62,'K-value'!$D$48:$E$124,2,FALSE)","v":0.14000000000000001},0]
[null,null,"Globe valve","Globe valve3",null,{"$f":"VLOOKUP(D63,'K-value'!$D$48:$E$124,2,FALSE)","v":6.1},0,null,"Note:"]
[null,null,"Check valve","Check valve3",3,{"$f":"VLOOKUP(D64,'K-value'!$D$48:$E$124,2,FALSE)","v":1.8},2.582863986112125E-3]
[null,null,"Plug valve","Plug valve3",null,{"$f":"VLOOKUP(D65,'K-value'!$D$48:$E$124,2,FALSE)","v":1.62},0,null,"1. Discharge liquid level is assumed 3 m above grade elevation"]
[null,null,"Pipe entrance","Pipe entrance3",null,{"$f":"VLOOKUP(D66,'K-value'!$D$48:$E$124,2,FALSE)","v":0.78},0]
[null,null,"Flow orifice","Flow orifice3",1,null,0.25]
[null,null,"Total, barg",null,null,null,{"$f":"SUM(G56:G67)","v":0.25512268023912238}]
[null,null,"Contingency",null,null,null,0.2]
[null,null,"Total + contingency, barg",null,null,null,{"$f":"G68*(1+G69)","v":0.30614721628694685}]
[null,null,"Pressure Loss due to Equipment"]
[null,null,"AAV",null,null,null,0.7]

{"sheet":"Malinau","index":6,"n_rows":72,"n_cols":24,"rows_kept":72,"cut":false,"hidden":true,"merged":[[0,5,3,10],[26,21,26,23],[26,19,27,20],[26,18,27,18]]}
[null,null,null,null,null,"PUMP SIZING"]
[]
[]
[]
[null,null,"Project: LNG Regasification in Central Region of Indonesia"]
[]
[null,null,"Equipment Design Group",null,"1-2","MMSCFD"]
[null,null,"Equipment Design",null,1.1519999999999999,"MMSCFD"]
[null,null,"Tag No:",null,"MLN-G-001A/B"]
[null,null,"Description:",null,"LNG Pump"]
[null,null,"Location:",null,"Malinau",null,null,null,null,null,null,null,null,null,"Pipe roughness",0.05,"mm"]
[null,null,null,null,null,null,null,null,null,null,null,null,null,null,null,{"$f":"P11/1000/3.28","v":1.5243902439024392E-5},"ft"]
[]
[null,null,"DATA",null,null,null,null,null,"RESULTS",null,null,null,null,null,"Mass flow",{"$f":"E15*E16/0.45","v":2137.12},"lb/hr"]
[null,null,"Flow rate",null,{"$f":"VLOOKUP(E11,'Data pompa'!$B$5:$R$24,8,FALSE)","v":2.2200000000000002},"m3/h",null,null,"Suction Hydraulic",null,null,null,null,null,"Rho",{"$f":"E16/16.02","v":27.04119850187266},"lb/ft3"]
[null,null,"Density",null,{"$f":"VLOOKUP(E11,'Data pompa'!$B$5:$R$24,13,FALSE)","v":433.2},"kg/m3",null,null,"Pipe ID",{"$f":"VLOOKUP(E28,'Pipe size sch 40'!$A$5:$C$27,3,FALSE)*25.4/1000","v":5.2577999999999993E-2},"m"]
[null,null,"Flow temperature",null,{"$f":"VLOOKUP(E11,'Data pompa'!$B$5:$R$24,12,FALSE)","v":-158.85},"deg C",null,null,"Velocity",{"$f":"E15/(PI()/4*J16^2)/3600","v":0.28402231841828079},"m/s",null,null,null,"Side Calculation (Suction)"]
[null,null,"Viscocity",null,{"$f":"VLOOKUP(E11,'Data pompa'!$B$5:$R$24,14,FALSE)","v":0.1174},"cP",null,null,"Velocity acceptance",{"$f":"IF(E28<=2,0.9,IF(OR(E28>=3,E28<=6),1.2,IF(OR(E28>=8,E28<=18),1.5,1.8)))","v":0.9},"m/s","(max)",null,null,"f tebakan",2.1011335797342132E-2]
[null,null,null,null,{"$f":"E18*10^-3","v":1.1740000000000001E-4},"Nm2/s",null,null,"Reynold number",{"$f":"E16*J18*J16/E19","v":174609.11959114138},null,null,null,null,"f left",{"$f":"1/(P18)^0.5","v":6.8987938606040284}]
[null,null,"Vapor pressure",null,{"$f":"VLOOKUP(E11,'Data pompa'!$B$5:$R$24,15,FALSE)","v":1.2251000000000001},"bara",null,null,"Pipe DP",{"$f":"P24","v":7.09888482126867E-3},"bar/100m",null,null,null,"f right",{"$f":"-2*LOG(P12/(3.7*J16*0.3048)+2.51/(J19*(P18)^0.5))","v":6.8964801698200384}]
[null,null,"Pump efficiency",null,0.45,null,null,null,"Pipe DP acceptance",{"$f":"IF(E28<=6,0.137,0.225)","v":0.13700000000000001},"bar/100m",null,null,null,"f left/f right",{"$f":"P19/P20","v":1.0003354886444995},"Goal seek"]
[null,null,null,null,null,null,null,null,"Static head",{"$f":"E16*9.8*E26/10^5","v":1.6981440000000004E-2},"bar",null,null,null,"psi/100 ft",{"$f":"0.000336*P18*P14^2/(J16*1000/25.4)^5/P15","v":3.1374231356079016E-2}]
[null,null,"SUCTION",null,null,null,null,null,"Pipe friction loss",{"$f":"J20*E27/100","v":1.7747212053171673E-3},"bar",null,null,null,"psi/ft",{"$f":"P22/100","v":3.1374231356079017E-4}]
[null,null,"Pressure at Vessel (min)",null,2,"barg",null,null,"Fitting friction loss",{"$f":"G46","v":6.0427735013434375E-2},"bar",null,null,null,"bar/100 m",{"$f":"P23*100/14.5/0.3048","v":7.09888482126867E-3}]
[null,null,"Pressure at Vessel (max)",null,5,"barg",null,null,"Suction Pressure",{"$f":"E24+J22-SUM(J23:J24)","v":1.9547789837812484},"barg"]
[null,null,"Static head",null,{"$f":"VLOOKUP(E11,'Data pompa'!$B$5:$S$27,18,FALSE)/1000","v":0.4},"m",null,null,"Result",{"$f":"IF(AND(J17<J18,J20<J21),\"OK\",\"NOT OK\")","v":"OK"}]
[null,null,"Length",null,25,"m","assumption",null,null,null,null,null,null,null,"Side Calculation (Discharge)",null,null,null,null,"Suction",null,"Discharge"]
[null,null,"Pipe size",null,2,"in",null,null,"Discharge Hydraulic",null,null,null,null,null,"f tebakan",1.9756278947773008E-2,null,null,null,null,null,null,"< 49 barg","> 49 barg"]
[null,null,"Schedule",null,40,null,null,null,"Pipe ID",{"$f":"VLOOKUP(E52,'Pipe size sch 40'!$A$5:$C$27,3,FALSE)*25.4/1000","v":5.2577999999999993E-2},"m",null,null,null,"f left",{"$f":"1/(P28)^0.5","v":7.1145498256783037},null,null,null,"Velocity","Pressure","Velocity","Pressure","Pressure"]
[null,null,"Fittings",null,null,null,null,null,"Velocity",{"$f":"E15/(PI()/4*J16^2)/3600","v":0.28402231841828079},"m/s",null,null,null,"f right",{"$f":"-2*LOG(P12/(3.7*J29*0.3048)+2.51/(J32*(P28)^0.5))","v":7.1133535385979751},null,null,0.5,0.9,0.13700000000000001,4.5,0.34300000000000003,0.68600000000000005]
[null,null,null,null,"Qty","K","DP",null,"Velocity acceptance",{"$f":"IF(E50<=18,4.5,6)","v":4.5},"m/s","(max)",null,null,"f left/f right",{"$f":"P29/P30","v":1.0001681748381881},"Goal seek",null,0.75,0.9,0.13700000000000001,4.5,0.34300000000000003,0.68600000000000005]
[null,null,"Elbow 90 LR",{"$f":"C32&$E$28","v":"Elbow 90 LR2"},4,{"$f":"VLOOKUP(D32,'K-value'!$D$48:$E$124,2,FALSE)","v":0.3},{"$f":"E32*F32*$J$17^2/(2*9.8)*$E$16*9.8/10^5","v":2.0967402619331995E-4},null,"Reynold number",{"$f":"E16*J31*J29/E19","v":873045.59795570676},null,null,null,null,"psi/100 ft",{"$f":"0.000336*P28*P14^2/(J29*1000/25.4)^5/P15","v":2.9500174211725801E-2},null,null,1,0.9,0.13700000000000001,4.5,0.34300000000000003,0.68600000000000005]
[null,null,"Elbow 45 LR","Elbow 45 LR2",null,{"$f":"VLOOKUP(D33,'K-value'!$D$48:$E$124,2,FALSE)","v":0.3},0,null,"Pipe DP",{"$f":"P34","v":6.6748516181839536E-3},"bar/100m",null,null,null,"psi/ft",{"$f":"P32/100","v":2.9500174211725803E-4},null,null,1.5,0.9,0.13700000000000001,4.5,0.34300000000000003,0.68600000000000005]
[null,null,"Tee thru","Tee thru2",null,{"$f":"VLOOKUP(D34,'K-value'!$D$48:$E$124,2,FALSE)","v":0.38},0,null,"Pipe DP acceptance",{"$f":"IF(E49<=49,0.343,0.686)","v":0.34300000000000003},"bar/100m",null,null,null,"bar/100 m",{"$f":"P33*100/14.5/0.3048","v":6.6748516181839536E-3},null,null,2,0.9,0.13700000000000001,4.5,0.34300000000000003,0.68600000000000005]
[null,null,"Tee branch","Tee branch2",null,{"$f":"VLOOKUP(D35,'K-value'!$D$48:$E$124,2,FALSE)","v":1.1399999999999999},0,null,"Static head",{"$f":"E15*9.8*E50/10^5","v":6.526800000000001E-4},"bar","note 1",null,null,null,null,null,null,3,1.2,0.13700000000000001,4.5,0.34300000000000003,0.68600000000000005]
[null,null,"Ball valve","Ball valve2",1,{"$f":"VLOOKUP(D36,'K-value'!$D$48:$E$124,2,FALSE)","v":0.06},1.0483701309665998E-5,null,"Line losses",{"$f":"J33*E51/100","v":2.0024554854551858E-3},"bar",null,null,null,null,null,null,null,4,1.2,0.13700000000000001,4.5,0.34300000000000003,0.68600000000000005]
[null,null,"Butterfly valve","Butterfly valve2",null,{"$f":"VLOOKUP(D37,'K-value'!$D$48:$E$124,2,FALSE)","v":0.86},0,null,"Fitting & eqp losses",{"$f":"G70+G72","v":1.0023651230154607},"bar",null,null,null,"NPSHA calculation",null,null,null,6,1.2,0.13700000000000001,4.5,0.34300000000000003,0.68600000000000005]
[null,null,"Gate valve","Gate valve2",null,{"$f":"VLOOKUP(D38,'K-value'!$D$48:$E$124,2,FALSE)","v":0.15},0,null,"Discharge Pressure",{"$f":"E49+J35+J36+J37","v":9.0050202585009149},"barg",null,null,null,"HA",{"$f":"(E24+1.01)*100000/(E16*9.81)","v":70.828662406593224},"m",null,8,1.5,0.22500000000000001,4.5,0.34300000000000003,0.68600000000000005]
[null,null,"Globe valve","Globe valve2",null,{"$f":"VLOOKUP(D39,'K-value'!$D$48:$E$124,2,FALSE)","v":6.5},0,null,"Result",{"$f":"IF(AND(J30<J31,J33<J34),\"OK\",\"NOT OK\")","v":"OK"},null,null,null,null,"HZ",{"$f":"E26","v":0.4},"m",null,10,1.5,0.22500000000000001,4.5,0.34300000000000003,0.68600000000000005]
[null,null,"Check valve","Check valve2",null,{"$f":"VLOOKUP(D40,'K-value'!$D$48:$E$124,2,FALSE)","v":1.9},0,null,null,null,null,null,null,null,"HF",{"$f":"SUM(J23:J24)*-1","v":-6.2202456218751541E-2},null,null,12,1.5,0.22500000000000001,4.5,0.34300000000000003,0.68600000000000005]
[null,null,"Plug valve","Plug valve2",null,{"$f":"VLOOKUP(D41,'K-value'!$D$48:$E$124,2,FALSE)","v":1.71},0,null,"Pump Data",null,null,null,null,null,"HV",0,null,null,16,1.5,0.22500000000000001,4.5,0.34300000000000003,0.68600000000000005]
[null,null,"Pipe entrance","Pipe entrance2",1,{"$f":"VLOOKUP(D42,'K-value'!$D$48:$E$124,2,FALSE)","v":0.78},1.3628811702565797E-4,null,"Suction Pressure",{"$f":"J25","v":1.9547789837812484},"barg",null,null,null,"HVP",{"$f":"E20*10^5/(E16*9.8)*-1","v":-28.857387830478451},"m",null,18,1.5,0.22500000000000001,4.5,0.34300000000000003,0.68600000000000005]
[null,null,"Suction strainer","Suction strainer2",1,null,{"$f":"0.05*E43","v":0.05},null,"Discharge Pressure",{"$f":"J38","v":9.0050202585009149},"barg",null,null,null,"NPSHA",{"$f":"SUM(P38:P42)","v":42.309072119896022},"m",null,20,1.8,0.22500000000000001,6,0.34300000000000003,0.68600000000000005]
[null,null,"Total, barg",null,null,null,{"$f":"SUM(G32:G43)","v":5.0356445844528648E-2},null,"Selected disc. Pressure",10,"barg"]
[null,null,"Contingency",null,null,null,0.2,null,"Differential Pressure",{"$f":"J44-J42","v":8.0452210162187523},"bar"]
[null,null,"Total + Contingency",null,null,null,{"$f":"(1+G45)*G44","v":6.0427735013434375E-2},null,"Differential Head",{"$f":"J45*10^5/(E16*9.8)","v":189.50621422491264},"m"]
[null,null,null,null,null,null,null,null,"Hydraulic Power",{"$f":"E16*9.8*J46*E15/3600000","v":0.49612196266682307},"kW"]
[null,null,"DISCHARGE",null,null,null,null,null,"Pump BHP",{"$f":"J47/E21","v":1.1024932503707179},"kW"]
[null,null,"Target Pressure ",null,{"$f":"VLOOKUP(E11,'Data pompa'!$B$5:$R$24,3,FALSE)","v":8},"barg",null,null,"NPSHa",{"$f":"P43","v":42.309072119896022},"m"]
[null,null,"Static head",null,3,"m","note 2",null,"NPSHr",{"$f":"J49-1","v":41.309072119896022},"m"]
[null,null,"Length",null,30,"m"]
[null,null,"Pipe size",null,{"$f":"VLOOKUP(E11,'Data pompa'!$B$5:$R$24,17,FALSE)","v":2},"in",null,null,"Shut in Pressure"]
[null,null,"Schedule",null,40,null,null,null,"P shut in",{"$f":"E25+1.3*J45","v":15.458787321084378},"barg"]
[null,null,"Fittings"]
[null,null,null,null,"Qty","K","DP"]
[null,null,"Elbow 90 LR",{"$f":"C56&$E$52","v":"Elbow 90 LR2"},10,{"$f":"VLOOKUP(D56,'K-value'!$D$48:$E$124,2,FALSE)","v":0.3},{"$f":"E56*F56*$J$17^2/(2*9.8)*$E$16*9.8/10^5","v":5.2418506548329992E-4}]
[null,null,"Elbow 45 LR","Elbow 45 LR2",null,{"$f":"VLOOKUP(D57,'K-value'!$D$48:$E$124,2,FALSE)","v":0.3},0]
[null,null,"Tee thru","Tee thru2",null,{"$f":"VLOOKUP(D58,'K-value'!$D$48:$E$124,2,FALSE)","v":0.38},0]
[null,null,"Tee branch","Tee branch2",2,{"$f":"VLOOKUP(D59,'K-value'!$D$48:$E$124,2,FALSE)","v":1.1399999999999999},3.9838064976730793E-4]
[null,null,"Ball valve","Ball valve2",5,{"$f":"VLOOKUP(D60,'K-value'!$D$48:$E$124,2,FALSE)","v":0.06},5.2418506548329986E-5]
[null,null,"Butterfly valve","Butterfly valve2",null,{"$f":"VLOOKUP(D61,'K-value'!$D$48:$E$124,2,FALSE)","v":0.86},0]
[null,null,"Gate valve","Gate valve2",null,{"$f":"VLOOKUP(D62,'K-value'!$D$48:$E$124,2,FALSE)","v":0.15},0]
[null,null,"Globe valve","Globe valve2",null,{"$f":"VLOOKUP(D63,'K-value'!$D$48:$E$124,2,FALSE)","v":6.5},0,null,"Note:"]
[null,null,"Check valve","Check valve2",3,{"$f":"VLOOKUP(D64,'K-value'!$D$48:$E$124,2,FALSE)","v":1.9},9.9595162441826982E-4]
[null,null,"Plug valve","Plug valve2",null,{"$f":"VLOOKUP(D65,'K-value'!$D$48:$E$124,2,FALSE)","v":1.71},0,null,"1. Discharge liquid level is assumed 3 m above grade elevation"]
[null,null,"Pipe entrance","Pipe entrance2",null,{"$f":"VLOOKUP(D66,'K-value'!$D$48:$E$124,2,FALSE)","v":0.78},0]
[null,null,"Flow orifice","Flow orifice2",1,null,0.25]
[null,null,"Total, barg",null,null,null,{"$f":"SUM(G56:G67)","v":0.25197093584621721}]
[null,null,"Contingency",null,null,null,0.2]
[null,null,"Total + contingency, barg",null,null,null,{"$f":"G68*(1+G69)","v":0.30236512301546065}]
[null,null,"Pressure Loss due to Equipment"]
[null,null,"AAV",null,null,null,0.7]

{"sheet":"Bombana","index":7,"n_rows":72,"n_cols":24,"rows_kept":72,"cut":false,"hidden":true,"merged":[[0,5,3,10],[26,21,26,23],[26,19,27,20],[26,18,27,18]]}
[null,null,null,null,null,"PUMP SIZING"]
[]
[]
[]
[null,null,"Project: LNG Regasification in Central Region of Indonesia"]
[]
[null,null,"Equipment Design Group",null,"1-2","MMSCFD"]
[null,null,"Equipment Design",null,1.92,"MMSCFD"]
[null,null,"Tag No:",null,"MPB-G-001A/B"]
[null,null,"Description:",null,"LNG Pump"]
[null,null,"Location:",null,"Mobile PP Bombana",null,null,null,null,null,null,null,null,null,"Pipe roughness",0.05,"mm"]
[null,null,null,null,null,null,null,null,null,null,null,null,null,null,null,{"$f":"P11/1000/3.28","v":1.5243902439024392E-5},"ft"]
[]
[null,null,"DATA",null,null,null,null,null,"RESULTS",null,null,null,null,null,"Mass flow",{"$f":"E15*E16/0.45","v":6218.8266666666659},"lb/hr"]
[null,null,"Flow rate",null,6.46,"m3/h",null,null,"Suction Hydraulic",null,null,null,null,null,"Rho",{"$f":"E16/16.02","v":27.04119850187266},"lb/ft3"]
[null,null,"Density",null,{"$f":"VLOOKUP(E11,'Data pompa'!$B$5:$R$24,13,FALSE)","v":433.2},"kg/m3",null,null,"Pipe ID",{"$f":"VLOOKUP(E28,'Pipe size sch 40'!$A$5:$C$27,3,FALSE)*25.4/1000","v":7.7977999999999992E-2},"m"]
[null,null,"Flow temperature",null,{"$f":"VLOOKUP(E11,'Data pompa'!$B$5:$R$24,12,FALSE)","v":-158.88},"deg C",null,null,"Velocity",{"$f":"E15/(PI()/4*J16^2)/3600","v":0.37574737189605623},"m/s",null,null,null,"Side Calculation (Suction)"]
[null,null,"Viscocity",null,{"$f":"VLOOKUP(E11,'Data pompa'!$B$5:$R$24,14,FALSE)","v":0.11749999999999999},"cP",null,null,"Velocity acceptance",{"$f":"IF(E28<=2,0.9,IF(OR(E28>=3,E28<=6),1.2,IF(OR(E28>=8,E28<=18),1.5,1.8)))","v":1.2},"m/s","(max)",null,null,"f tebakan",1.8779010052540571E-2]
[null,null,null,null,{"$f":"E18*10^-3","v":1.175E-4},"Nm2/s",null,null,"Reynold number",{"$f":"E16*J18*J16/E19","v":344987.94485106377},null,null,null,null,"f left",{"$f":"1/(P18)^0.5","v":7.2973243949137707}]
[null,null,"Vapor pressure",null,{"$f":"VLOOKUP(E11,'Data pompa'!$B$5:$R$24,15,FALSE)","v":1.2222},"bara",null,null,"Pipe DP",{"$f":"P24","v":7.4873493577328736E-3},"bar/100m",null,null,null,"f right",{"$f":"-2*LOG(P12/(3.7*J16*0.3048)+2.51/(J19*(P18)^0.5))","v":7.2901091949308805}]
[null,null,"Pump efficiency",null,0.45,null,null,null,"Pipe DP acceptance",{"$f":"IF(E28<=6,0.137,0.225)","v":0.13700000000000001},"bar/100m",null,null,null,"f left/f right",{"$f":"P19/P20","v":1.0009897245418364},"Goal seek"]
[null,null,null,null,null,null,null,null,"Static head",{"$f":"E16*9.8*E26/10^5","v":1.6981440000000004E-2},"bar",null,null,null,"psi/100 ft",{"$f":"0.000336*P18*P14^2/(J16*1000/25.4)^5/P15","v":3.3091089221436214E-2}]
[null,null,"SUCTION",null,null,null,null,null,"Pipe friction loss",{"$f":"J20*E27/100","v":4.4924096146397238E-3},"bar",null,null,null,"psi/ft",{"$f":"P22/100","v":3.3091089221436214E-4}]
[null,null,"Pressure at Vessel (min)",null,2,"barg",null,null,"Fitting friction loss",{"$f":"G46","v":6.0961463701920661E-2},"bar",null,null,null,"bar/100 m",{"$f":"P23*100/14.5/0.3048","v":7.4873493577328736E-3}]
[null,null,"Pressure at Vessel (max)",null,5,"barg",null,null,"Suction Pressure",{"$f":"E24+J22-SUM(J23:J24)","v":1.9515275666834395},"barg"]
[null,null,"Static head",null,{"$f":"VLOOKUP(E11,'Data pompa'!$B$5:$S$27,18,FALSE)/1000","v":0.4},"m",null,null,"Result",{"$f":"IF(AND(J17<J18,J20<J21),\"OK\",\"NOT OK\")","v":"OK"}]
[null,null,"Length",null,60,"m","assumption",null,null,null,null,null,null,null,"Side Calculation (Discharge)",null,null,null,null,"Suction",null,"Discharge"]
[null,null,"Pipe size",null,{"$f":"VLOOKUP(E11,'Data pompa'!$B$5:$R$24,16,FALSE)","v":3},"in",null,null,"Discharge Hydraulic",null,null,null,null,null,"f tebakan",1.9756589002857098E-2,null,null,null,null,null,null,"< 49 barg","> 49 barg"]
[null,null,"Schedule",null,40,null,null,null,"Pipe ID",{"$f":"VLOOKUP(E52,'Pipe size sch 40'!$A$5:$C$27,3,FALSE)*25.4/1000","v":5.2577999999999993E-2},"m",null,null,null,"f left",{"$f":"1/(P28)^0.5","v":7.1144939984553224},null,null,null,"Velocity","Pressure","Velocity","Pressure","Pressure"]
[null,null,"Fittings",null,null,null,null,null,"Velocity",{"$f":"E15/(PI()/4*J16^2)/3600","v":0.37574737189605623},"m/s",null,null,null,"f right",{"$f":"-2*LOG(P12/(3.7*J29*0.3048)+2.51/(J32*(P28)^0.5))","v":7.1132995165712689},null,null,0.5,0.9,0.13700000000000001,4.5,0.34300000000000003,0.68600000000000005]
[null,null,null,null,"Qty","K","DP",null,"Velocity acceptance",{"$f":"IF(E50<=18,4.5,6)","v":4.5},"m/s","(max)",null,null,"f left/f right",{"$f":"P29/P30","v":1.0001679223377662},"Goal seek",null,0.75,0.9,0.13700000000000001,4.5,0.34300000000000003,0.68600000000000005]
[null,null,"Elbow 90 LR",{"$f":"C32&$E$28","v":"Elbow 90 LR3"},6,{"$f":"VLOOKUP(D32,'K-value'!$D$48:$E$124,2,FALSE)","v":0.28999999999999998},{"$f":"E32*F32*$J$17^2/(2*9.8)*$E$16*9.8/10^5","v":5.3210777396372544E-4},null,"Reynold number",{"$f":"E16*J31*J29/E19","v":872302.58042553172},null,null,null,null,"psi/100 ft",{"$f":"0.000336*P28*P14^2/(J29*1000/25.4)^5/P15","v":0.24979887810543691},null,null,1,0.9,0.13700000000000001,4.5,0.34300000000000003,0.68600000000000005]
[null,null,"Elbow 45 LR","Elbow 45 LR3",null,{"$f":"VLOOKUP(D33,'K-value'!$D$48:$E$124,2,FALSE)","v":0.28999999999999998},0,null,"Pipe DP",{"$f":"P34","v":5.6520698277092246E-2},"bar/100m",null,null,null,"psi/ft",{"$f":"P32/100","v":2.4979887810543692E-3},null,null,1.5,0.9,0.13700000000000001,4.5,0.34300000000000003,0.68600000000000005]
[null,null,"Tee thru","Tee thru3",null,{"$f":"VLOOKUP(D34,'K-value'!$D$48:$E$124,2,FALSE)","v":0.36},0,null,"Pipe DP acceptance",{"$f":"IF(E49<=49,0.343,0.686)","v":0.68600000000000005},"bar/100m",null,null,null,"bar/100 m",{"$f":"P33*100/14.5/0.3048","v":5.6520698277092246E-2},null,null,2,0.9,0.13700000000000001,4.5,0.34300000000000003,0.68600000000000005]
[null,null,"Tee branch","Tee branch3",null,{"$f":"VLOOKUP(D35,'K-value'!$D$48:$E$124,2,FALSE)","v":1.08},0,null,"Static head",{"$f":"E15*9.8*E50/10^5","v":1.8992400000000004E-3},"bar","note 1",null,null,null,null,null,null,3,1.2,0.13700000000000001,4.5,0.34300000000000003,0.68600000000000005]
[null,null,"Ball valve","Ball valve3",2,{"$f":"VLOOKUP(D36,'K-value'!$D$48:$E$124,2,FALSE)","v":0.05},3.0580906549639402E-5,null,"Line losses",{"$f":"J33*E51/100","v":1.6956209483127673E-2},"bar",null,null,null,null,null,null,null,4,1.2,0.13700000000000001,4.5,0.34300000000000003,0.68600000000000005]
[null,null,"Butterfly valve","Butterfly valve3",null,{"$f":"VLOOKUP(D37,'K-value'!$D$48:$E$124,2,FALSE)","v":0.81},0,null,"Fitting & eqp losses",{"$f":"G70+G72","v":1.0041394315105592},"bar",null,null,null,"NPSHA calculation",null,null,null,6,1.2,0.13700000000000001,4.5,0.34300000000000003,0.68600000000000005]
[null,null,"Gate valve","Gate valve3",null,{"$f":"VLOOKUP(D38,'K-value'!$D$48:$E$124,2,FALSE)","v":0.14000000000000001},0,null,"Discharge Pressure",{"$f":"E49+J35+J36+J37","v":51.022994880993686},"barg",null,null,null,"HA",{"$f":"(E24+1.01)*100000/(E16*9.81)","v":70.828662406593224},"m",null,8,1.5,0.22500000000000001,4.5,0.34300000000000003,0.68600000000000005]
[null,null,"Globe valve","Globe valve3",null,{"$f":"VLOOKUP(D39,'K-value'!$D$48:$E$124,2,FALSE)","v":6.1},0,null,"Result",{"$f":"IF(AND(J30<J31,J33<J34),\"OK\",\"NOT OK\")","v":"OK"},null,null,null,null,"HZ",{"$f":"E26","v":0.4},"m",null,10,1.5,0.22500000000000001,4.5,0.34300000000000003,0.68600000000000005]
[null,null,"Check valve","Check valve3",null,{"$f":"VLOOKUP(D40,'K-value'!$D$48:$E$124,2,FALSE)","v":1.8},0,null,null,null,null,null,null,null,"HF",{"$f":"SUM(J23:J24)*-1","v":-6.5453873316560385E-2},null,null,12,1.5,0.22500000000000001,4.5,0.34300000000000003,0.68600000000000005]
[null,null,"Plug valve","Plug valve3",null,{"$f":"VLOOKUP(D41,'K-value'!$D$48:$E$124,2,FALSE)","v":1.62},0,null,"Pump Data",null,null,null,null,null,"HV",0,null,null,16,1.5,0.22500000000000001,4.5,0.34300000000000003,0.68600000000000005]
[null,null,"Pipe entrance","Pipe entrance3",1,{"$f":"VLOOKUP(D42,'K-value'!$D$48:$E$124,2,FALSE)","v":0.78},2.3853107108718735E-4,null,"Suction Pressure",{"$f":"J25","v":1.9515275666834395},"barg",null,null,null,"HVP",{"$f":"E20*10^5/(E16*9.8)*-1","v":-28.789077958053024},"m",null,18,1.5,0.22500000000000001,4.5,0.34300000000000003,0.68600000000000005]
[null,null,"Suction strainer","Suction strainer3",1,null,{"$f":"0.05*E43","v":0.05},null,"Discharge Pressure",{"$f":"J38","v":51.022994880993686},"barg",null,null,null,"NPSHA",{"$f":"SUM(P38:P42)","v":42.374130575223646},"m",null,20,1.8,0.22500000000000001,6,0.34300000000000003,0.68600000000000005]
[null,null,"Total, barg",null,null,null,{"$f":"SUM(G32:G43)","v":5.0801219751600554E-2},null,"Selected disc. Pressure",52,"barg"]
[null,null,"Contingency",null,null,null,0.2,null,"Differential Pressure",{"$f":"J44-J42","v":50.048472433316562},"bar"]
[null,null,"Total + Contingency",null,null,null,{"$f":"(1+G45)*G44","v":6.0961463701920661E-2},null,"Differential Head",{"$f":"J45*10^5/(E16*9.8)","v":1178.8981955197335},"m"]
[null,null,null,null,null,null,null,null,"Hydraulic Power",{"$f":"E16*9.8*J46*E15/3600000","v":8.9809203310895853},"kW"]
[null,null,"DISCHARGE",null,null,null,null,null,"Pump BHP",{"$f":"J47/E21","v":19.957600735754635},"kW"]
[null,null,"Target Pressure ",null,{"$f":"VLOOKUP(E11,'Data pompa'!$B$5:$R$24,3,FALSE)","v":50},"barg",null,null,"NPSHa",{"$f":"P43","v":42.374130575223646},"m"]
[null,null,"Static head",null,3,"m","note 2",null,"NPSHr",{"$f":"J49-1","v":41.374130575223646},"m"]
[null,null,"Length",null,30,"m"]
[null,null,"Pipe size",null,{"$f":"VLOOKUP(E11,'Data pompa'!$B$5:$R$24,17,FALSE)","v":2},"in",null,null,"Shut in Pressure"]
[null,null,"Schedule",null,40,null,null,null,"P shut in",{"$f":"E25+1.3*J45","v":70.063014163311536},"barg"]
[null,null,"Fittings"]
[null,null,null,null,"Qty","K","DP"]
[null,null,"Elbow 90 LR",{"$f":"C56&$E$52","v":"Elbow 90 LR2"},10,{"$f":"VLOOKUP(D56,'K-value'!$D$48:$E$124,2,FALSE)","v":0.3},{"$f":"E56*F56*$J$17^2/(2*9.8)*$E$16*9.8/10^5","v":9.1742719648918209E-4}]
[null,null,"Elbow 45 LR","Elbow 45 LR2",null,{"$f":"VLOOKUP(D57,'K-value'!$D$48:$E$124,2,FALSE)","v":0.3},0]
[null,null,"Tee thru","Tee thru2",null,{"$f":"VLOOKUP(D58,'K-value'!$D$48:$E$124,2,FALSE)","v":0.38},0]
[null,null,"Tee branch","Tee branch2",2,{"$f":"VLOOKUP(D59,'K-value'!$D$48:$E$124,2,FALSE)","v":1.1399999999999999},6.9724466933177834E-4]
[null,null,"Ball valve","Ball valve2",5,{"$f":"VLOOKUP(D60,'K-value'!$D$48:$E$124,2,FALSE)","v":0.06},9.1742719648918206E-5]
[null,null,"Butterfly valve","Butterfly valve2",null,{"$f":"VLOOKUP(D61,'K-value'!$D$48:$E$124,2,FALSE)","v":0.86},0]
[null,null,"Gate valve","Gate valve2",null,{"$f":"VLOOKUP(D62,'K-value'!$D$48:$E$124,2,FALSE)","v":0.15},0]
[null,null,"Globe valve","Globe valve2",null,{"$f":"VLOOKUP(D63,'K-value'!$D$48:$E$124,2,FALSE)","v":6.5},0,null,"Note:"]
[null,null,"Check valve","Check valve2",3,{"$f":"VLOOKUP(D64,'K-value'!$D$48:$E$124,2,FALSE)","v":1.9},1.7431116733294457E-3]
[null,null,"Plug valve","Plug valve2",null,{"$f":"VLOOKUP(D65,'K-value'!$D$48:$E$124,2,FALSE)","v":1.71},0,null,"1. Discharge liquid level is assumed 3 m above grade elevation"]
[null,null,"Pipe entrance","Pipe entrance2",null,{"$f":"VLOOKUP(D66,'K-value'!$D$48:$E$124,2,FALSE)","v":0.78},0]
[null,null,"Flow orifice","Flow orifice2",1,null,0.25]
[null,null,"Total, barg",null,null,null,{"$f":"SUM(G56:G67)","v":0.25344952625879935}]
[null,null,"Contingency",null,null,null,0.2]
[null,null,"Total + contingency, barg",null,null,null,{"$f":"G68*(1+G69)","v":0.30413943151055922}]
[null,null,"Pressure Loss due to Equipment"]
[null,null,"AAV",null,null,null,0.7]

{"sheet":"Selayar","index":8,"n_rows":72,"n_cols":24,"rows_kept":72,"cut":false,"hidden":true,"merged":[[0,5,3,10],[26,21,26,23],[26,19,27,20],[26,18,27,18]]}
[null,null,null,null,null,"PUMP SIZING"]
[]
[]
[]
[null,null,"Project: LNG Regasification in Central Region of Indonesia"]
[]
[null,null,"Equipment Design Group",null,"1-2","MMSCFD"]
[null,null,"Equipment Design",null,1.92,"MMSCFD"]
[null,null,"Tag No:",null,"SLY-G-001A/B"]
[null,null,"Description:",null,"LNG Pump"]
[null,null,"Location:",null,"Selayar",null,null,null,null,null,null,null,null,null,"Pipe roughness",0.05,"mm"]
[null,null,null,null,null,null,null,null,null,null,null,null,null,null,null,{"$f":"P11/1000/3.28","v":1.5243902439024392E-5},"ft"]
[]
[null,null,"DATA",null,null,null,null,null,"RESULTS",null,null,null,null,null,"Mass flow",{"$f":"E15*E16/0.45","v":3561.8666666666668},"lb/hr"]
[null,null,"Flow rate",null,{"$f":"VLOOKUP(E11,'Data pompa'!$B$5:$R$24,8,FALSE)","v":3.7},"m3/h",null,null,"Suction Hydraulic",null,null,null,null,null,"Rho",{"$f":"E16/16.02","v":27.04119850187266},"lb/ft3"]
[null,null,"Density",null,{"$f":"VLOOKUP(E11,'Data pompa'!$B$5:$R$24,13,FALSE)","v":433.2},"kg/m3",null,null,"Pipe ID",{"$f":"VLOOKUP(E28,'Pipe size sch 40'!$A$5:$C$27,3,FALSE)*25.4/1000","v":5.2577999999999993E-2},"m"]
[null,null,"Flow temperature",null,{"$f":"VLOOKUP(E11,'Data pompa'!$B$5:$R$24,12,FALSE)","v":-158.88},"deg C",null,null,"Velocity",{"$f":"E15/(PI()/4*J16^2)/3600","v":0.47337053069713464},"m/s",null,null,null,"Side Calculation (Suction)"]
[null,null,"Viscocity",null,{"$f":"VLOOKUP(E11,'Data pompa'!$B$5:$R$24,14,FALSE)","v":0.11749999999999999},"cP",null,null,"Velocity acceptance",{"$f":"IF(E28<=2,0.9,IF(OR(E28>=3,E28<=6),1.2,IF(OR(E28>=8,E28<=18),1.5,1.8)))","v":0.9},"m/s","(max)",null,null,"f tebakan",2.1012449397256494E-2]
[null,null,null,null,{"$f":"E18*10^-3","v":1.175E-4},"Nm2/s",null,null,"Reynold number",{"$f":"E16*J18*J16/E19","v":174460.51608510636},null,null,null,null,"f left",{"$f":"1/(P18)^0.5","v":6.8986110499783502}]
[null,null,"Vapor pressure",null,{"$f":"VLOOKUP(E11,'Data pompa'!$B$5:$R$24,15,FALSE)","v":1.2222},"bara",null,null,"Pipe DP",{"$f":"P24","v":1.9720169616294171E-2},"bar/100m",null,null,null,"f right",{"$f":"-2*LOG(P12/(3.7*J16*0.3048)+2.51/(J19*(P18)^0.5))","v":6.8962806531927914}]
[null,null,"Pump efficiency",null,0.45,null,null,null,"Pipe DP acceptance",{"$f":"IF(E28<=6,0.137,0.225)","v":0.13700000000000001},"bar/100m",null,null,null,"f left/f right",{"$f":"P19/P20","v":1.0003379208159806},"Goal seek"]
[null,null,null,null,null,null,null,null,"Static head",{"$f":"E16*9.8*E26/10^5","v":1.6981440000000004E-2},"bar",null,null,null,"psi/100 ft",{"$f":"0.000336*P18*P14^2/(J16*1000/25.4)^5/P15","v":8.7155261636173723E-2}]
[null,null,"SUCTION",null,null,null,null,null,"Pipe friction loss",{"$f":"J20*E27/100","v":9.9736729851369402E-3},"bar",null,null,null,"psi/ft",{"$f":"P22/100","v":8.715526163617372E-4}]
[null,null,"Pressure at Vessel (min)",null,2,"barg",null,null,"Fitting friction loss",{"$f":"G46","v":6.1572555196449906E-2},"bar",null,null,null,"bar/100 m",{"$f":"P23*100/14.5/0.3048","v":1.9720169616294171E-2}]
[null,null,"Pressure at Vessel (max)",null,5,"barg",null,null,"Suction Pressure",{"$f":"E24+J22-SUM(J23:J24)","v":1.9454352118184131},"barg"]
[null,null,"Static head",null,{"$f":"VLOOKUP(E11,'Data pompa'!$B$5:$S$27,18,FALSE)/1000","v":0.4},"m",null,null,"Result",{"$f":"IF(AND(J17<J18,J20<J21),\"OK\",\"NOT OK\")","v":"OK"}]
[null,null,"Length",null,{"$f":"(8408+1000+23274+5300+8924+3670)/1000","v":50.576000000000001},"m","assumption",null,null,null,null,null,null,null,"Side Calculation (Discharge)",null,null,null,null,"Suction",null,"Discharge"]
[null,null,"Pipe size",null,2,"in",null,null,"Discharge Hydraulic",null,null,null,null,null,"f tebakan",1.9756589002857098E-2,null,null,null,null,null,null,"< 49 barg","> 49 barg"]
[null,null,"Schedule",null,40,null,null,null,"Pipe ID",{"$f":"VLOOKUP(E52,'Pipe size sch 40'!$A$5:$C$27,3,FALSE)*25.4/1000","v":5.2577999999999993E-2},"m",null,null,null,"f left",{"$f":"1/(P28)^0.5","v":7.1144939984553224},null,null,null,"Velocity","Pressure","Velocity","Pressure","Pressure"]
[null,null,"Fittings",null,null,null,null,null,"Velocity",{"$f":"E15/(PI()/4*J16^2)/3600","v":0.47337053069713464},"m/s",null,null,null,"f right",{"$f":"-2*LOG(P12/(3.7*J29*0.3048)+2.51/(J32*(P28)^0.5))","v":7.1132995165712689},null,null,0.5,0.9,0.13700000000000001,4.5,0.34300000000000003,0.68600000000000005]
[null,null,null,null,"Qty","K","DP",null,"Velocity acceptance",{"$f":"IF(E50<=18,4.5,6)","v":4.5},"m/s","(max)",null,null,"f left/f right",{"$f":"P29/P30","v":1.0001679223377662},"Goal seek",null,0.75,0.9,0.13700000000000001,4.5,0.34300000000000003,0.68600000000000005]
[null,null,"Elbow 90 LR",{"$f":"C32&$E$28","v":"Elbow 90 LR2"},6,{"$f":"VLOOKUP(D32,'K-value'!$D$48:$E$124,2,FALSE)","v":0.3},{"$f":"E32*F32*$J$17^2/(2*9.8)*$E$16*9.8/10^5","v":8.7364177580549979E-4},null,"Reynold number",{"$f":"E16*J31*J29/E19","v":872302.58042553172},null,null,null,null,"psi/100 ft",{"$f":"0.000336*P28*P14^2/(J29*1000/25.4)^5/P15","v":8.1946214409786153E-2},null,null,1,0.9,0.13700000000000001,4.5,0.34300000000000003,0.68600000000000005]
[null,null,"Elbow 45 LR","Elbow 45 LR2",null,{"$f":"VLOOKUP(D33,'K-value'!$D$48:$E$124,2,FALSE)","v":0.3},0,null,"Pipe DP",{"$f":"P34","v":1.8541545481443149E-2},"bar/100m",null,null,null,"psi/ft",{"$f":"P32/100","v":8.1946214409786154E-4},null,null,1.5,0.9,0.13700000000000001,4.5,0.34300000000000003,0.68600000000000005]
[null,null,"Tee thru","Tee thru2",null,{"$f":"VLOOKUP(D34,'K-value'!$D$48:$E$124,2,FALSE)","v":0.38},0,null,"Pipe DP acceptance",{"$f":"IF(E49<=49,0.343,0.686)","v":0.34300000000000003},"bar/100m",null,null,null,"bar/100 m",{"$f":"P33*100/14.5/0.3048","v":1.8541545481443149E-2},null,null,2,0.9,0.13700000000000001,4.5,0.34300000000000003,0.68600000000000005]
[null,null,"Tee branch","Tee branch2",null,{"$f":"VLOOKUP(D35,'K-value'!$D$48:$E$124,2,FALSE)","v":1.1399999999999999},0,null,"Static head",{"$f":"E15*9.8*E50/10^5","v":1.0878000000000001E-3},"bar","note 1",null,null,null,null,null,null,3,1.2,0.13700000000000001,4.5,0.34300000000000003,0.68600000000000005]
[null,null,"Ball valve","Ball valve2",2,{"$f":"VLOOKUP(D36,'K-value'!$D$48:$E$124,2,FALSE)","v":0.06},5.8242785053699988E-5,null,"Line losses",{"$f":"J33*E51/100","v":5.5624636444329446E-3},"bar",null,null,null,null,null,null,null,4,1.2,0.13700000000000001,4.5,0.34300000000000003,0.68600000000000005]
[null,null,"Butterfly valve","Butterfly valve2",null,{"$f":"VLOOKUP(D37,'K-value'!$D$48:$E$124,2,FALSE)","v":0.86},0,null,"Fitting & eqp losses",{"$f":"G70+G72","v":1.0065697861540572},"bar",null,null,null,"NPSHA calculation",null,null,null,6,1.2,0.13700000000000001,4.5,0.34300000000000003,0.68600000000000005]
[null,null,"Gate valve","Gate valve2",null,{"$f":"VLOOKUP(D38,'K-value'!$D$48:$E$124,2,FALSE)","v":0.15},0,null,"Discharge Pressure",{"$f":"E49+J35+J36+J37","v":9.0132200497984911},"barg",null,null,null,"HA",{"$f":"(E24+1.01)*100000/(E16*9.81)","v":70.828662406593224},"m",null,8,1.5,0.22500000000000001,4.5,0.34300000000000003,0.68600000000000005]
[null,null,"Globe valve","Globe valve2",null,{"$f":"VLOOKUP(D39,'K-value'!$D$48:$E$124,2,FALSE)","v":6.5},0,null,"Result",{"$f":"IF(AND(J30<J31,J33<J34),\"OK\",\"NOT OK\")","v":"OK"},null,null,null,null,"HZ",{"$f":"E26","v":0.4},"m",null,10,1.5,0.22500000000000001,4.5,0.34300000000000003,0.68600000000000005]
[null,null,"Check valve","Check valve2",null,{"$f":"VLOOKUP(D40,'K-value'!$D$48:$E$124,2,FALSE)","v":1.9},0,null,null,null,null,null,null,null,"HF",{"$f":"SUM(J23:J24)*-1","v":-7.1546228181586846E-2},null,null,12,1.5,0.22500000000000001,4.5,0.34300000000000003,0.68600000000000005]
[null,null,"Plug valve","Plug valve2",null,{"$f":"VLOOKUP(D41,'K-value'!$D$48:$E$124,2,FALSE)","v":1.71},0,null,"Pump Data",null,null,null,null,null,"HV",0,null,null,16,1.5,0.22500000000000001,4.5,0.34300000000000003,0.68600000000000005]
[null,null,"Pipe entrance","Pipe entrance2",1,{"$f":"VLOOKUP(D42,'K-value'!$D$48:$E$124,2,FALSE)","v":0.78},3.7857810284904999E-4,null,"Suction Pressure",{"$f":"J25","v":1.9454352118184131},"barg",null,null,null,"HVP",{"$f":"E20*10^5/(E16*9.8)*-1","v":-28.789077958053024},"m",null,18,1.5,0.22500000000000001,4.5,0.34300000000000003,0.68600000000000005]
[null,null,"Suction strainer","Suction strainer2",1,null,{"$f":"0.05*E43","v":0.05},null,"Discharge Pressure",{"$f":"J38","v":9.0132200497984911},"barg",null,null,null,"NPSHA",{"$f":"SUM(P38:P42)","v":42.368038220358613},"m",null,20,1.8,0.22500000000000001,6,0.34300000000000003,0.68600000000000005]
[null,null,"Total, barg",null,null,null,{"$f":"SUM(G32:G43)","v":5.1310462663708256E-2},null,"Selected disc. Pressure",10,"barg"]
[null,null,"Contingency",null,null,null,0.2,null,"Differential Pressure",{"$f":"J44-J42","v":8.0545647881815867},"bar"]
[null,null,"Total + Contingency",null,null,null,{"$f":"(1+G45)*G44","v":6.1572555196449906E-2},null,"Differential Head",{"$f":"J45*10^5/(E16*9.8)","v":189.72630797344831},"m"]
[null,null,null,null,null,null,null,null,"Hydraulic Power",{"$f":"E16*9.8*J46*E15/3600000","v":0.82783026989644082},"kW"]
[null,null,"DISCHARGE",null,null,null,null,null,"Pump BHP",{"$f":"J47/E21","v":1.8396228219920907},"kW"]
[null,null,"Target Pressure ",null,{"$f":"VLOOKUP(E11,'Data pompa'!$B$5:$R$24,3,FALSE)","v":8},"barg",null,null,"NPSHa",{"$f":"P43","v":42.368038220358613},"m"]
[null,null,"Static head",null,3,"m","note 2",null,"NPSHr",{"$f":"J49-1","v":41.368038220358613},"m"]
[null,null,"Length",null,30,"m"]
[null,null,"Pipe size",null,{"$f":"VLOOKUP(E11,'Data pompa'!$B$5:$R$24,17,FALSE)","v":2},"in",null,null,"Shut in Pressure"]
[null,null,"Schedule",null,40,null,null,null,"P shut in",{"$f":"E25+1.3*J45","v":15.470934224636062},"barg"]
[null,null,"Fittings"]
[null,null,null,null,"Qty","K","DP"]
[null,null,"Elbow 90 LR",{"$f":"C56&$E$52","v":"Elbow 90 LR2"},10,{"$f":"VLOOKUP(D56,'K-value'!$D$48:$E$124,2,FALSE)","v":0.3},{"$f":"E56*F56*$J$17^2/(2*9.8)*$E$16*9.8/10^5","v":1.4560696263424997E-3}]
[null,null,"Elbow 45 LR","Elbow 45 LR2",null,{"$f":"VLOOKUP(D57,'K-value'!$D$48:$E$124,2,FALSE)","v":0.3},0]
[null,null,"Tee thru","Tee thru2",null,{"$f":"VLOOKUP(D58,'K-value'!$D$48:$E$124,2,FALSE)","v":0.38},0]
[null,null,"Tee branch","Tee branch2",2,{"$f":"VLOOKUP(D59,'K-value'!$D$48:$E$124,2,FALSE)","v":1.1399999999999999},1.1066129160202999E-3]
[null,null,"Ball valve","Ball valve2",5,{"$f":"VLOOKUP(D60,'K-value'!$D$48:$E$124,2,FALSE)","v":0.06},1.4560696263424996E-4]
[null,null,"Butterfly valve","Butterfly valve2",null,{"$f":"VLOOKUP(D61,'K-value'!$D$48:$E$124,2,FALSE)","v":0.86},0]
[null,null,"Gate valve","Gate valve2",null,{"$f":"VLOOKUP(D62,'K-value'!$D$48:$E$124,2,FALSE)","v":0.15},0]
[null,null,"Globe valve","Globe valve2",null,{"$f":"VLOOKUP(D63,'K-value'!$D$48:$E$124,2,FALSE)","v":6.5},0,null,"Note:"]
[null,null,"Check valve","Check valve2",3,{"$f":"VLOOKUP(D64,'K-value'!$D$48:$E$124,2,FALSE)","v":1.9},2.7665322900507494E-3]
[null,null,"Plug valve","Plug valve2",null,{"$f":"VLOOKUP(D65,'K-value'!$D$48:$E$124,2,FALSE)","v":1.71},0,null,"1. Discharge liquid level is assumed 3 m above grade elevation"]
[null,null,"Pipe entrance","Pipe entrance2",null,{"$f":"VLOOKUP(D66,'K-value'!$D$48:$E$124,2,FALSE)","v":0.78},0]
[null,null,"Flow orifice","Flow orifice2",1,null,0.25]
[null,null,"Total, barg",null,null,null,{"$f":"SUM(G56:G67)","v":0.25547482179504782}]
[null,null,"Contingency",null,null,null,0.2]
[null,null,"Total + contingency, barg",null,null,null,{"$f":"G68*(1+G69)","v":0.30656978615405739}]
[null,null,"Pressure Loss due to Equipment"]
[null,null,"AAV",null,null,null,0.7]

{"sheet":"Waingapu","index":9,"n_rows":72,"n_cols":24,"rows_kept":72,"cut":false,"hidden":true,"merged":[[0,5,3,10],[26,21,26,23],[26,19,27,20],[26,18,27,18]]}
[null,null,null,null,null,"PUMP SIZING"]
[]
[]
[]
[null,null,"Project: LNG Regasification in Central Region of Indonesia"]
[]
[null,null,"Equipment Design Group",null,"1-2","MMSCFD"]
[null,null,"Equipment Design",null,1.92,"MMSCFD"]
[null,null,"Tag No:",null,"WNG-G-001A/B"]
[null,null,"Description:",null,"LNG Pump"]
[null,null,"Location:",null,"Waingapu",null,null,null,null,null,null,null,null,null,"Pipe roughness",0.05,"mm"]
[null,null,null,null,null,null,null,null,null,null,null,null,null,null,null,{"$f":"P11/1000/3.28","v":1.5243902439024392E-5},"ft"]
[]
[null,null,"DATA",null,null,null,null,null,"RESULTS",null,null,null,null,null,"Mass flow",{"$f":"E15*E16/0.45","v":3561.8666666666668},"lb/hr"]
[null,null,"Flow rate",null,{"$f":"VLOOKUP(E11,'Data pompa'!$B$5:$R$24,8,FALSE)","v":3.7},"m3/h",null,null,"Suction Hydraulic",null,null,null,null,null,"Rho",{"$f":"E16/16.02","v":27.04119850187266},"lb/ft3"]
[null,null,"Density",null,{"$f":"VLOOKUP(E11,'Data pompa'!$B$5:$R$24,13,FALSE)","v":433.2},"kg/m3",null,null,"Pipe ID",{"$f":"VLOOKUP(E28,'Pipe size sch 40'!$A$5:$C$27,3,FALSE)*25.4/1000","v":5.2577999999999993E-2},"m"]
[null,null,"Flow temperature",null,{"$f":"VLOOKUP(E11,'Data pompa'!$B$5:$R$24,12,FALSE)","v":-158.88},"deg C",null,null,"Velocity",{"$f":"E15/(PI()/4*J16^2)/3600","v":0.47337053069713464},"m/s",null,null,null,"Side Calculation (Suction)"]
[null,null,"Viscocity",null,{"$f":"VLOOKUP(E11,'Data pompa'!$B$5:$R$24,14,FALSE)","v":0.11749999999999999},"cP",null,null,"Velocity acceptance",{"$f":"IF(E28<=2,0.9,IF(OR(E28>=3,E28<=6),1.2,IF(OR(E28>=8,E28<=18),1.5,1.8)))","v":0.9},"m/s","(max)",null,null,"f tebakan",2.1012449397256494E-2]
[null,null,null,null,{"$f":"E18*10^-3","v":1.175E-4},"Nm2/s",null,null,"Reynold number",{"$f":"E16*J18*J16/E19","v":174460.51608510636},null,null,null,null,"f left",{"$f":"1/(P18)^0.5","v":6.8986110499783502}]
[null,null,"Vapor pressure",null,{"$f":"VLOOKUP(E11,'Data pompa'!$B$5:$R$24,15,FALSE)","v":1.2222},"bara",null,null,"Pipe DP",{"$f":"P24","v":1.9720169616294171E-2},"bar/100m",null,null,null,"f right",{"$f":"-2*LOG(P12/(3.7*J16*0.3048)+2.51/(J19*(P18)^0.5))","v":6.8962806531927914}]
[null,null,"Pump efficiency",null,0.45,null,null,null,"Pipe DP acceptance",{"$f":"IF(E28<=6,0.137,0.225)","v":0.13700000000000001},"bar/100m",null,null,null,"f left/f right",{"$f":"P19/P20","v":1.0003379208159806},"Goal seek"]
[null,null,null,null,null,null,null,null,"Static head",{"$f":"E16*9.8*E26/10^5","v":1.6981440000000004E-2},"bar",null,null,null,"psi/100 ft",{"$f":"0.000336*P18*P14^2/(J16*1000/25.4)^5/P15","v":8.7155261636173723E-2}]
[null,null,"SUCTION",null,null,null,null,null,"Pipe friction loss",{"$f":"J20*E27/100","v":4.9300424040735428E-3},"bar",null,null,null,"psi/ft",{"$f":"P22/100","v":8.715526163617372E-4}]
[null,null,"Pressure at Vessel (min)",null,2,"barg",null,null,"Fitting friction loss",{"$f":"G46","v":6.1188152815095487E-2},"bar",null,null,null,"bar/100 m",{"$f":"P23*100/14.5/0.3048","v":1.9720169616294171E-2}]
[null,null,"Pressure at Vessel (max)",null,5,"barg",null,null,"Suction Pressure",{"$f":"E24+J22-SUM(J23:J24)","v":1.950863244780831},"barg"]
[null,null,"Static head",null,{"$f":"VLOOKUP(E11,'Data pompa'!$B$5:$S$27,18,FALSE)/1000","v":0.4},"m",null,null,"Result",{"$f":"IF(AND(J17<J18,J20<J21),\"OK\",\"NOT OK\")","v":"OK"}]
[null,null,"Length",null,25,"m","assumption",null,null,null,null,null,null,null,"Side Calculation (Discharge)",null,null,null,null,"Suction",null,"Discharge"]
[null,null,"Pipe size",null,2,"in",null,null,"Discharge Hydraulic",null,null,null,null,null,"f tebakan",1.9756589002857098E-2,null,null,null,null,null,null,"< 49 barg","> 49 barg"]
[null,null,"Schedule",null,40,null,null,null,"Pipe ID",{"$f":"VLOOKUP(E52,'Pipe size sch 40'!$A$5:$C$27,3,FALSE)*25.4/1000","v":5.2577999999999993E-2},"m",null,null,null,"f left",{"$f":"1/(P28)^0.5","v":7.1144939984553224},null,null,null,"Velocity","Pressure","Velocity","Pressure","Pressure"]
[null,null,"Fittings",null,null,null,null,null,"Velocity",{"$f":"E15/(PI()/4*J16^2)/3600","v":0.47337053069713464},"m/s",null,null,null,"f right",{"$f":"-2*LOG(P12/(3.7*J29*0.3048)+2.51/(J32*(P28)^0.5))","v":7.1132995165712689},null,null,0.5,0.9,0.13700000000000001,4.5,0.34300000000000003,0.68600000000000005]
[null,null,null,null,"Qty","K","DP",null,"Velocity acceptance",{"$f":"IF(E50<=18,4.5,6)","v":4.5},"m/s","(max)",null,null,"f left/f right",{"$f":"P29/P30","v":1.0001679223377662},"Goal seek",null,0.75,0.9,0.13700000000000001,4.5,0.34300000000000003,0.68600000000000005]
[null,null,"Elbow 90 LR",{"$f":"C32&$E$28","v":"Elbow 90 LR2"},4,{"$f":"VLOOKUP(D32,'K-value'!$D$48:$E$124,2,FALSE)","v":0.3},{"$f":"E32*F32*$J$17^2/(2*9.8)*$E$16*9.8/10^5","v":5.8242785053699982E-4},null,"Reynold number",{"$f":"E16*J31*J29/E19","v":872302.58042553172},null,null,null,null,"psi/100 ft",{"$f":"0.000336*P28*P14^2/(J29*1000/25.4)^5/P15","v":8.1946214409786153E-2},null,null,1,0.9,0.13700000000000001,4.5,0.34300000000000003,0.68600000000000005]
[null,null,"Elbow 45 LR","Elbow 45 LR2",null,{"$f":"VLOOKUP(D33,'K-value'!$D$48:$E$124,2,FALSE)","v":0.3},0,null,"Pipe DP",{"$f":"P34","v":1.8541545481443149E-2},"bar/100m",null,null,null,"psi/ft",{"$f":"P32/100","v":8.1946214409786154E-4},null,null,1.5,0.9,0.13700000000000001,4.5,0.34300000000000003,0.68600000000000005]
[null,null,"Tee thru","Tee thru2",null,{"$f":"VLOOKUP(D34,'K-value'!$D$48:$E$124,2,FALSE)","v":0.38},0,null,"Pipe DP acceptance",{"$f":"IF(E49<=49,0.343,0.686)","v":0.34300000000000003},"bar/100m",null,null,null,"bar/100 m",{"$f":"P33*100/14.5/0.3048","v":1.8541545481443149E-2},null,null,2,0.9,0.13700000000000001,4.5,0.34300000000000003,0.68600000000000005]
[null,null,"Tee branch","Tee branch2",null,{"$f":"VLOOKUP(D35,'K-value'!$D$48:$E$124,2,FALSE)","v":1.1399999999999999},0,null,"Static head",{"$f":"E15*9.8*E50/10^5","v":1.0878000000000001E-3},"bar","note 1",null,null,null,null,null,null,3,1.2,0.13700000000000001,4.5,0.34300000000000003,0.68600000000000005]
[null,null,"Ball valve","Ball valve2",1,{"$f":"VLOOKUP(D36,'K-value'!$D$48:$E$124,2,FALSE)","v":0.06},2.9121392526849994E-5,null,"Line losses",{"$f":"J33*E51/100","v":5.5624636444329446E-3},"bar",null,null,null,null,null,null,null,4,1.2,0.13700000000000001,4.5,0.34300000000000003,0.68600000000000005]
[null,null,"Butterfly valve","Butterfly valve2",null,{"$f":"VLOOKUP(D37,'K-value'!$D$48:$E$124,2,FALSE)","v":0.86},0,null,"Fitting & eqp losses",{"$f":"G70+G72","v":1.0060456010885741},"bar",null,null,null,"NPSHA calculation",null,null,null,6,1.2,0.13700000000000001,4.5,0.34300000000000003,0.68600000000000005]
[null,null,"Gate valve","Gate valve2",null,{"$f":"VLOOKUP(D38,'K-value'!$D$48:$E$124,2,FALSE)","v":0.15},0,null,"Discharge Pressure",{"$f":"E49+J35+J36+J37","v":9.0126958647330078},"barg",null,null,null,"HA",{"$f":"(E24+1.01)*100000/(E16*9.81)","v":70.828662406593224},"m",null,8,1.5,0.22500000000000001,4.5,0.34300000000000003,0.68600000000000005]
[null,null,"Globe valve","Globe valve2",null,{"$f":"VLOOKUP(D39,'K-value'!$D$48:$E$124,2,FALSE)","v":6.5},0,null,"Result",{"$f":"IF(AND(J30<J31,J33<J34),\"OK\",\"NOT OK\")","v":"OK"},null,null,null,null,"HZ",{"$f":"E26","v":0.4},"m",null,10,1.5,0.22500000000000001,4.5,0.34300000000000003,0.68600000000000005]
[null,null,"Check valve","Check valve2",null,{"$f":"VLOOKUP(D40,'K-value'!$D$48:$E$124,2,FALSE)","v":1.9},0,null,null,null,null,null,null,null,"HF",{"$f":"SUM(J23:J24)*-1","v":-6.6118195219169035E-2},null,null,12,1.5,0.22500000000000001,4.5,0.34300000000000003,0.68600000000000005]
[null,null,"Plug valve","Plug valve2",null,{"$f":"VLOOKUP(D41,'K-value'!$D$48:$E$124,2,FALSE)","v":1.71},0,null,"Pump Data",null,null,null,null,null,"HV",0,null,null,16,1.5,0.22500000000000001,4.5,0.34300000000000003,0.68600000000000005]
[null,null,"Pipe entrance","Pipe entrance2",1,{"$f":"VLOOKUP(D42,'K-value'!$D$48:$E$124,2,FALSE)","v":0.78},3.7857810284904999E-4,null,"Suction Pressure",{"$f":"J25","v":1.950863244780831},"barg",null,null,null,"HVP",{"$f":"E20*10^5/(E16*9.8)*-1","v":-28.789077958053024},"m",null,18,1.5,0.22500000000000001,4.5,0.34300000000000003,0.68600000000000005]
[null,null,"Suction strainer","Suction strainer2",1,null,{"$f":"0.05*E43","v":0.05},null,"Discharge Pressure",{"$f":"J38","v":9.0126958647330078},"barg",null,null,null,"NPSHA",{"$f":"SUM(P38:P42)","v":42.373466253321027},"m",null,20,1.8,0.22500000000000001,6,0.34300000000000003,0.68600000000000005]
[null,null,"Total, barg",null,null,null,{"$f":"SUM(G32:G43)","v":5.0990127345912906E-2},null,"Selected disc. Pressure",10,"barg"]
[null,null,"Contingency",null,null,null,0.2,null,"Differential Pressure",{"$f":"J44-J42","v":8.0491367552191697},"bar"]
[null,null,"Total + Contingency",null,null,null,{"$f":"(1+G45)*G44","v":6.1188152815095487E-2},null,"Differential Head",{"$f":"J45*10^5/(E16*9.8)","v":189.59844995993669},"m"]
[null,null,null,null,null,null,null,null,"Hydraulic Power",{"$f":"E16*9.8*J46*E15/3600000","v":0.82727238873085918},"kW"]
[null,null,"DISCHARGE",null,null,null,null,null,"Pump BHP",{"$f":"J47/E21","v":1.8383830860685759},"kW"]
[null,null,"Target Pressure ",null,{"$f":"VLOOKUP(E11,'Data pompa'!$B$5:$R$24,3,FALSE)","v":8},"barg",null,null,"NPSHa",{"$f":"P43","v":42.373466253321027},"m"]
[null,null,"Static head",null,3,"m","note 2",null,"NPSHr",{"$f":"J49-1","v":41.373466253321027},"m"]
[null,null,"Length",null,30,"m"]
[null,null,"Pipe size",null,{"$f":"VLOOKUP(E11,'Data pompa'!$B$5:$R$24,17,FALSE)","v":2},"in",null,null,"Shut in Pressure"]
[null,null,"Schedule",null,40,null,null,null,"P shut in",{"$f":"E25+1.3*J45","v":15.463877781784921},"barg"]
[null,null,"Fittings"]
[null,null,null,null,"Qty","K","DP"]
[null,null,"Elbow 90 LR",{"$f":"C56&$E$52","v":"Elbow 90 LR2"},7,{"$f":"VLOOKUP(D56,'K-value'!$D$48:$E$124,2,FALSE)","v":0.3},{"$f":"E56*F56*$J$17^2/(2*9.8)*$E$16*9.8/10^5","v":1.0192487384397498E-3}]
[null,null,"Elbow 45 LR","Elbow 45 LR2",null,{"$f":"VLOOKUP(D57,'K-value'!$D$48:$E$124,2,FALSE)","v":0.3},0]
[null,null,"Tee thru","Tee thru2",null,{"$f":"VLOOKUP(D58,'K-value'!$D$48:$E$124,2,FALSE)","v":0.38},0]
[null,null,"Tee branch","Tee branch2",2,{"$f":"VLOOKUP(D59,'K-value'!$D$48:$E$124,2,FALSE)","v":1.1399999999999999},1.1066129160202999E-3]
[null,null,"Ball valve","Ball valve2",5,{"$f":"VLOOKUP(D60,'K-value'!$D$48:$E$124,2,FALSE)","v":0.06},1.4560696263424996E-4]
[null,null,"Butterfly valve","Butterfly valve2",null,{"$f":"VLOOKUP(D61,'K-value'!$D$48:$E$124,2,FALSE)","v":0.86},0]
[null,null,"Gate valve","Gate valve2",null,{"$f":"VLOOKUP(D62,'K-value'!$D$48:$E$124,2,FALSE)","v":0.15},0]
[null,null,"Globe valve","Globe valve2",null,{"$f":"VLOOKUP(D63,'K-value'!$D$48:$E$124,2,FALSE)","v":6.5},0,null,"Note:"]
[null,null,"Check valve","Check valve2",3,{"$f":"VLOOKUP(D64,'K-value'!$D$48:$E$124,2,FALSE)","v":1.9},2.7665322900507494E-3]
[null,null,"Plug valve","Plug valve2",null,{"$f":"VLOOKUP(D65,'K-value'!$D$48:$E$124,2,FALSE)","v":1.71},0,null,"1. Discharge liquid level is assumed 3 m above grade elevation"]
[null,null,"Pipe entrance","Pipe entrance2",null,{"$f":"VLOOKUP(D66,'K-value'!$D$48:$E$124,2,FALSE)","v":0.78},0]
[null,null,"Flow orifice","Flow orifice2",1,null,0.25]
[null,null,"Total, barg",null,null,null,{"$f":"SUM(G56:G67)","v":0.25503800090714507}]
[null,null,"Contingency",null,null,null,0.2]
[null,null,"Total + contingency, barg",null,null,null,{"$f":"G68*(1+G69)","v":0.30604560108857409}]
[null,null,"Pressure Loss due to Equipment"]
[null,null,"AAV",null,null,null,0.7]

{"sheet":"Alor","index":10,"n_rows":72,"n_cols":24,"rows_kept":72,"cut":false,"hidden":true,"merged":[[0,5,3,10],[26,21,26,23],[26,19,27,20],[26,18,27,18]]}
[null,null,null,null,null,"PUMP SIZING"]
[]
[]
[]
[null,null,"Project: LNG Regasification in Central Region of Indonesia"]
[]
[null,null,"Equipment Design Group",null,"1-2","MMSCFD"]
[null,null,"Equipment Design",null,1.92,"MMSCFD"]
[null,null,"Tag No:",null,"ALO-G-001A/B"]
[null,null,"Description:",null,"LNG Pump"]
[null,null,"Location:",null,"Alor",null,null,null,null,null,null,null,null,null,"Pipe roughness",0.05,"mm"]
[null,null,null,null,null,null,null,null,null,null,null,null,null,null,null,{"$f":"P11/1000/3.28","v":1.5243902439024392E-5},"ft"]
[]
[null,null,"DATA",null,null,null,null,null,"RESULTS",null,null,null,null,null,"Mass flow",{"$f":"E15*E16/0.45","v":3542.6133333333332},"lb/hr"]
[null,null,"Flow rate",null,{"$f":"'Data pompa'!I12","v":3.68},"m3/h",null,null,"Suction Hydraulic",null,null,null,null,null,"Rho",{"$f":"E16/16.02","v":27.04119850187266},"lb/ft3"]
[null,null,"Density",null,{"$f":"VLOOKUP(E11,'Data pompa'!$B$5:$R$24,13,FALSE)","v":433.2},"kg/m3",null,null,"Pipe ID",{"$f":"VLOOKUP(E28,'Pipe size sch 40'!$A$5:$C$27,3,FALSE)*25.4/1000","v":5.2577999999999993E-2},"m"]
[null,null,"Flow temperature",null,{"$f":"VLOOKUP(E11,'Data pompa'!$B$5:$R$24,12,FALSE)","v":-158.88},"deg C",null,null,"Velocity",{"$f":"E15/(PI()/4*J16^2)/3600","v":0.47081177107174471},"m/s",null,null,null,"Side Calculation (Suction)"]
[null,null,"Viscocity",null,{"$f":"VLOOKUP(E11,'Data pompa'!$B$5:$R$24,14,FALSE)","v":0.11749999999999999},"cP",null,null,"Velocity acceptance",{"$f":"IF(E28<=2,0.9,IF(OR(E28>=3,E28<=6),1.2,IF(OR(E28>=8,E28<=18),1.5,1.8)))","v":0.9},"m/s","(max)",null,null,"f tebakan",2.1012449397256494E-2]
[null,null,null,null,{"$f":"E18*10^-3","v":1.175E-4},"Nm2/s",null,null,"Reynold number",{"$f":"E16*J18*J16/E19","v":174460.51608510636},null,null,null,null,"f left",{"$f":"1/(P18)^0.5","v":6.8986110499783502}]
[null,null,"Vapor pressure",null,{"$f":"VLOOKUP(E11,'Data pompa'!$B$5:$R$24,15,FALSE)","v":1.2222},"bara",null,null,"Pipe DP",{"$f":"P24","v":1.9507554785369041E-2},"bar/100m",null,null,null,"f right",{"$f":"-2*LOG(P12/(3.7*J16*0.3048)+2.51/(J19*(P18)^0.5))","v":6.8962806531927914}]
[null,null,"Pump efficiency",null,0.45,null,null,null,"Pipe DP acceptance",{"$f":"IF(E28<=6,0.137,0.225)","v":0.13700000000000001},"bar/100m",null,null,null,"f left/f right",{"$f":"P19/P20","v":1.0003379208159806},"Goal seek"]
[null,null,null,null,null,null,null,null,"Static head",{"$f":"E16*9.8*E26/10^5","v":1.6981440000000004E-2},"bar",null,null,null,"psi/100 ft",{"$f":"0.000336*P18*P14^2/(J16*1000/25.4)^5/P15","v":8.6215589129417014E-2}]
[null,null,"SUCTION",null,null,null,null,null,"Pipe friction loss",{"$f":"J20*E27/100","v":9.8661409082482464E-3},"bar",null,null,null,"psi/ft",{"$f":"P22/100","v":8.6215589129417017E-4}]
[null,null,"Pressure at Vessel (min)",null,2,"barg",null,null,"Fitting friction loss",{"$f":"G46","v":6.2903787688275078E-2},"bar",null,null,null,"bar/100 m",{"$f":"P23*100/14.5/0.3048","v":1.9507554785369041E-2}]
[null,null,"Pressure at Vessel (max)",null,5,"barg",null,null,"Suction Pressure",{"$f":"E24+J22-SUM(J23:J24)","v":1.9442115114034766},"barg"]
[null,null,"Static head",null,{"$f":"VLOOKUP(E11,'Data pompa'!$B$5:$S$27,18,FALSE)/1000","v":0.4},"m",null,null,"Result",{"$f":"IF(AND(J17<J18,J20<J21),\"OK\",\"NOT OK\")","v":"OK"}]
[null,null,"Length",null,{"$f":"(8408+1000+23274+5300+8924+3670)/1000","v":50.576000000000001},"m","assumption",null,null,null,null,null,null,null,"Side Calculation (Discharge)",null,null,null,null,"Suction",null,"Discharge"]
[null,null,"Pipe size",null,2,"in",null,null,"Discharge Hydraulic",null,null,null,null,null,"f tebakan",1.9756589002857098E-2,null,null,null,null,null,null,"< 49 barg","> 49 barg"]
[null,null,"Schedule",null,40,null,null,null,"Pipe ID",{"$f":"VLOOKUP(E52,'Pipe size sch 40'!$A$5:$C$27,3,FALSE)*25.4/1000","v":5.2577999999999993E-2},"m",null,null,null,"f left",{"$f":"1/(P28)^0.5","v":7.1144939984553224},null,null,null,"Velocity","Pressure","Velocity","Pressure","Pressure"]
[null,null,"Fittings",null,null,null,null,null,"Velocity",{"$f":"E15/(PI()/4*J16^2)/3600","v":0.47081177107174471},"m/s",null,null,null,"f right",{"$f":"-2*LOG(P12/(3.7*J29*0.3048)+2.51/(J32*(P28)^0.5))","v":7.1132995165712689},null,null,0.5,0.9,0.13700000000000001,4.5,0.34300000000000003,0.68600000000000005]
[null,null,null,null,"Qty","K","DP",null,"Velocity acceptance",{"$f":"IF(E50<=18,4.5,6)","v":4.5},"m/s","(max)",null,null,"f left/f right",{"$f":"P29/P30","v":1.0001679223377662},"Goal seek",null,0.75,0.9,0.13700000000000001,4.5,0.34300000000000003,0.68600000000000005]
[null,null,"Elbow 90 LR",{"$f":"C32&$E$28","v":"Elbow 90 LR2"},10,{"$f":"VLOOKUP(D32,'K-value'!$D$48:$E$124,2,FALSE)","v":0.3},{"$f":"E32*F32*$J$17^2/(2*9.8)*$E$16*9.8/10^5","v":1.4403708771205744E-3},null,"Reynold number",{"$f":"E16*J31*J29/E19","v":872302.58042553172},null,null,null,null,"psi/100 ft",{"$f":"0.000336*P28*P14^2/(J29*1000/25.4)^5/P15","v":8.1062703727033475E-2},null,null,1,0.9,0.13700000000000001,4.5,0.34300000000000003,0.68600000000000005]
[null,null,"Elbow 45 LR","Elbow 45 LR2",null,{"$f":"VLOOKUP(D33,'K-value'!$D$48:$E$124,2,FALSE)","v":0.3},0,null,"Pipe DP",{"$f":"P34","v":1.8341638095536579E-2},"bar/100m",null,null,null,"psi/ft",{"$f":"P32/100","v":8.1062703727033478E-4},null,null,1.5,0.9,0.13700000000000001,4.5,0.34300000000000003,0.68600000000000005]
[null,null,"Tee thru","Tee thru2",null,{"$f":"VLOOKUP(D34,'K-value'!$D$48:$E$124,2,FALSE)","v":0.38},0,null,"Pipe DP acceptance",{"$f":"IF(E49<=49,0.343,0.686)","v":0.34300000000000003},"bar/100m",null,null,null,"bar/100 m",{"$f":"P33*100/14.5/0.3048","v":1.8341638095536579E-2},null,null,2,0.9,0.13700000000000001,4.5,0.34300000000000003,0.68600000000000005]
[null,null,"Tee branch","Tee branch2",1,{"$f":"VLOOKUP(D35,'K-value'!$D$48:$E$124,2,FALSE)","v":1.1399999999999999},5.4734093330581837E-4,null,"Static head",{"$f":"E15*9.8*E50/10^5","v":1.0819200000000003E-3},"bar","note 1",null,null,null,null,null,null,3,1.2,0.13700000000000001,4.5,0.34300000000000003,0.68600000000000005]
[null,null,"Ball valve","Ball valve2",2,{"$f":"VLOOKUP(D36,'K-value'!$D$48:$E$124,2,FALSE)","v":0.06},5.7614835084822982E-5,null,"Line losses",{"$f":"J33*E51/100","v":1.8341638095536579E-2},"bar",null,null,null,null,null,null,null,4,1.2,0.13700000000000001,4.5,0.34300000000000003,0.68600000000000005]
[null,null,"Butterfly valve","Butterfly valve2",null,{"$f":"VLOOKUP(D37,'K-value'!$D$48:$E$124,2,FALSE)","v":0.86},0,null,"Fitting & eqp losses",{"$f":"G70+G72","v":1.0064989533975679},"bar",null,null,null,"NPSHA calculation",null,null,null,6,1.2,0.13700000000000001,4.5,0.34300000000000003,0.68600000000000005]
[null,null,"Gate valve","Gate valve2",null,{"$f":"VLOOKUP(D38,'K-value'!$D$48:$E$124,2,FALSE)","v":0.15},0,null,"Discharge Pressure",{"$f":"E49+J35+J36+J37","v":9.0259225114931052},"barg",null,null,null,"HA",{"$f":"(E24+1.01)*100000/(E16*9.81)","v":70.828662406593224},"m",null,8,1.5,0.22500000000000001,4.5,0.34300000000000003,0.68600000000000005]
[null,null,"Globe valve","Globe valve2",null,{"$f":"VLOOKUP(D39,'K-value'!$D$48:$E$124,2,FALSE)","v":6.5},0,null,"Result",{"$f":"IF(AND(J30<J31,J33<J34),\"OK\",\"NOT OK\")","v":"OK"},null,null,null,null,"HZ",{"$f":"E26","v":0.4},"m",null,10,1.5,0.22500000000000001,4.5,0.34300000000000003,0.68600000000000005]
[null,null,"Check valve","Check valve2",null,{"$f":"VLOOKUP(D40,'K-value'!$D$48:$E$124,2,FALSE)","v":1.9},0,null,null,null,null,null,null,null,"HF",{"$f":"SUM(J23:J24)*-1","v":-7.2769928596523328E-2},null,null,12,1.5,0.22500000000000001,4.5,0.34300000000000003,0.68600000000000005]
[null,null,"Plug valve","Plug valve2",null,{"$f":"VLOOKUP(D41,'K-value'!$D$48:$E$124,2,FALSE)","v":1.71},0,null,"Pump Data",null,null,null,null,null,"HV",0,null,null,16,1.5,0.22500000000000001,4.5,0.34300000000000003,0.68600000000000005]
[null,null,"Pipe entrance","Pipe entrance2",1,{"$f":"VLOOKUP(D42,'K-value'!$D$48:$E$124,2,FALSE)","v":0.78},3.7449642805134945E-4,null,"Suction Pressure",{"$f":"J25","v":1.9442115114034766},"barg",null,null,null,"HVP",{"$f":"E20*10^5/(E16*9.8)*-1","v":-28.789077958053024},"m",null,18,1.5,0.22500000000000001,4.5,0.34300000000000003,0.68600000000000005]
[null,null,"Suction strainer","Suction strainer2",1,null,{"$f":"0.05*E43","v":0.05},null,"Discharge Pressure",{"$f":"J38","v":9.0259225114931052},"barg",null,null,null,"NPSHA",{"$f":"SUM(P38:P42)","v":42.366814519943674},"m",null,20,1.8,0.22500000000000001,6,0.34300000000000003,0.68600000000000005]
[null,null,"Total, barg",null,null,null,{"$f":"SUM(G32:G43)","v":5.241982307356257E-2},null,"Selected disc. Pressure",10,"barg"]
[null,null,"Contingency",null,null,null,0.2,null,"Differential Pressure",{"$f":"J44-J42","v":8.055788488596523},"bar"]
[null,null,"Total + Contingency",null,null,null,{"$f":"(1+G45)*G44","v":6.2903787688275078E-2},null,"Differential Head",{"$f":"J45*10^5/(E16*9.8)","v":189.75513239387288},"m"]
[null,null,null,null,null,null,null,null,"Hydraulic Power",{"$f":"E16*9.8*J46*E15/3600000","v":0.82348060105653353},"kW"]
[null,null,"DISCHARGE",null,null,null,null,null,"Pump BHP",{"$f":"J47/E21","v":1.8299568912367412},"kW"]
[null,null,"Target Pressure ",null,{"$f":"VLOOKUP(E11,'Data pompa'!$B$5:$R$24,3,FALSE)","v":8},"barg",null,null,"NPSHa",{"$f":"P43","v":42.366814519943674},"m"]
[null,null,"Static head",null,3,"m","note 2",null,"NPSHr",{"$f":"J49-1","v":41.366814519943674},"m"]
[null,null,"Length",null,100,"m"]
[null,null,"Pipe size",null,{"$f":"VLOOKUP(E11,'Data pompa'!$B$5:$R$24,17,FALSE)","v":2},"in",null,null,"Shut in Pressure"]
[null,null,"Schedule",null,40,null,null,null,"P shut in",{"$f":"E25+1.3*J45","v":15.47252503517548},"barg"]
[null,null,"Fittings"]
[null,null,null,null,"Qty","K","DP"]
[null,null,"Elbow 90 LR",{"$f":"C56&$E$52","v":"Elbow 90 LR2"},10,{"$f":"VLOOKUP(D56,'K-value'!$D$48:$E$124,2,FALSE)","v":0.3},{"$f":"E56*F56*$J$17^2/(2*9.8)*$E$16*9.8/10^5","v":1.4403708771205744E-3}]
[null,null,"Elbow 45 LR","Elbow 45 LR2",null,{"$f":"VLOOKUP(D57,'K-value'!$D$48:$E$124,2,FALSE)","v":0.3},0]
[null,null,"Tee thru","Tee thru2",null,{"$f":"VLOOKUP(D58,'K-value'!$D$48:$E$124,2,FALSE)","v":0.38},0]
[null,null,"Tee branch","Tee branch2",2,{"$f":"VLOOKUP(D59,'K-value'!$D$48:$E$124,2,FALSE)","v":1.1399999999999999},1.0946818666116367E-3]
[null,null,"Ball valve","Ball valve2",5,{"$f":"VLOOKUP(D60,'K-value'!$D$48:$E$124,2,FALSE)","v":0.06},1.4403708771205744E-4]
[null,null,"Butterfly valve","Butterfly valve2",null,{"$f":"VLOOKUP(D61,'K-value'!$D$48:$E$124,2,FALSE)","v":0.86},0]
[null,null,"Gate valve","Gate valve2",null,{"$f":"VLOOKUP(D62,'K-value'!$D$48:$E$124,2,FALSE)","v":0.15},0]
[null,null,"Globe valve","Globe valve2",null,{"$f":"VLOOKUP(D63,'K-value'!$D$48:$E$124,2,FALSE)","v":6.5},0,null,"Note:"]
[null,null,"Check valve","Check valve2",3,{"$f":"VLOOKUP(D64,'K-value'!$D$48:$E$124,2,FALSE)","v":1.9},2.736704666529091E-3]
[null,null,"Plug valve","Plug valve2",null,{"$f":"VLOOKUP(D65,'K-value'!$D$48:$E$124,2,FALSE)","v":1.71},0,null,"1. Discharge liquid level is assumed 3 m above grade elevation"]
[null,null,"Pipe entrance","Pipe entrance2",null,{"$f":"VLOOKUP(D66,'K-value'!$D$48:$E$124,2,FALSE)","v":0.78},0]
[null,null,"Flow orifice","Flow orifice2",1,null,0.25]
[null,null,"Total, barg",null,null,null,{"$f":"SUM(G56:G67)","v":0.25541579449797336}]
[null,null,"Contingency",null,null,null,0.2]
[null,null,"Total + contingency, barg",null,null,null,{"$f":"G68*(1+G69)","v":0.306498953397568}]
[null,null,"Pressure Loss due to Equipment"]
[null,null,"AAV",null,null,null,0.7]

{"sheet":"Tahuna","index":11,"n_rows":72,"n_cols":24,"rows_kept":72,"cut":false,"hidden":true,"merged":[[0,5,3,10],[26,21,26,23],[26,19,27,20],[26,18,27,18]]}
[null,null,null,null,null,"PUMP SIZING"]
[]
[]
[]
[null,null,"Project: LNG Regasification in Central Region of Indonesia"]
[]
[null,null,"Equipment Design Group",null,"1-2","MMSCFD"]
[null,null,"Equipment Design",null,1.92,"MMSCFD"]
[null,null,"Tag No:",null,"TAH-G-001A/B"]
[null,null,"Description:",null,"LNG Pump"]
[null,null,"Location:",null,"Tahuna",null,null,null,null,null,null,null,null,null,"Pipe roughness",0.05,"mm"]
[null,null,null,null,null,null,null,null,null,null,null,null,null,null,null,{"$f":"P11/1000/3.28","v":1.5243902439024392E-5},"ft"]
[]
[null,null,"DATA",null,null,null,null,null,"RESULTS",null,null,null,null,null,"Mass flow",{"$f":"E15*E16/0.45","v":3561.8666666666668},"lb/hr"]
[null,null,"Flow rate",null,{"$f":"VLOOKUP(E11,'Data pompa'!$B$5:$R$24,8,FALSE)","v":3.7},"m3/h",null,null,"Suction Hydraulic",null,null,null,null,null,"Rho",{"$f":"E16/16.02","v":27.04119850187266},"lb/ft3"]
[null,null,"Density",null,{"$f":"VLOOKUP(E11,'Data pompa'!$B$5:$R$24,13,FALSE)","v":433.2},"kg/m3",null,null,"Pipe ID",{"$f":"VLOOKUP(E28,'Pipe size sch 40'!$A$5:$C$27,3,FALSE)*25.4/1000","v":5.2577999999999993E-2},"m"]
[null,null,"Flow temperature",null,{"$f":"VLOOKUP(E11,'Data pompa'!$B$5:$R$24,12,FALSE)","v":-158.88},"deg C",null,null,"Velocity",{"$f":"E15/(PI()/4*J16^2)/3600","v":0.47337053069713464},"m/s",null,null,null,"Side Calculation (Suction)"]
[null,null,"Viscocity",null,{"$f":"VLOOKUP(E11,'Data pompa'!$B$5:$R$24,14,FALSE)","v":0.11749999999999999},"cP",null,null,"Velocity acceptance",{"$f":"IF(E28<=2,0.9,IF(OR(E28>=3,E28<=6),1.2,IF(OR(E28>=8,E28<=18),1.5,1.8)))","v":0.9},"m/s","(max)",null,null,"f tebakan",2.1012449397256494E-2]
[null,null,null,null,{"$f":"E18*10^-3","v":1.175E-4},"Nm2/s",null,null,"Reynold number",{"$f":"E16*J18*J16/E19","v":174460.51608510636},null,null,null,null,"f left",{"$f":"1/(P18)^0.5","v":6.8986110499783502}]
[null,null,"Vapor pressure",null,{"$f":"VLOOKUP(E11,'Data pompa'!$B$5:$R$24,15,FALSE)","v":1.2222},"bara",null,null,"Pipe DP",{"$f":"P24","v":1.9720169616294171E-2},"bar/100m",null,null,null,"f right",{"$f":"-2*LOG(P12/(3.7*J16*0.3048)+2.51/(J19*(P18)^0.5))","v":6.8962806531927914}]
[null,null,"Pump efficiency",null,0.45,null,null,null,"Pipe DP acceptance",{"$f":"IF(E28<=6,0.137,0.225)","v":0.13700000000000001},"bar/100m",null,null,null,"f left/f right",{"$f":"P19/P20","v":1.0003379208159806},"Goal seek"]
[null,null,null,null,null,null,null,null,"Static head",{"$f":"E16*9.8*E26/10^5","v":1.6981440000000004E-2},"bar",null,null,null,"psi/100 ft",{"$f":"0.000336*P18*P14^2/(J16*1000/25.4)^5/P15","v":8.7155261636173723E-2}]
[null,null,"SUCTION",null,null,null,null,null,"Pipe friction loss",{"$f":"J20*E27/100","v":4.9300424040735428E-3},"bar",null,null,null,"psi/ft",{"$f":"P22/100","v":8.715526163617372E-4}]
[null,null,"Pressure at Vessel (min)",null,2,"barg",null,null,"Fitting friction loss",{"$f":"G46","v":6.1188152815095487E-2},"bar",null,null,null,"bar/100 m",{"$f":"P23*100/14.5/0.3048","v":1.9720169616294171E-2}]
[null,null,"Pressure at Vessel (max)",null,5,"barg",null,null,"Suction Pressure",{"$f":"E24+J22-SUM(J23:J24)","v":1.950863244780831},"barg"]
[null,null,"Static head",null,{"$f":"VLOOKUP(E11,'Data pompa'!$B$5:$S$27,18,FALSE)/1000","v":0.4},"m",null,null,"Result",{"$f":"IF(AND(J17<J18,J20<J21),\"OK\",\"NOT OK\")","v":"OK"}]
[null,null,"Length",null,25,"m","assumption",null,null,null,null,null,null,null,"Side Calculation (Discharge)",null,null,null,null,"Suction",null,"Discharge"]
[null,null,"Pipe size",null,2,"in",null,null,"Discharge Hydraulic",null,null,null,null,null,"f tebakan",1.9756589002857098E-2,null,null,null,null,null,null,"< 49 barg","> 49 barg"]
[null,null,"Schedule",null,40,null,null,null,"Pipe ID",{"$f":"VLOOKUP(E52,'Pipe size sch 40'!$A$5:$C$27,3,FALSE)*25.4/1000","v":5.2577999999999993E-2},"m",null,null,null,"f left",{"$f":"1/(P28)^0.5","v":7.1144939984553224},null,null,null,"Velocity","Pressure","Velocity","Pressure","Pressure"]
[null,null,"Fittings",null,null,null,null,null,"Velocity",{"$f":"E15/(PI()/4*J16^2)/3600","v":0.47337053069713464},"m/s",null,null,null,"f right",{"$f":"-2*LOG(P12/(3.7*J29*0.3048)+2.51/(J32*(P28)^0.5))","v":7.1132995165712689},null,null,0.5,0.9,0.13700000000000001,4.5,0.34300000000000003,0.68600000000000005]
[null,null,null,null,"Qty","K","DP",null,"Velocity acceptance",{"$f":"IF(E50<=18,4.5,6)","v":4.5},"m/s","(max)",null,null,"f left/f right",{"$f":"P29/P30","v":1.0001679223377662},"Goal seek",null,0.75,0.9,0.13700000000000001,4.5,0.34300000000000003,0.68600000000000005]
[null,null,"Elbow 90 LR",{"$f":"C32&$E$28","v":"Elbow 90 LR2"},4,{"$f":"VLOOKUP(D32,'K-value'!$D$48:$E$124,2,FALSE)","v":0.3},{"$f":"E32*F32*$J$17^2/(2*9.8)*$E$16*9.8/10^5","v":5.8242785053699982E-4},null,"Reynold number",{"$f":"E16*J31*J29/E19","v":872302.58042553172},null,null,null,null,"psi/100 ft",{"$f":"0.000336*P28*P14^2/(J29*1000/25.4)^5/P15","v":8.1946214409786153E-2},null,null,1,0.9,0.13700000000000001,4.5,0.34300000000000003,0.68600000000000005]
[null,null,"Elbow 45 LR","Elbow 45 LR2",null,{"$f":"VLOOKUP(D33,'K-value'!$D$48:$E$124,2,FALSE)","v":0.3},0,null,"Pipe DP",{"$f":"P34","v":1.8541545481443149E-2},"bar/100m",null,null,null,"psi/ft",{"$f":"P32/100","v":8.1946214409786154E-4},null,null,1.5,0.9,0.13700000000000001,4.5,0.34300000000000003,0.68600000000000005]
[null,null,"Tee thru","Tee thru2",null,{"$f":"VLOOKUP(D34,'K-value'!$D$48:$E$124,2,FALSE)","v":0.38},0,null,"Pipe DP acceptance",{"$f":"IF(E49<=49,0.343,0.686)","v":0.34300000000000003},"bar/100m",null,null,null,"bar/100 m",{"$f":"P33*100/14.5/0.3048","v":1.8541545481443149E-2},null,null,2,0.9,0.13700000000000001,4.5,0.34300000000000003,0.68600000000000005]
[null,null,"Tee branch","Tee branch2",null,{"$f":"VLOOKUP(D35,'K-value'!$D$48:$E$124,2,FALSE)","v":1.1399999999999999},0,null,"Static head",{"$f":"E15*9.8*E50/10^5","v":1.0878000000000001E-3},"bar","note 1",null,null,null,null,null,null,3,1.2,0.13700000000000001,4.5,0.34300000000000003,0.68600000000000005]
[null,null,"Ball valve","Ball valve2",1,{"$f":"VLOOKUP(D36,'K-value'!$D$48:$E$124,2,FALSE)","v":0.06},2.9121392526849994E-5,null,"Line losses",{"$f":"J33*E51/100","v":5.5624636444329446E-3},"bar",null,null,null,null,null,null,null,4,1.2,0.13700000000000001,4.5,0.34300000000000003,0.68600000000000005]
[null,null,"Butterfly valve","Butterfly valve2",null,{"$f":"VLOOKUP(D37,'K-value'!$D$48:$E$124,2,FALSE)","v":0.86},0,null,"Fitting & eqp losses",{"$f":"G70+G72","v":1.0060456010885741},"bar",null,null,null,"NPSHA calculation",null,null,null,6,1.2,0.13700000000000001,4.5,0.34300000000000003,0.68600000000000005]
[null,null,"Gate valve","Gate valve2",null,{"$f":"VLOOKUP(D38,'K-value'!$D$48:$E$124,2,FALSE)","v":0.15},0,null,"Discharge Pressure",{"$f":"E49+J35+J36+J37","v":9.0126958647330078},"barg",null,null,null,"HA",{"$f":"(E24+1.01)*100000/(E16*9.81)","v":70.828662406593224},"m",null,8,1.5,0.22500000000000001,4.5,0.34300000000000003,0.68600000000000005]
[null,null,"Globe valve","Globe valve2",null,{"$f":"VLOOKUP(D39,'K-value'!$D$48:$E$124,2,FALSE)","v":6.5},0,null,"Result",{"$f":"IF(AND(J30<J31,J33<J34),\"OK\",\"NOT OK\")","v":"OK"},null,null,null,null,"HZ",{"$f":"E26","v":0.4},"m",null,10,1.5,0.22500000000000001,4.5,0.34300000000000003,0.68600000000000005]
[null,null,"Check valve","Check valve2",null,{"$f":"VLOOKUP(D40,'K-value'!$D$48:$E$124,2,FALSE)","v":1.9},0,null,null,null,null,null,null,null,"HF",{"$f":"SUM(J23:J24)*-1","v":-6.6118195219169035E-2},null,null,12,1.5,0.22500000000000001,4.5,0.34300000000000003,0.68600000000000005]
[null,null,"Plug valve","Plug valve2",null,{"$f":"VLOOKUP(D41,'K-value'!$D$48:$E$124,2,FALSE)","v":1.71},0,null,"Pump Data",null,null,null,null,null,"HV",0,null,null,16,1.5,0.22500000000000001,4.5,0.34300000000000003,0.68600000000000005]
[null,null,"Pipe entrance","Pipe entrance2",1,{"$f":"VLOOKUP(D42,'K-value'!$D$48:$E$124,2,FALSE)","v":0.78},3.7857810284904999E-4,null,"Suction Pressure",{"$f":"J25","v":1.950863244780831},"barg",null,null,null,"HVP",{"$f":"E20*10^5/(E16*9.8)*-1","v":-28.789077958053024},"m",null,18,1.5,0.22500000000000001,4.5,0.34300000000000003,0.68600000000000005]
[null,null,"Suction strainer","Suction strainer2",1,null,{"$f":"0.05*E43","v":0.05},null,"Discharge Pressure",{"$f":"J38","v":9.0126958647330078},"barg",null,null,null,"NPSHA",{"$f":"SUM(P38:P42)","v":42.373466253321027},"m",null,20,1.8,0.22500000000000001,6,0.34300000000000003,0.68600000000000005]
[null,null,"Total, barg",null,null,null,{"$f":"SUM(G32:G43)","v":5.0990127345912906E-2},null,"Selected disc. Pressure",10,"barg"]
[null,null,"Contingency",null,null,null,0.2,null,"Differential Pressure",{"$f":"J44-J42","v":8.0491367552191697},"bar"]
[null,null,"Total + Contingency",null,null,null,{"$f":"(1+G45)*G44","v":6.1188152815095487E-2},null,"Differential Head",{"$f":"J45*10^5/(E16*9.8)","v":189.59844995993669},"m"]
[null,null,null,null,null,null,null,null,"Hydraulic Power",{"$f":"E16*9.8*J46*E15/3600000","v":0.82727238873085918},"kW"]
[null,null,"DISCHARGE",null,null,null,null,null,"Pump BHP",{"$f":"J47/E21","v":1.8383830860685759},"kW"]
[null,null,"Target Pressure ",null,{"$f":"VLOOKUP(E11,'Data pompa'!$B$5:$R$24,3,FALSE)","v":8},"barg",null,null,"NPSHa",{"$f":"P43","v":42.373466253321027},"m"]
[null,null,"Static head",null,3,"m","note 2",null,"NPSHr",{"$f":"J49-1","v":41.373466253321027},"m"]
[null,null,"Length",null,30,"m"]
[null,null,"Pipe size",null,{"$f":"VLOOKUP(E11,'Data pompa'!$B$5:$R$24,17,FALSE)","v":2},"in",null,null,"Shut in Pressure"]
[null,null,"Schedule",null,40,null,null,null,"P shut in",{"$f":"E25+1.3*J45","v":15.463877781784921},"barg"]
[null,null,"Fittings"]
[null,null,null,null,"Qty","K","DP"]
[null,null,"Elbow 90 LR",{"$f":"C56&$E$52","v":"Elbow 90 LR2"},7,{"$f":"VLOOKUP(D56,'K-value'!$D$48:$E$124,2,FALSE)","v":0.3},{"$f":"E56*F56*$J$17^2/(2*9.8)*$E$16*9.8/10^5","v":1.0192487384397498E-3}]
[null,null,"Elbow 45 LR","Elbow 45 LR2",null,{"$f":"VLOOKUP(D57,'K-value'!$D$48:$E$124,2,FALSE)","v":0.3},0]
[null,null,"Tee thru","Tee thru2",null,{"$f":"VLOOKUP(D58,'K-value'!$D$48:$E$124,2,FALSE)","v":0.38},0]
[null,null,"Tee branch","Tee branch2",2,{"$f":"VLOOKUP(D59,'K-value'!$D$48:$E$124,2,FALSE)","v":1.1399999999999999},1.1066129160202999E-3]
[null,null,"Ball valve","Ball valve2",5,{"$f":"VLOOKUP(D60,'K-value'!$D$48:$E$124,2,FALSE)","v":0.06},1.4560696263424996E-4]
[null,null,"Butterfly valve","Butterfly valve2",null,{"$f":"VLOOKUP(D61,'K-value'!$D$48:$E$124,2,FALSE)","v":0.86},0]
[null,null,"Gate valve","Gate valve2",null,{"$f":"VLOOKUP(D62,'K-value'!$D$48:$E$124,2,FALSE)","v":0.15},0]
[null,null,"Globe valve","Globe valve2",null,{"$f":"VLOOKUP(D63,'K-value'!$D$48:$E$124,2,FALSE)","v":6.5},0,null,"Note:"]
[null,null,"Check valve","Check valve2",3,{"$f":"VLOOKUP(D64,'K-value'!$D$48:$E$124,2,FALSE)","v":1.9},2.7665322900507494E-3]
[null,null,"Plug valve","Plug valve2",null,{"$f":"VLOOKUP(D65,'K-value'!$D$48:$E$124,2,FALSE)","v":1.71},0,null,"1. Discharge liquid level is assumed 3 m above grade elevation"]
[null,null,"Pipe entrance","Pipe entrance2",null,{"$f":"VLOOKUP(D66,'K-value'!$D$48:$E$124,2,FALSE)","v":0.78},0]
[null,null,"Flow orifice","Flow orifice2",1,null,0.25]
[null,null,"Total, barg",null,null,null,{"$f":"SUM(G56:G67)","v":0.25503800090714507}]
[null,null,"Contingency",null,null,null,0.2]
[null,null,"Total + contingency, barg",null,null,null,{"$f":"G68*(1+G69)","v":0.30604560108857409}]
[null,null,"Pressure Loss due to Equipment"]
[null,null,"AAV",null,null,null,0.7]

{"sheet":"Nunukan","index":12,"n_rows":72,"n_cols":24,"rows_kept":72,"cut":false,"hidden":true,"merged":[[0,5,3,10],[26,21,26,23],[26,19,27,20],[26,18,27,18]]}
[null,null,null,null,null,"PUMP SIZING"]
[]
[]
[]
[null,null,"Project: LNG Regasification in Central Region of Indonesia"]
[]
[null,null,"Equipment Design Group",null,"1-2","MMSCFD"]
[null,null,"Equipment Design",null,1.92,"MMSCFD"]
[null,null,"Tag No:",null,"NNK-G-001A/B"]
[null,null,"Description:",null,"LNG Pump"]
[null,null,"Location:",null,"Nunukan 2",null,null,null,null,null,null,null,null,null,"Pipe roughness",0.05,"mm"]
[null,null,null,null,null,null,null,null,null,null,null,null,null,null,null,{"$f":"P11/1000/3.28","v":1.5243902439024392E-5},"ft"]
[]
[null,null,"DATA",null,null,null,null,null,"RESULTS",null,null,null,null,null,"Mass flow",{"$f":"E15*E16/0.45","v":3561.8666666666668},"lb/hr"]
[null,null,"Flow rate",null,{"$f":"VLOOKUP(E11,'Data pompa'!$B$5:$R$24,8,FALSE)","v":3.7},"m3/h",null,null,"Suction Hydraulic",null,null,null,null,null,"Rho",{"$f":"E16/16.02","v":27.04119850187266},"lb/ft3"]
[null,null,"Density",null,{"$f":"VLOOKUP(E11,'Data pompa'!$B$5:$R$24,13,FALSE)","v":433.2},"kg/m3",null,null,"Pipe ID",{"$f":"VLOOKUP(E28,'Pipe size sch 40'!$A$5:$C$27,3,FALSE)*25.4/1000","v":5.2577999999999993E-2},"m"]
[null,null,"Flow temperature",null,{"$f":"VLOOKUP(E11,'Data pompa'!$B$5:$R$24,12,FALSE)","v":-158.88},"deg C",null,null,"Velocity",{"$f":"E15/(PI()/4*J16^2)/3600","v":0.47337053069713464},"m/s",null,null,null,"Side Calculation (Suction)"]
[null,null,"Viscocity",null,{"$f":"VLOOKUP(E11,'Data pompa'!$B$5:$R$24,14,FALSE)","v":0.11749999999999999},"cP",null,null,"Velocity acceptance",{"$f":"IF(E28<=2,0.9,IF(OR(E28>=3,E28<=6),1.2,IF(OR(E28>=8,E28<=18),1.5,1.8)))","v":0.9},"m/s","(max)",null,null,"f tebakan",2.1012449397256494E-2]
[null,null,null,null,{"$f":"E18*10^-3","v":1.175E-4},"Nm2/s",null,null,"Reynold number",{"$f":"E16*J18*J16/E19","v":174460.51608510636},null,null,null,null,"f left",{"$f":"1/(P18)^0.5","v":6.8986110499783502}]
[null,null,"Vapor pressure",null,{"$f":"VLOOKUP(E11,'Data pompa'!$B$5:$R$24,15,FALSE)","v":1.2222},"bara",null,null,"Pipe DP",{"$f":"P24","v":1.9720169616294171E-2},"bar/100m",null,null,null,"f right",{"$f":"-2*LOG(P12/(3.7*J16*0.3048)+2.51/(J19*(P18)^0.5))","v":6.8962806531927914}]
[null,null,"Pump efficiency",null,0.45,null,null,null,"Pipe DP acceptance",{"$f":"IF(E28<=6,0.137,0.225)","v":0.13700000000000001},"bar/100m",null,null,null,"f left/f right",{"$f":"P19/P20","v":1.0003379208159806},"Goal seek"]
[null,null,null,null,null,null,null,null,"Static head",{"$f":"E16*9.8*E26/10^5","v":1.9104120000000002E-2},"bar",null,null,null,"psi/100 ft",{"$f":"0.000336*P18*P14^2/(J16*1000/25.4)^5/P15","v":8.7155261636173723E-2}]
[null,null,"SUCTION",null,null,null,null,null,"Pipe friction loss",{"$f":"J20*E27/100","v":1.1832101769776502E-2},"bar",null,null,null,"psi/ft",{"$f":"P22/100","v":8.715526163617372E-4}]
[null,null,"Pressure at Vessel (min)",null,2,"barg",null,null,"Fitting friction loss",{"$f":"G46","v":6.2271468617094303E-2},"bar",null,null,null,"bar/100 m",{"$f":"P23*100/14.5/0.3048","v":1.9720169616294171E-2}]
[null,null,"Pressure at Vessel (max)",null,5,"barg",null,null,"Suction Pressure",{"$f":"E24+J22-SUM(J23:J24)","v":1.9450005496131293},"barg"]
[null,null,"Static head",null,{"$f":"VLOOKUP(E11,'Data pompa'!$B$5:$S$27,18,FALSE)/1000","v":0.45},"m",null,null,"Result",{"$f":"IF(AND(J17<J18,J20<J21),\"OK\",\"NOT OK\")","v":"OK"}]
[null,null,"Length",null,60,"m","assumption",null,null,null,null,null,null,null,"Side Calculation (Discharge)",null,null,null,null,"Suction",null,"Discharge"]
[null,null,"Pipe size",null,2,"in",null,null,"Discharge Hydraulic",null,null,null,null,null,"f tebakan",1.9756589002857098E-2,null,null,null,null,null,null,"< 49 barg","> 49 barg"]
[null,null,"Schedule",null,40,null,null,null,"Pipe ID",{"$f":"VLOOKUP(E52,'Pipe size sch 40'!$A$5:$C$27,3,FALSE)*25.4/1000","v":5.2577999999999993E-2},"m",null,null,null,"f left",{"$f":"1/(P28)^0.5","v":7.1144939984553224},null,null,null,"Velocity","Pressure","Velocity","Pressure","Pressure"]
[null,null,"Fittings",null,null,null,null,null,"Velocity",{"$f":"E15/(PI()/4*J16^2)/3600","v":0.47337053069713464},"m/s",null,null,null,"f right",{"$f":"-2*LOG(P12/(3.7*J29*0.3048)+2.51/(J32*(P28)^0.5))","v":7.1132995165712689},null,null,0.5,0.9,0.13700000000000001,4.5,0.34300000000000003,0.68600000000000005]
[null,null,null,null,"Qty","K","DP",null,"Velocity acceptance",{"$f":"IF(E50<=18,4.5,6)","v":4.5},"m/s","(max)",null,null,"f left/f right",{"$f":"P29/P30","v":1.0001679223377662},"Goal seek",null,0.75,0.9,0.13700000000000001,4.5,0.34300000000000003,0.68600000000000005]
[null,null,"Elbow 90 LR",{"$f":"C32&$E$28","v":"Elbow 90 LR2"},10,{"$f":"VLOOKUP(D32,'K-value'!$D$48:$E$124,2,FALSE)","v":0.3},{"$f":"E32*F32*$J$17^2/(2*9.8)*$E$16*9.8/10^5","v":1.4560696263424997E-3},null,"Reynold number",{"$f":"E16*J31*J29/E19","v":872302.58042553172},null,null,null,null,"psi/100 ft",{"$f":"0.000336*P28*P14^2/(J29*1000/25.4)^5/P15","v":8.1946214409786153E-2},null,null,1,0.9,0.13700000000000001,4.5,0.34300000000000003,0.68600000000000005]
[null,null,"Elbow 45 LR","Elbow 45 LR2",null,{"$f":"VLOOKUP(D33,'K-value'!$D$48:$E$124,2,FALSE)","v":0.3},0,null,"Pipe DP",{"$f":"P34","v":1.8541545481443149E-2},"bar/100m",null,null,null,"psi/ft",{"$f":"P32/100","v":8.1946214409786154E-4},null,null,1.5,0.9,0.13700000000000001,4.5,0.34300000000000003,0.68600000000000005]
[null,null,"Tee thru","Tee thru2",null,{"$f":"VLOOKUP(D34,'K-value'!$D$48:$E$124,2,FALSE)","v":0.38},0,null,"Pipe DP acceptance",{"$f":"IF(E49<=49,0.343,0.686)","v":0.34300000000000003},"bar/100m",null,null,null,"bar/100 m",{"$f":"P33*100/14.5/0.3048","v":1.8541545481443149E-2},null,null,2,0.9,0.13700000000000001,4.5,0.34300000000000003,0.68600000000000005]
[null,null,"Tee branch","Tee branch2",null,{"$f":"VLOOKUP(D35,'K-value'!$D$48:$E$124,2,FALSE)","v":1.1399999999999999},0,null,"Static head",{"$f":"E15*9.8*E50/10^5","v":1.0878000000000001E-3},"bar","note 1",null,null,null,null,null,null,3,1.2,0.13700000000000001,4.5,0.34300000000000003,0.68600000000000005]
[null,null,"Ball valve","Ball valve2",2,{"$f":"VLOOKUP(D36,'K-value'!$D$48:$E$124,2,FALSE)","v":0.06},5.8242785053699988E-5,null,"Line losses",{"$f":"J33*E51/100","v":5.5624636444329446E-3},"bar",null,null,null,null,null,null,null,4,1.2,0.13700000000000001,4.5,0.34300000000000003,0.68600000000000005]
[null,null,"Butterfly valve","Butterfly valve2",null,{"$f":"VLOOKUP(D37,'K-value'!$D$48:$E$124,2,FALSE)","v":0.86},0,null,"Fitting & eqp losses",{"$f":"G70+G72","v":1.0065697861540572},"bar",null,null,null,"NPSHA calculation",null,null,null,6,1.2,0.13700000000000001,4.5,0.34300000000000003,0.68600000000000005]
[null,null,"Gate valve","Gate valve2",null,{"$f":"VLOOKUP(D38,'K-value'!$D$48:$E$124,2,FALSE)","v":0.15},0,null,"Discharge Pressure",{"$f":"E49+J35+J36+J37","v":9.0132200497984911},"barg",null,null,null,"HA",{"$f":"(E24+1.01)*100000/(E16*9.81)","v":70.828662406593224},"m",null,8,1.5,0.22500000000000001,4.5,0.34300000000000003,0.68600000000000005]
[null,null,"Globe valve","Globe valve2",null,{"$f":"VLOOKUP(D39,'K-value'!$D$48:$E$124,2,FALSE)","v":6.5},0,null,"Result",{"$f":"IF(AND(J30<J31,J33<J34),\"OK\",\"NOT OK\")","v":"OK"},null,null,null,null,"HZ",{"$f":"E26","v":0.45},"m",null,10,1.5,0.22500000000000001,4.5,0.34300000000000003,0.68600000000000005]
[null,null,"Check valve","Check valve2",null,{"$f":"VLOOKUP(D40,'K-value'!$D$48:$E$124,2,FALSE)","v":1.9},0,null,null,null,null,null,null,null,"HF",{"$f":"SUM(J23:J24)*-1","v":-7.4103570386870807E-2},null,null,12,1.5,0.22500000000000001,4.5,0.34300000000000003,0.68600000000000005]
[null,null,"Plug valve","Plug valve2",null,{"$f":"VLOOKUP(D41,'K-value'!$D$48:$E$124,2,FALSE)","v":1.71},0,null,"Pump Data",null,null,null,null,null,"HV",0,null,null,16,1.5,0.22500000000000001,4.5,0.34300000000000003,0.68600000000000005]
[null,null,"Pipe entrance","Pipe entrance2",1,{"$f":"VLOOKUP(D42,'K-value'!$D$48:$E$124,2,FALSE)","v":0.78},3.7857810284904999E-4,null,"Suction Pressure",{"$f":"J25","v":1.9450005496131293},"barg",null,null,null,"HVP",{"$f":"E20*10^5/(E16*9.8)*-1","v":-28.789077958053024},"m",null,18,1.5,0.22500000000000001,4.5,0.34300000000000003,0.68600000000000005]
[null,null,"Suction strainer","Suction strainer2",1,null,{"$f":"0.05*E43","v":0.05},null,"Discharge Pressure",{"$f":"J38","v":9.0132200497984911},"barg",null,null,null,"NPSHA",{"$f":"SUM(P38:P42)","v":42.415480878153332},"m",null,20,1.8,0.22500000000000001,6,0.34300000000000003,0.68600000000000005]
[null,null,"Total, barg",null,null,null,{"$f":"SUM(G32:G43)","v":5.1892890514245255E-2},null,"Selected disc. Pressure",10,"barg"]
[null,null,"Contingency",null,null,null,0.2,null,"Differential Pressure",{"$f":"J44-J42","v":8.0549994503868714},"bar"]
[null,null,"Total + Contingency",null,null,null,{"$f":"(1+G45)*G44","v":6.2271468617094303E-2},null,"Differential Head",{"$f":"J45*10^5/(E16*9.8)","v":189.73654649751421},"m"]
[null,null,null,null,null,null,null,null,"Hydraulic Power",{"$f":"E16*9.8*J46*E15/3600000","v":0.8278749435119841},"kW"]
[null,null,"DISCHARGE",null,null,null,null,null,"Pump BHP",{"$f":"J47/E21","v":1.8397220966932979},"kW"]
[null,null,"Target Pressure ",null,{"$f":"VLOOKUP(E11,'Data pompa'!$B$5:$R$24,3,FALSE)","v":8},"barg",null,null,"NPSHa",{"$f":"P43","v":42.415480878153332},"m"]
[null,null,"Static head",null,3,"m","note 2",null,"NPSHr",{"$f":"J49-1","v":41.415480878153332},"m"]
[null,null,"Length",null,30,"m"]
[null,null,"Pipe size",null,{"$f":"VLOOKUP(E11,'Data pompa'!$B$5:$R$24,17,FALSE)","v":2},"in",null,null,"Shut in Pressure"]
[null,null,"Schedule",null,40,null,null,null,"P shut in",{"$f":"E25+1.3*J45","v":15.471499285502933},"barg"]
[null,null,"Fittings"]
[null,null,null,null,"Qty","K","DP"]
[null,null,"Elbow 90 LR",{"$f":"C56&$E$52","v":"Elbow 90 LR2"},10,{"$f":"VLOOKUP(D56,'K-value'!$D$48:$E$124,2,FALSE)","v":0.3},{"$f":"E56*F56*$J$17^2/(2*9.8)*$E$16*9.8/10^5","v":1.4560696263424997E-3}]
[null,null,"Elbow 45 LR","Elbow 45 LR2",null,{"$f":"VLOOKUP(D57,'K-value'!$D$48:$E$124,2,FALSE)","v":0.3},0]
[null,null,"Tee thru","Tee thru2",null,{"$f":"VLOOKUP(D58,'K-value'!$D$48:$E$124,2,FALSE)","v":0.38},0]
[null,null,"Tee branch","Tee branch2",2,{"$f":"VLOOKUP(D59,'K-value'!$D$48:$E$124,2,FALSE)","v":1.1399999999999999},1.1066129160202999E-3]
[null,null,"Ball valve","Ball valve2",5,{"$f":"VLOOKUP(D60,'K-value'!$D$48:$E$124,2,FALSE)","v":0.06},1.4560696263424996E-4]
[null,null,"Butterfly valve","Butterfly valve2",null,{"$f":"VLOOKUP(D61,'K-value'!$D$48:$E$124,2,FALSE)","v":0.86},0]
[null,null,"Gate valve","Gate valve2",null,{"$f":"VLOOKUP(D62,'K-value'!$D$48:$E$124,2,FALSE)","v":0.15},0]
[null,null,"Globe valve","Globe valve2",null,{"$f":"VLOOKUP(D63,'K-value'!$D$48:$E$124,2,FALSE)","v":6.5},0,null,"Note:"]
[null,null,"Check valve","Check valve2",3,{"$f":"VLOOKUP(D64,'K-value'!$D$48:$E$124,2,FALSE)","v":1.9},2.7665322900507494E-3]
[null,null,"Plug valve","Plug valve2",null,{"$f":"VLOOKUP(D65,'K-value'!$D$48:$E$124,2,FALSE)","v":1.71},0,null,"1. Discharge liquid level is assumed 3 m above grade elevation"]
[null,null,"Pipe entrance","Pipe entrance2",null,{"$f":"VLOOKUP(D66,'K-value'!$D$48:$E$124,2,FALSE)","v":0.78},0]
[null,null,"Flow orifice","Flow orifice2",1,null,0.25]
[null,null,"Total, barg",null,null,null,{"$f":"SUM(G56:G67)","v":0.25547482179504782}]
[null,null,"Contingency",null,null,null,0.2]
[null,null,"Total + contingency, barg",null,null,null,{"$f":"G68*(1+G69)","v":0.30656978615405739}]
[null,null,"Pressure Loss due to Equipment"]
[null,null,"AAV",null,null,null,0.7]

{"sheet":"Nunukan (filling)","index":13,"n_rows":72,"n_cols":24,"rows_kept":72,"cut":false,"hidden":true,"merged":[[0,5,3,10],[26,21,26,23],[26,19,27,20],[26,18,27,18]]}
[null,null,null,null,null,"PUMP SIZING"]
[]
[]
[]
[null,null,"Project: LNG Regasification in Central Region of Indonesia"]
[]
[null,null,"Equipment Design Group",null,"1-2","MMSCFD"]
[null,null,"Equipment Design",null,1.92,"MMSCFD"]
[null,null,"Tag No:",null,"NNK-G-002A/B"]
[null,null,"Description:",null,"LNG Filling Pump"]
[null,null,"Location:",null,"Nunukan 2",null,null,null,null,null,null,null,null,null,"Pipe roughness",0.05,"mm"]
[null,null,null,null,null,null,null,null,null,null,null,null,null,null,null,{"$f":"P11/1000/3.28","v":1.5243902439024392E-5},"ft"]
[]
[null,null,"DATA",null,null,null,null,null,"RESULTS",null,null,null,null,null,"Mass flow",{"$f":"E15*E16/0.45","v":15402.666666666666},"lb/hr"]
[null,null,"Flow rate",null,16,"m3/h",null,null,"Suction Hydraulic",null,null,null,null,null,"Rho",{"$f":"E16/16.02","v":27.04119850187266},"lb/ft3"]
[null,null,"Density",null,{"$f":"VLOOKUP(E11,'Data pompa'!$B$5:$R$24,13,FALSE)","v":433.2},"kg/m3",null,null,"Pipe ID",{"$f":"VLOOKUP(E28,'Pipe size sch 40'!$A$5:$C$27,3,FALSE)*25.4/1000","v":0.10236199999999999},"m"]
[null,null,"Flow temperature",null,{"$f":"VLOOKUP(E11,'Data pompa'!$B$5:$R$24,12,FALSE)","v":-158.88},"deg C",null,null,"Velocity",{"$f":"E15/(PI()/4*J16^2)/3600","v":0.54007002660361192},"m/s",null,null,null,"Side Calculation (Suction)"]
[null,null,"Viscocity",null,{"$f":"VLOOKUP(E11,'Data pompa'!$B$5:$R$24,14,FALSE)","v":0.11749999999999999},"cP",null,null,"Velocity acceptance",{"$f":"IF(E28<=2,0.9,IF(OR(E28>=3,E28<=6),1.2,IF(OR(E28>=8,E28<=18),1.5,1.8)))","v":1.2},"m/s","(max)",null,null,"f tebakan",1.8779010052540571E-2]
[null,null,null,null,{"$f":"E18*10^-3","v":1.175E-4},"Nm2/s",null,null,"Reynold number",{"$f":"E16*J18*J16/E19","v":452866.91131914884},null,null,null,null,"f left",{"$f":"1/(P18)^0.5","v":7.2973243949137707}]
[null,null,"Vapor pressure",null,{"$f":"VLOOKUP(E11,'Data pompa'!$B$5:$R$24,15,FALSE)","v":1.2222},"bara",null,null,"Pipe DP",{"$f":"P24","v":1.1783374309831379E-2},"bar/100m",null,null,null,"f right",{"$f":"-2*LOG(P12/(3.7*J16*0.3048)+2.51/(J19*(P18)^0.5))","v":7.5264425362587266}]
[null,null,"Pump efficiency",null,0.45,null,null,null,"Pipe DP acceptance",{"$f":"IF(E28<=6,0.137,0.225)","v":0.13700000000000001},"bar/100m",null,null,null,"f left/f right",{"$f":"P19/P20","v":0.96955824212552255},"Goal seek"]
[null,null,null,null,null,null,null,null,"Static head",{"$f":"E16*9.8*E26/10^5","v":1.9104120000000002E-2},"bar",null,null,null,"psi/100 ft",{"$f":"0.000336*P18*P14^2/(J16*1000/25.4)^5/P15","v":5.2077801099730765E-2}]
[null,null,"SUCTION",null,null,null,null,null,"Pipe friction loss",{"$f":"J20*E27/100","v":7.0700245858988271E-3},"bar",null,null,null,"psi/ft",{"$f":"P22/100","v":5.2077801099730762E-4}]
[null,null,"Pressure at Vessel (min)",null,2,"barg",null,null,"Fitting friction loss",{"$f":"G46","v":6.5845130696551499E-2},"bar",null,null,null,"bar/100 m",{"$f":"P23*100/14.5/0.3048","v":1.1783374309831379E-2}]
[null,null,"Pressure at Vessel (max)",null,5,"barg",null,null,"Suction Pressure",{"$f":"E24+J22-SUM(J23:J24)","v":1.9461889647175499},"barg"]
[null,null,"Static head",null,{"$f":"VLOOKUP(E11,'Data pompa'!$B$5:$S$27,18,FALSE)/1000","v":0.45},"m",null,null,"Result",{"$f":"IF(AND(J17<J18,J20<J21),\"OK\",\"NOT OK\")","v":"OK"}]
[null,null,"Length",null,60,"m","assumption",null,null,null,null,null,null,null,"Side Calculation (Discharge)",null,null,null,null,"Suction",null,"Discharge"]
[null,null,"Pipe size",null,4,"in",null,null,"Discharge Hydraulic",null,null,null,null,null,"f tebakan",1.9756589002857098E-2,null,null,null,null,null,null,"< 49 barg","> 49 barg"]
[null,null,"Schedule",null,40,null,null,null,"Pipe ID",{"$f":"VLOOKUP(E52,'Pipe size sch 40'!$A$5:$C$27,3,FALSE)*25.4/1000","v":5.2577999999999993E-2},"m",null,null,null,"f left",{"$f":"1/(P28)^0.5","v":7.1144939984553224},null,null,null,"Velocity","Pressure","Velocity","Pressure","Pressure"]
[null,null,"Fittings",null,null,null,null,null,"Velocity",{"$f":"E15/(PI()/4*J16^2)/3600","v":0.54007002660361192},"m/s",null,null,null,"f right",{"$f":"-2*LOG(P12/(3.7*J29*0.3048)+2.51/(J32*(P28)^0.5))","v":7.1132995165712689},null,null,0.5,0.9,0.13700000000000001,4.5,0.34300000000000003,0.68600000000000005]
[null,null,null,null,"Qty","K","DP",null,"Velocity acceptance",{"$f":"IF(E50<=18,4.5,6)","v":4.5},"m/s","(max)",null,null,"f left/f right",{"$f":"P29/P30","v":1.0001679223377662},"Goal seek",null,0.75,0.9,0.13700000000000001,4.5,0.34300000000000003,0.68600000000000005]
[null,null,"Elbow 90 LR",{"$f":"C32&$E$28","v":"Elbow 90 LR4"},4,{"$f":"VLOOKUP(D32,'K-value'!$D$48:$E$124,2,FALSE)","v":0.27},{"$f":"E32*F32*$J$17^2/(2*9.8)*$E$16*9.8/10^5","v":6.823109762511474E-4},null,"Reynold number",{"$f":"E16*J31*J29/E19","v":872302.58042553172},null,null,null,null,"psi/100 ft",{"$f":"0.000336*P28*P14^2/(J29*1000/25.4)^5/P15","v":1.5323762519287989},null,null,1,0.9,0.13700000000000001,4.5,0.34300000000000003,0.68600000000000005]
[null,null,"Elbow 45 LR","Elbow 45 LR4",null,{"$f":"VLOOKUP(D33,'K-value'!$D$48:$E$124,2,FALSE)","v":0.27},0,null,"Pipe DP",{"$f":"P34","v":0.34672283734473686},"bar/100m",null,null,null,"psi/ft",{"$f":"P32/100","v":1.5323762519287989E-2},null,null,1.5,0.9,0.13700000000000001,4.5,0.34300000000000003,0.68600000000000005]
[null,null,"Tee thru","Tee thru4",null,{"$f":"VLOOKUP(D34,'K-value'!$D$48:$E$124,2,FALSE)","v":0.34},0,null,"Pipe DP acceptance",{"$f":"IF(E49<=49,0.343,0.686)","v":0.34300000000000003},"bar/100m",null,null,null,"bar/100 m",{"$f":"P33*100/14.5/0.3048","v":0.34672283734473686},null,null,2,0.9,0.13700000000000001,4.5,0.34300000000000003,0.68600000000000005]
[null,null,"Tee branch","Tee branch4",null,{"$f":"VLOOKUP(D35,'K-value'!$D$48:$E$124,2,FALSE)","v":1.02},0,null,"Static head",{"$f":"E15*9.8*E50/10^5","v":4.7040000000000007E-3},"bar","note 1",null,null,null,null,null,null,3,1.2,0.13700000000000001,4.5,0.34300000000000003,0.68600000000000005]
[null,null,"Ball valve","Ball valve4",1,{"$f":"VLOOKUP(D36,'K-value'!$D$48:$E$124,2,FALSE)","v":0.05},3.1588471122738305E-5,null,"Line losses",{"$f":"J33*E51/100","v":0.10401685120342105},"bar",null,null,null,null,null,null,null,4,1.2,0.13700000000000001,4.5,0.34300000000000003,0.68600000000000005]
[null,null,"Butterfly valve","Butterfly valve4",null,{"$f":"VLOOKUP(D37,'K-value'!$D$48:$E$124,2,FALSE)","v":0.77},0,null,"Fitting & eqp losses",{"$f":"G70+G72","v":0.30266859404044894},"bar",null,null,null,"NPSHA calculation",null,null,null,6,1.2,0.13700000000000001,4.5,0.34300000000000003,0.68600000000000005]
[null,null,"Gate valve","Gate valve4",null,{"$f":"VLOOKUP(D38,'K-value'!$D$48:$E$124,2,FALSE)","v":0.14000000000000001},0,null,"Discharge Pressure",{"$f":"E49+J35+J36+J37","v":2.41138944524387},"barg",null,null,null,"HA",{"$f":"(E24+1.01)*100000/(E16*9.81)","v":70.828662406593224},"m",null,8,1.5,0.22500000000000001,4.5,0.34300000000000003,0.68600000000000005]
[null,null,"Globe valve","Globe valve4",1,{"$f":"VLOOKUP(D39,'K-value'!$D$48:$E$124,2,FALSE)","v":5.8},3.664262650237643E-3,null,"Result",{"$f":"IF(AND(J30<J31,J33<J34),\"OK\",\"NOT OK\")","v":"NOT OK"},null,null,null,null,"HZ",{"$f":"E26","v":0.45},"m",null,10,1.5,0.22500000000000001,4.5,0.34300000000000003,0.68600000000000005]
[null,null,"Check valve","Check valve4",null,{"$f":"VLOOKUP(D40,'K-value'!$D$48:$E$124,2,FALSE)","v":1.7},0,null,null,null,null,null,null,null,"HF",{"$f":"SUM(J23:J24)*-1","v":-7.2915155282450322E-2},null,null,12,1.5,0.22500000000000001,4.5,0.34300000000000003,0.68600000000000005]
[null,null,"Plug valve","Plug valve4",null,{"$f":"VLOOKUP(D41,'K-value'!$D$48:$E$124,2,FALSE)","v":1.53},0,null,"Pump Data",null,null,null,null,null,"HV",0,null,null,16,1.5,0.22500000000000001,4.5,0.34300000000000003,0.68600000000000005]
[null,null,"Pipe entrance","Pipe entrance4",1,{"$f":"VLOOKUP(D42,'K-value'!$D$48:$E$124,2,FALSE)","v":0.78},4.9278014951471762E-4,null,"Suction Pressure",{"$f":"J25","v":1.9461889647175499},"barg",null,null,null,"HVP",{"$f":"E20*10^5/(E16*9.8)*-1","v":-28.789077958053024},"m",null,18,1.5,0.22500000000000001,4.5,0.34300000000000003,0.68600000000000005]
[null,null,"Suction strainer","Suction strainer4",1,null,{"$f":"0.05*E43","v":0.05},null,"Discharge Pressure",{"$f":"J38","v":2.41138944524387},"barg",null,null,null,"NPSHA",{"$f":"SUM(P38:P42)","v":42.416669293257755},"m",null,20,1.8,0.22500000000000001,6,0.34300000000000003,0.68600000000000005]
[null,null,"Total, barg",null,null,null,{"$f":"SUM(G32:G43)","v":5.4870942247126249E-2},null,"Selected disc. Pressure",4,"barg"]
[null,null,"Contingency",null,null,null,0.2,null,"Differential Pressure",{"$f":"J44-J42","v":2.0538110352824503},"bar"]
[null,null,"Total + Contingency",null,null,null,{"$f":"(1+G45)*G44","v":6.5845130696551499E-2},null,"Differential Head",{"$f":"J45*10^5/(E16*9.8)","v":48.377782691749346},"m"]
[null,null,null,null,null,null,null,null,"Hydraulic Power",{"$f":"E16*9.8*J46*E15/3600000","v":0.91280490456997787},"kW"]
[null,null,"DISCHARGE",null,null,null,null,null,"Pump BHP",{"$f":"J47/E21","v":2.0284553434888397},"kW"]
[null,null,"Target Pressure ",null,2,"barg",null,null,"NPSHa",{"$f":"P43","v":42.416669293257755},"m"]
[null,null,"Static head",null,3,"m","note 2",null,"NPSHr",{"$f":"J49-1","v":41.416669293257755},"m"]
[null,null,"Length",null,30,"m"]
[null,null,"Pipe size",null,{"$f":"VLOOKUP(E11,'Data pompa'!$B$5:$R$24,17,FALSE)","v":2},"in",null,null,"Shut in Pressure"]
[null,null,"Schedule",null,40,null,null,null,"P shut in",{"$f":"E25+1.3*J45","v":7.6699543458671862},"barg"]
[null,null,"Fittings"]
[null,null,null,null,"Qty","K","DP"]
[null,null,"Elbow 90 LR",{"$f":"C56&$E$52","v":"Elbow 90 LR2"},5,{"$f":"VLOOKUP(D56,'K-value'!$D$48:$E$124,2,FALSE)","v":0.3},{"$f":"E56*F56*$J$17^2/(2*9.8)*$E$16*9.8/10^5","v":9.4765413368214926E-4}]
[null,null,"Elbow 45 LR","Elbow 45 LR2",null,{"$f":"VLOOKUP(D57,'K-value'!$D$48:$E$124,2,FALSE)","v":0.3},0]
[null,null,"Tee thru","Tee thru2",null,{"$f":"VLOOKUP(D58,'K-value'!$D$48:$E$124,2,FALSE)","v":0.38},0]
[null,null,"Tee branch","Tee branch2",null,{"$f":"VLOOKUP(D59,'K-value'!$D$48:$E$124,2,FALSE)","v":1.1399999999999999},0]
[null,null,"Ball valve","Ball valve2",2,{"$f":"VLOOKUP(D60,'K-value'!$D$48:$E$124,2,FALSE)","v":0.06},7.5812330694571931E-5]
[null,null,"Butterfly valve","Butterfly valve2",null,{"$f":"VLOOKUP(D61,'K-value'!$D$48:$E$124,2,FALSE)","v":0.86},0]
[null,null,"Gate valve","Gate valve2",null,{"$f":"VLOOKUP(D62,'K-value'!$D$48:$E$124,2,FALSE)","v":0.15},0]
[null,null,"Globe valve","Globe valve2",null,{"$f":"VLOOKUP(D63,'K-value'!$D$48:$E$124,2,FALSE)","v":6.5},0,null,"Note:"]
[null,null,"Check valve","Check valve2",1,{"$f":"VLOOKUP(D64,'K-value'!$D$48:$E$124,2,FALSE)","v":1.9},1.2003619026640555E-3]
[null,null,"Plug valve","Plug valve2",null,{"$f":"VLOOKUP(D65,'K-value'!$D$48:$E$124,2,FALSE)","v":1.71},0,null,"1. Discharge liquid level is assumed 3 m above grade elevation"]
[null,null,"Pipe entrance","Pipe entrance2",null,{"$f":"VLOOKUP(D66,'K-value'!$D$48:$E$124,2,FALSE)","v":0.78},0]
[null,null,"Flow orifice","Flow orifice2",1,null,0.25]
[null,null,"Total, barg",null,null,null,{"$f":"SUM(G56:G67)","v":0.25222382836704077}]
[null,null,"Contingency",null,null,null,0.2]
[null,null,"Total + contingency, barg",null,null,null,{"$f":"G68*(1+G69)","v":0.30266859404044894}]
[null,null,"Pressure Loss due to Equipment"]
[null,null,"AAV",null,null,null,0]

{"sheet":"Flores","index":14,"n_rows":72,"n_cols":24,"rows_kept":72,"cut":false,"hidden":true,"merged":[[0,5,3,10],[26,21,26,23],[26,19,27,20],[26,18,27,18]]}
[null,null,null,null,null,"PUMP SIZING"]
[]
[]
[]
[null,null,"Project: LNG Regasification in Central Region of Indonesia"]
[]
[null,null,"Equipment Design Group",null,"4-6","MMSCFD"]
[null,null,"Equipment Design",null,3.84,"MMSCFD"]
[null,null,"Tag No:",null,"MPF-G-001A/B"]
[null,null,"Description:",null,"LNG Pump"]
[null,null,"Location:",null,"Mobile PP Flores",null,null,null,null,null,null,null,null,null,"Pipe roughness",0.05,"mm"]
[null,null,null,null,null,null,null,null,null,null,null,null,null,null,null,{"$f":"P11/1000/3.28","v":1.5243902439024392E-5},"ft"]
[]
[null,null,"DATA",null,null,null,null,null,"RESULTS",null,null,null,null,null,"Mass flow",{"$f":"E15*E16/0.45","v":7117.3911111111101},"lb/hr"]
[null,null,"Flow rate",null,{"$f":"'Data pompa'!I15","v":7.39},"m3/h",null,null,"Suction Hydraulic",null,null,null,null,null,"Rho",{"$f":"E16/16.02","v":27.053682896379524},"lb/ft3"]
[null,null,"Density",null,{"$f":"VLOOKUP(E11,'Data pompa'!$B$5:$R$24,13,FALSE)","v":433.4},"kg/m3",null,null,"Pipe ID",{"$f":"VLOOKUP(E28,'Pipe size sch 40'!$A$5:$C$27,3,FALSE)*25.4/1000","v":7.7977999999999992E-2},"m"]
[null,null,"Flow temperature",null,{"$f":"VLOOKUP(E11,'Data pompa'!$B$5:$R$24,12,FALSE)","v":-158.9},"deg C",null,null,"Velocity",{"$f":"E15/(PI()/4*J16^2)/3600","v":0.42984103379440486},"m/s",null,null,null,"Side Calculation (Suction)"]
[null,null,"Viscocity",null,{"$f":"VLOOKUP(E11,'Data pompa'!$B$5:$R$24,14,FALSE)","v":0.1176},"cP",null,null,"Velocity acceptance",{"$f":"IF(E28<=2,0.9,IF(OR(E28>=3,E28<=6),1.2,IF(OR(E28>=8,E28<=18),1.5,1.8)))","v":1.2},"m/s","(max)",null,null,"f tebakan",1.881888944440193E-2]
[null,null,null,null,{"$f":"E18*10^-3","v":1.176E-4},"Nm2/s",null,null,"Reynold number",{"$f":"E16*J18*J16/E19","v":344853.72653061216},null,null,null,null,"f left",{"$f":"1/(P18)^0.5","v":7.2895883593749033}]
[null,null,"Vapor pressure",null,{"$f":"VLOOKUP(E11,'Data pompa'!$B$5:$R$24,15,FALSE)","v":1.2194},"bara",null,null,"Pipe DP",{"$f":"P24","v":9.8236683918171575E-3},"bar/100m",null,null,null,"f right",{"$f":"-2*LOG(P12/(3.7*J16*0.3048)+2.51/(J19*(P18)^0.5))","v":7.2902459273762492}]
[null,null,"Pump efficiency",null,0.45,null,null,null,"Pipe DP acceptance",{"$f":"IF(E28<=6,0.137,0.225)","v":0.13700000000000001},"bar/100m",null,null,null,"f left/f right",{"$f":"P19/P20","v":0.99990980167090437},"Goal seek"]
[null,null,null,null,null,null,null,null,"Static head",{"$f":"E16*9.8*E26/10^5","v":1.6989279999999999E-2},"bar",null,null,null,"psi/100 ft",{"$f":"0.000336*P18*P14^2/(J16*1000/25.4)^5/P15","v":4.341668482447511E-2}]
[null,null,"SUCTION",null,null,null,null,null,"Pipe friction loss",{"$f":"J20*E27/100","v":5.8942010350902943E-3},"bar",null,null,null,"psi/ft",{"$f":"P22/100","v":4.3416684824475112E-4}]
[null,null,"Pressure at Vessel (min)",null,2,"barg",null,null,"Fitting friction loss",{"$f":"G46","v":6.1816133215400353E-2},"bar",null,null,null,"bar/100 m",{"$f":"P23*100/14.5/0.3048","v":9.8236683918171575E-3}]
[null,null,"Pressure at Vessel (max)",null,5,"barg",null,null,"Suction Pressure",{"$f":"E24+J22-SUM(J23:J24)","v":1.9492789457495097},"barg"]
[null,null,"Static head",null,{"$f":"VLOOKUP(E11,'Data pompa'!$B$5:$S$27,18,FALSE)/1000","v":0.4},"m",null,null,"Result",{"$f":"IF(AND(J17<J18,J20<J21),\"OK\",\"NOT OK\")","v":"OK"}]
[null,null,"Length",null,60,"m","assumption",null,null,null,null,null,null,null,"Side Calculation (Discharge)",null,null,null,null,"Suction",null,"Discharge"]
[null,null,"Pipe size",null,{"$f":"VLOOKUP(E11,'Data pompa'!$B$5:$R$24,16,FALSE)","v":3},"in",null,null,"Discharge Hydraulic",null,null,null,null,null,"f tebakan",1.8000041136656725E-2,null,null,null,null,null,null,"< 49 barg","> 49 barg"]
[null,null,"Schedule",null,40,null,null,null,"Pipe ID",{"$f":"VLOOKUP(E52,'Pipe size sch 40'!$A$5:$C$27,3,FALSE)*25.4/1000","v":7.7977999999999992E-2},"m",null,null,null,"f left",{"$f":"1/(P28)^0.5","v":7.4535514079434515},null,null,null,"Velocity","Pressure","Velocity","Pressure","Pressure"]
[null,null,"Fittings",null,null,null,null,null,"Velocity",{"$f":"E15/(PI()/4*J16^2)/3600","v":0.42984103379440486},"m/s",null,null,null,"f right",{"$f":"-2*LOG(P12/(3.7*J29*0.3048)+2.51/(J32*(P28)^0.5))","v":7.4525617796455794},null,null,0.5,0.9,0.13700000000000001,4.5,0.34300000000000003,0.68600000000000005]
[null,null,null,null,"Qty","K","DP",null,"Velocity acceptance",{"$f":"IF(E50<=18,4.5,6)","v":4.5},"m/s","(max)",null,null,"f left/f right",{"$f":"P29/P30","v":1.0001327903514432},"Goal seek",null,0.75,0.9,0.13700000000000001,4.5,0.34300000000000003,0.68600000000000005]
[null,null,"Elbow 90 LR",{"$f":"C32&$E$28","v":"Elbow 90 LR3"},10,{"$f":"VLOOKUP(D32,'K-value'!$D$48:$E$124,2,FALSE)","v":0.28999999999999998},{"$f":"E32*F32*$J$17^2/(2*9.8)*$E$16*9.8/10^5","v":1.1611080962656538E-3},null,"Reynold number",{"$f":"E16*J31*J29/E19","v":1293201.4744897957},null,null,null,null,"psi/100 ft",{"$f":"0.000336*P28*P14^2/(J29*1000/25.4)^5/P15","v":4.1527536211244699E-2},null,null,1,0.9,0.13700000000000001,4.5,0.34300000000000003,0.68600000000000005]
[null,null,"Elbow 45 LR","Elbow 45 LR3",null,{"$f":"VLOOKUP(D33,'K-value'!$D$48:$E$124,2,FALSE)","v":0.28999999999999998},0,null,"Pipe DP",{"$f":"P34","v":9.3962205202381879E-3},"bar/100m",null,null,null,"psi/ft",{"$f":"P32/100","v":4.1527536211244701E-4},null,null,1.5,0.9,0.13700000000000001,4.5,0.34300000000000003,0.68600000000000005]
[null,null,"Tee thru","Tee thru3",null,{"$f":"VLOOKUP(D34,'K-value'!$D$48:$E$124,2,FALSE)","v":0.36},0,null,"Pipe DP acceptance",{"$f":"IF(E49<=49,0.343,0.686)","v":0.68600000000000005},"bar/100m",null,null,null,"bar/100 m",{"$f":"P33*100/14.5/0.3048","v":9.3962205202381879E-3},null,null,2,0.9,0.13700000000000001,4.5,0.34300000000000003,0.68600000000000005]
[null,null,"Tee branch","Tee branch3",null,{"$f":"VLOOKUP(D35,'K-value'!$D$48:$E$124,2,FALSE)","v":1.08},0,null,"Static head",{"$f":"E15*9.8*E50/10^5","v":2.1726599999999999E-3},"bar","note 1",null,null,null,null,null,null,3,1.2,0.13700000000000001,4.5,0.34300000000000003,0.68600000000000005]
[null,null,"Ball valve","Ball valve3",2,{"$f":"VLOOKUP(D36,'K-value'!$D$48:$E$124,2,FALSE)","v":0.05},4.003821021605703E-5,null,"Line losses",{"$f":"J33*E51/100","v":2.8188661560714563E-3},"bar",null,null,null,null,null,null,null,4,1.2,0.13700000000000001,4.5,0.34300000000000003,0.68600000000000005]
[null,null,"Butterfly valve","Butterfly valve3",null,{"$f":"VLOOKUP(D37,'K-value'!$D$48:$E$124,2,FALSE)","v":0.81},0,null,"Fitting & eqp losses",{"$f":"G70+G72","v":1.0051697337030974},"bar",null,null,null,"NPSHA calculation",null,null,null,6,1.2,0.13700000000000001,4.5,0.34300000000000003,0.68600000000000005]
[null,null,"Gate valve","Gate valve3",null,{"$f":"VLOOKUP(D38,'K-value'!$D$48:$E$124,2,FALSE)","v":0.14000000000000001},0,null,"Discharge Pressure",{"$f":"E49+J35+J36+J37","v":51.010161259859167},"barg",null,null,null,"HA",{"$f":"(E24+1.01)*100000/(E16*9.81)","v":70.795977283193793},"m",null,8,1.5,0.22500000000000001,4.5,0.34300000000000003,0.68600000000000005]
[null,null,"Globe valve","Globe valve3",null,{"$f":"VLOOKUP(D39,'K-value'!$D$48:$E$124,2,FALSE)","v":6.1},0,null,"Result",{"$f":"IF(AND(J30<J31,J33<J34),\"OK\",\"NOT OK\")","v":"OK"},null,null,null,null,"HZ",{"$f":"E26","v":0.4},"m",null,10,1.5,0.22500000000000001,4.5,0.34300000000000003,0.68600000000000005]
[null,null,"Check valve","Check valve3",null,{"$f":"VLOOKUP(D40,'K-value'!$D$48:$E$124,2,FALSE)","v":1.8},0,null,null,null,null,null,null,null,"HF",{"$f":"SUM(J23:J24)*-1","v":-6.7710334250490653E-2},null,null,12,1.5,0.22500000000000001,4.5,0.34300000000000003,0.68600000000000005]
[null,null,"Plug valve","Plug valve3",null,{"$f":"VLOOKUP(D41,'K-value'!$D$48:$E$124,2,FALSE)","v":1.62},0,null,"Pump Data",null,null,null,null,null,"HV",0,null,null,16,1.5,0.22500000000000001,4.5,0.34300000000000003,0.68600000000000005]
[null,null,"Pipe entrance","Pipe entrance3",1,{"$f":"VLOOKUP(D42,'K-value'!$D$48:$E$124,2,FALSE)","v":0.78},3.1229803968524491E-4,null,"Suction Pressure",{"$f":"J25","v":1.9492789457495097},"barg",null,null,null,"HVP",{"$f":"E20*10^5/(E16*9.8)*-1","v":-28.709868811391654},"m",null,18,1.5,0.22500000000000001,4.5,0.34300000000000003,0.68600000000000005]
[null,null,"Suction strainer","Suction strainer3",1,null,{"$f":"0.05*E43","v":0.05},null,"Discharge Pressure",{"$f":"J38","v":51.010161259859167},"barg",null,null,null,"NPSHA",{"$f":"SUM(P38:P42)","v":42.418398137551648},"m",null,20,1.8,0.22500000000000001,6,0.34300000000000003,0.68600000000000005]
[null,null,"Total, barg",null,null,null,{"$f":"SUM(G32:G43)","v":5.1513444346166962E-2},null,"Selected disc. Pressure",52,"barg"]
[null,null,"Contingency",null,null,null,0.2,null,"Differential Pressure",{"$f":"J44-J42","v":50.050721054250488},"bar"]
[null,null,"Total + Contingency",null,null,null,{"$f":"(1+G45)*G44","v":6.1816133215400353E-2},null,"Differential Head",{"$f":"J45*10^5/(E16*9.8)","v":1178.4071144686648},"m"]
[null,null,null,null,null,null,null,null,"Hydraulic Power",{"$f":"E16*9.8*J46*E15/3600000","v":10.274300794191975},"kW"]
[null,null,"DISCHARGE",null,null,null,null,null,"Pump BHP",{"$f":"J47/E21","v":22.831779542648832},"kW"]
[null,null,"Target Pressure ",null,{"$f":"VLOOKUP(E11,'Data pompa'!$B$5:$R$24,3,FALSE)","v":50},"barg",null,null,"NPSHa",{"$f":"P43","v":42.418398137551648},"m"]
[null,null,"Static head",null,3,"m","note 2",null,"NPSHr",{"$f":"J49-1","v":41.418398137551648},"m"]
[null,null,"Length",null,30,"m"]
[null,null,"Pipe size",null,{"$f":"VLOOKUP(E11,'Data pompa'!$B$5:$R$24,17,FALSE)","v":3},"in",null,null,"Shut in Pressure"]
[null,null,"Schedule",null,40,null,null,null,"P shut in",{"$f":"E25+1.3*J45","v":70.065937370525631},"barg"]
[null,null,"Fittings"]
[null,null,null,null,"Qty","K","DP"]
[null,null,"Elbow 90 LR",{"$f":"C56&$E$52","v":"Elbow 90 LR3"},10,{"$f":"VLOOKUP(D56,'K-value'!$D$48:$E$124,2,FALSE)","v":0.28999999999999998},{"$f":"E56*F56*$J$17^2/(2*9.8)*$E$16*9.8/10^5","v":1.1611080962656538E-3}]
[null,null,"Elbow 45 LR","Elbow 45 LR3",null,{"$f":"VLOOKUP(D57,'K-value'!$D$48:$E$124,2,FALSE)","v":0.28999999999999998},0]
[null,null,"Tee thru","Tee thru3",null,{"$f":"VLOOKUP(D58,'K-value'!$D$48:$E$124,2,FALSE)","v":0.36},0]
[null,null,"Tee branch","Tee branch3",2,{"$f":"VLOOKUP(D59,'K-value'!$D$48:$E$124,2,FALSE)","v":1.08},8.6482534066683204E-4]
[null,null,"Ball valve","Ball valve3",6,{"$f":"VLOOKUP(D60,'K-value'!$D$48:$E$124,2,FALSE)","v":0.05},1.201146306481711E-4]
[null,null,"Butterfly valve","Butterfly valve3",null,{"$f":"VLOOKUP(D61,'K-value'!$D$48:$E$124,2,FALSE)","v":0.81},0]
[null,null,"Gate valve","Gate valve3",null,{"$f":"VLOOKUP(D62,'K-value'!$D$48:$E$124,2,FALSE)","v":0.14000000000000001},0]
[null,null,"Globe valve","Globe valve3",null,{"$f":"VLOOKUP(D63,'K-value'!$D$48:$E$124,2,FALSE)","v":6.1},0,null,"Note:"]
[null,null,"Check valve","Check valve3",3,{"$f":"VLOOKUP(D64,'K-value'!$D$48:$E$124,2,FALSE)","v":1.8},2.1620633516670797E-3]
[null,null,"Plug valve","Plug valve3",null,{"$f":"VLOOKUP(D65,'K-value'!$D$48:$E$124,2,FALSE)","v":1.62},0,null,"1. Discharge liquid level is assumed 3 m above grade elevation"]
[null,null,"Pipe entrance","Pipe entrance3",null,{"$f":"VLOOKUP(D66,'K-value'!$D$48:$E$124,2,FALSE)","v":0.78},0]
[null,null,"Flow orifice","Flow orifice3",1,null,0.25]
[null,null,"Total, barg",null,null,null,{"$f":"SUM(G56:G67)","v":0.25430811141924775}]
[null,null,"Contingency",null,null,null,0.2]
[null,null,"Total + contingency, barg",null,null,null,{"$f":"G68*(1+G69)","v":0.3051697337030973}]
[null,null,"Pressure Loss due to Equipment"]
[null,null,"AAV",null,null,null,0.7]

{"sheet":"Bau-bau","index":15,"n_rows":72,"n_cols":24,"rows_kept":72,"cut":false,"hidden":true,"merged":[[0,5,3,10],[26,21,26,23],[26,19,27,20],[26,18,27,18]]}
[null,null,null,null,null,"PUMP SIZING"]
[]
[]
[]
[null,null,"Project: LNG Regasification in Central Region of Indonesia"]
[]
[null,null,"Equipment Design Group",null,"6-8","MMSCFD"]
[null,null,"Equipment Design",null,5.76,"MMSCFD"]
[null,null,"Tag No:",null,"BAU-G-001A/B"]
[null,null,"Description:",null,"LNG Pump"]
[null,null,"Location:",null,"Bau-bau",null,null,null,null,null,null,null,null,null,"Pipe roughness",0.05,"mm"]
[null,null,null,null,null,null,null,null,null,null,null,null,null,null,null,{"$f":"P11/1000/3.28","v":1.5243902439024392E-5},"ft"]
[]
[null,null,"DATA",null,null,null,null,null,"RESULTS",null,null,null,null,null,"Mass flow",{"$f":"E15*E16/0.45","v":10678.437777777779},"lb/hr"]
[null,null,"Flow rate",null,{"$f":"VLOOKUP(E11,'Data pompa'!$B$5:$R$24,8,FALSE)","v":11.09},"m3/h",null,null,"Suction Hydraulic",null,null,null,null,null,"Rho",{"$f":"E16/16.02","v":27.047440699126092},"lb/ft3"]
[null,null,"Density",null,{"$f":"VLOOKUP(E11,'Data pompa'!$B$5:$R$24,13,FALSE)","v":433.3},"kg/m3",null,null,"Pipe ID",{"$f":"VLOOKUP(E28,'Pipe size sch 40'!$A$5:$C$27,3,FALSE)*25.4/1000","v":7.7977999999999992E-2},"m"]
[null,null,"Flow temperature",null,{"$f":"VLOOKUP(E11,'Data pompa'!$B$5:$R$24,12,FALSE)","v":-158.91},"deg C",null,null,"Velocity",{"$f":"E15/(PI()/4*J16^2)/3600","v":0.64505237683084571},"m/s",null,null,null,"Side Calculation (Suction)"]
[null,null,"Viscocity",null,{"$f":"VLOOKUP(E11,'Data pompa'!$B$5:$R$24,14,FALSE)","v":0.1176},"cP",null,null,"Velocity acceptance",{"$f":"IF(E28<=2,0.9,IF(OR(E28>=3,E28<=6),1.2,IF(OR(E28>=8,E28<=18),1.5,1.8)))","v":1.2},"m/s","(max)",null,null,"f tebakan",1.881888944440193E-2]
[null,null,null,null,{"$f":"E18*10^-3","v":1.176E-4},"Nm2/s",null,null,"Reynold number",{"$f":"E16*J18*J16/E19","v":344774.15714285715},null,null,null,null,"f left",{"$f":"1/(P18)^0.5","v":7.2895883593749033}]
[null,null,"Vapor pressure",null,{"$f":"VLOOKUP(E11,'Data pompa'!$B$5:$R$24,15,FALSE)","v":1.2194},"bara",null,null,"Pipe DP",{"$f":"P24","v":2.2118093597496894E-2},"bar/100m",null,null,null,"f right",{"$f":"-2*LOG(P12/(3.7*J16*0.3048)+2.51/(J19*(P18)^0.5))","v":7.2901989510943421}]
[null,null,"Pump efficiency",null,0.45,null,null,null,"Pipe DP acceptance",{"$f":"IF(E28<=6,0.137,0.225)","v":0.13700000000000001},"bar/100m",null,null,null,"f left/f right",{"$f":"P19/P20","v":0.9999162448482497},"Goal seek"]
[null,null,null,null,null,null,null,null,"Static head",{"$f":"E16*9.8*E26/10^5","v":1.9108530000000002E-2},"bar",null,null,null,"psi/100 ft",{"$f":"0.000336*P18*P14^2/(J16*1000/25.4)^5/P15","v":9.7753126463497278E-2}]
[null,null,"SUCTION",null,null,null,null,null,"Pipe friction loss",{"$f":"J20*E27/100","v":1.3398256377619719E-2},"bar",null,null,null,"psi/ft",{"$f":"P22/100","v":9.7753126463497281E-4}]
[null,null,"Pressure at Vessel (min)",null,2,"barg",null,null,"Fitting friction loss",{"$f":"G46","v":6.4089043200726101E-2},"bar",null,null,null,"bar/100 m",{"$f":"P23*100/14.5/0.3048","v":2.2118093597496894E-2}]
[null,null,"Pressure at Vessel (max)",null,5,"barg",null,null,"Suction Pressure",{"$f":"E24+J22-SUM(J23:J24)","v":1.9416212304216542},"barg"]
[null,null,"Static head",null,{"$f":"VLOOKUP(E11,'Data pompa'!$B$5:$S$27,18,FALSE)/1000","v":0.45},"m",null,null,"Result",{"$f":"IF(AND(J17<J18,J20<J21),\"OK\",\"NOT OK\")","v":"OK"}]
[null,null,"Length",null,{"$f":"(8408+1000+23274+5300+8924+3670)/1000+10","v":60.576000000000001},"m","assumption",null,null,null,null,null,null,null,"Side Calculation (Discharge)",null,null,null,null,"Suction",null,"Discharge"]
[null,null,"Pipe size",null,{"$f":"VLOOKUP(E11,'Data pompa'!$B$5:$R$24,16,FALSE)","v":3},"in",null,null,"Discharge Hydraulic",null,null,null,null,null,"f tebakan",1.9756814892317631E-2,null,null,null,null,null,null,"< 49 barg","> 49 barg"]
[null,null,"Schedule",null,40,null,null,null,"Pipe ID",{"$f":"VLOOKUP(E52,'Pipe size sch 40'!$A$5:$C$27,3,FALSE)*25.4/1000","v":5.2577999999999993E-2},"m",null,null,null,"f left",{"$f":"1/(P28)^0.5","v":7.1144533265703611},null,null,null,"Velocity","Pressure","Velocity","Pressure","Pressure"]
[null,null,"Fittings",null,null,null,null,null,"Velocity",{"$f":"E15/(PI()/4*J16^2)/3600","v":0.64505237683084571},"m/s",null,null,null,"f right",{"$f":"-2*LOG(P12/(3.7*J29*0.3048)+2.51/(J32*(P28)^0.5))","v":7.1132601590421114},null,null,0.5,0.9,0.13700000000000001,4.5,0.34300000000000003,0.68600000000000005]
[null,null,null,null,"Qty","K","DP",null,"Velocity acceptance",{"$f":"IF(E50<=18,4.5,6)","v":4.5},"m/s","(max)",null,null,"f left/f right",{"$f":"P29/P30","v":1.0001677384914331},"Goal seek",null,0.75,0.9,0.13700000000000001,4.5,0.34300000000000003,0.68600000000000005]
[null,null,"Elbow 90 LR",{"$f":"C32&$E$28","v":"Elbow 90 LR3"},10,{"$f":"VLOOKUP(D32,'K-value'!$D$48:$E$124,2,FALSE)","v":0.28999999999999998},{"$f":"E32*F32*$J$17^2/(2*9.8)*$E$16*9.8/10^5","v":2.6142471962314119E-3},null,"Reynold number",{"$f":"E16*J31*J29/E19","v":871762.01785714272},null,null,null,null,"psi/100 ft",{"$f":"0.000336*P28*P14^2/(J29*1000/25.4)^5/P15","v":0.73636603173177595},null,null,1,0.9,0.13700000000000001,4.5,0.34300000000000003,0.68600000000000005]
[null,null,"Elbow 45 LR","Elbow 45 LR3",null,{"$f":"VLOOKUP(D33,'K-value'!$D$48:$E$124,2,FALSE)","v":0.28999999999999998},0,null,"Pipe DP",{"$f":"P34","v":0.16661372787849033},"bar/100m",null,null,null,"psi/ft",{"$f":"P32/100","v":7.3636603173177599E-3},null,null,1.5,0.9,0.13700000000000001,4.5,0.34300000000000003,0.68600000000000005]
[null,null,"Tee thru","Tee thru3",null,{"$f":"VLOOKUP(D34,'K-value'!$D$48:$E$124,2,FALSE)","v":0.36},0,null,"Pipe DP acceptance",{"$f":"IF(E49<=49,0.343,0.686)","v":0.34300000000000003},"bar/100m",null,null,null,"bar/100 m",{"$f":"P33*100/14.5/0.3048","v":0.16661372787849033},null,null,2,0.9,0.13700000000000001,4.5,0.34300000000000003,0.68600000000000005]
[null,null,"Tee branch","Tee branch3",null,{"$f":"VLOOKUP(D35,'K-value'!$D$48:$E$124,2,FALSE)","v":1.08},0,null,"Static head",{"$f":"E15*9.8*E50/10^5","v":3.2604599999999997E-3},"bar","note 1",null,null,null,null,null,null,3,1.2,0.13700000000000001,4.5,0.34300000000000003,0.68600000000000005]
[null,null,"Ball valve","Ball valve3",2,{"$f":"VLOOKUP(D36,'K-value'!$D$48:$E$124,2,FALSE)","v":0.05},9.0146455042462506E-5,null,"Line losses",{"$f":"J33*E51/100","v":4.9984118363547096E-2},"bar",null,null,null,null,null,null,null,4,1.2,0.13700000000000001,4.5,0.34300000000000003,0.68600000000000005]
[null,null,"Butterfly valve","Butterfly valve3",null,{"$f":"VLOOKUP(D37,'K-value'!$D$48:$E$124,2,FALSE)","v":0.81},0,null,"Fitting & eqp losses",{"$f":"G70+G72","v":1.0112286424400891},"bar",null,null,null,"NPSHA calculation",null,null,null,6,1.2,0.13700000000000001,4.5,0.34300000000000003,0.68600000000000005]
[null,null,"Gate valve","Gate valve3",null,{"$f":"VLOOKUP(D38,'K-value'!$D$48:$E$124,2,FALSE)","v":0.14000000000000001},0,null,"Discharge Pressure",{"$f":"E49+J35+J36+J37","v":9.0644732208036363},"barg",null,null,null,"HA",{"$f":"(E24+1.01)*100000/(E16*9.81)","v":70.812316073242982},"m",null,8,1.5,0.22500000000000001,4.5,0.34300000000000003,0.68600000000000005]
[null,null,"Globe valve","Globe valve3",null,{"$f":"VLOOKUP(D39,'K-value'!$D$48:$E$124,2,FALSE)","v":6.1},0,null,"Result",{"$f":"IF(AND(J30<J31,J33<J34),\"OK\",\"NOT OK\")","v":"OK"},null,null,null,null,"HZ",{"$f":"E26","v":0.45},"m",null,10,1.5,0.22500000000000001,4.5,0.34300000000000003,0.68600000000000005]
[null,null,"Check valve","Check valve3",null,{"$f":"VLOOKUP(D40,'K-value'!$D$48:$E$124,2,FALSE)","v":1.8},0,null,null,null,null,null,null,null,"HF",{"$f":"SUM(J23:J24)*-1","v":-7.7487299578345825E-2},null,null,12,1.5,0.22500000000000001,4.5,0.34300000000000003,0.68600000000000005]
[null,null,"Plug valve","Plug valve3",null,{"$f":"VLOOKUP(D41,'K-value'!$D$48:$E$124,2,FALSE)","v":1.62},0,null,"Pump Data",null,null,null,null,null,"HV",0,null,null,16,1.5,0.22500000000000001,4.5,0.34300000000000003,0.68600000000000005]
[null,null,"Pipe entrance","Pipe entrance3",1,{"$f":"VLOOKUP(D42,'K-value'!$D$48:$E$124,2,FALSE)","v":0.78},7.0314234933120732E-4,null,"Suction Pressure",{"$f":"J25","v":1.9416212304216542},"barg",null,null,null,"HVP",{"$f":"E20*10^5/(E16*9.8)*-1","v":-28.716494675414591},"m",null,18,1.5,0.22500000000000001,4.5,0.34300000000000003,0.68600000000000005]
[null,null,"Suction strainer","Suction strainer3",1,null,{"$f":"0.05*E43","v":0.05},null,"Discharge Pressure",{"$f":"J38","v":9.0644732208036363},"barg",null,null,null,"NPSHA",{"$f":"SUM(P38:P42)","v":42.46833409825004},"m",null,20,1.8,0.22500000000000001,6,0.34300000000000003,0.68600000000000005]
[null,null,"Total, barg",null,null,null,{"$f":"SUM(G32:G43)","v":5.3407536000605084E-2},null,"Selected disc. Pressure",10,"barg"]
[null,null,"Contingency",null,null,null,0.2,null,"Differential Pressure",{"$f":"J44-J42","v":8.0583787695783453},"bar"]
[null,null,"Total + Contingency",null,null,null,{"$f":"(1+G45)*G44","v":6.4089043200726101E-2},null,"Differential Head",{"$f":"J45*10^5/(E16*9.8)","v":189.77233969909017},"m"]
[null,null,null,null,null,null,null,null,"Hydraulic Power",{"$f":"E16*9.8*J46*E15/3600000","v":2.4824283487395511},"kW"]
[null,null,"DISCHARGE",null,null,null,null,null,"Pump BHP",{"$f":"J47/E21","v":5.516507441643447},"kW"]
[null,null,"Target Pressure ",null,{"$f":"VLOOKUP(E11,'Data pompa'!$B$5:$R$24,3,FALSE)","v":8},"barg",null,null,"NPSHa",{"$f":"P43","v":42.46833409825004},"m"]
[null,null,"Static head",null,3,"m","note 2",null,"NPSHr",{"$f":"J49-1","v":41.46833409825004},"m"]
[null,null,"Length",null,30,"m"]
[null,null,"Pipe size",null,{"$f":"VLOOKUP(E11,'Data pompa'!$B$5:$R$24,17,FALSE)","v":2},"in",null,null,"Shut in Pressure"]
[null,null,"Schedule",null,40,null,null,null,"P shut in",{"$f":"E25+1.3*J45","v":15.475892400451849},"barg"]
[null,null,"Fittings"]
[null,null,null,null,"Qty","K","DP"]
[null,null,"Elbow 90 LR",{"$f":"C56&$E$52","v":"Elbow 90 LR2"},7,{"$f":"VLOOKUP(D56,'K-value'!$D$48:$E$124,2,FALSE)","v":0.3},{"$f":"E56*F56*$J$17^2/(2*9.8)*$E$16*9.8/10^5","v":1.8930755558917121E-3}]
[null,null,"Elbow 45 LR","Elbow 45 LR2",null,{"$f":"VLOOKUP(D57,'K-value'!$D$48:$E$124,2,FALSE)","v":0.3},0]
[null,null,"Tee thru","Tee thru2",null,{"$f":"VLOOKUP(D58,'K-value'!$D$48:$E$124,2,FALSE)","v":0.38},0]
[null,null,"Tee branch","Tee branch2",2,{"$f":"VLOOKUP(D59,'K-value'!$D$48:$E$124,2,FALSE)","v":1.1399999999999999},2.0553391749681439E-3]
[null,null,"Ball valve","Ball valve2",5,{"$f":"VLOOKUP(D60,'K-value'!$D$48:$E$124,2,FALSE)","v":0.06},2.7043936512738745E-4]
[null,null,"Butterfly valve","Butterfly valve2",null,{"$f":"VLOOKUP(D61,'K-value'!$D$48:$E$124,2,FALSE)","v":0.86},0]
[null,null,"Gate valve","Gate valve2",null,{"$f":"VLOOKUP(D62,'K-value'!$D$48:$E$124,2,FALSE)","v":0.15},0]
[null,null,"Globe valve","Globe valve2",null,{"$f":"VLOOKUP(D63,'K-value'!$D$48:$E$124,2,FALSE)","v":6.5},0,null,"Note:"]
[null,null,"Check valve","Check valve2",3,{"$f":"VLOOKUP(D64,'K-value'!$D$48:$E$124,2,FALSE)","v":1.9},5.1383479374203607E-3]
[null,null,"Plug valve","Plug valve2",null,{"$f":"VLOOKUP(D65,'K-value'!$D$48:$E$124,2,FALSE)","v":1.71},0,null,"1. Discharge liquid level is assumed 3 m above grade elevation"]
[null,null,"Pipe entrance","Pipe entrance2",null,{"$f":"VLOOKUP(D66,'K-value'!$D$48:$E$124,2,FALSE)","v":0.78},0]
[null,null,"Flow orifice","Flow orifice2",1,null,0.25]
[null,null,"Total, barg",null,null,null,{"$f":"SUM(G56:G67)","v":0.25935720203340762}]
[null,null,"Contingency",null,null,null,0.2]
[null,null,"Total + contingency, barg",null,null,null,{"$f":"G68*(1+G69)","v":0.31122864244008913}]
[null,null,"Pressure Loss due to Equipment"]
[null,null,"AAV",null,null,null,0.7]

{"sheet":"Kupang","index":16,"n_rows":72,"n_cols":24,"rows_kept":72,"cut":false,"hidden":true,"merged":[[0,5,3,10],[26,21,26,23],[26,19,27,20],[26,18,27,18]]}
[null,null,null,null,null,"PUMP SIZING"]
[]
[]
[]
[null,null,"Project: LNG Regasification in Central Region of Indonesia"]
[]
[null,null,"Equipment Design Group",null,"8-10","MMSCFD"]
[null,null,"Equipment Design",null,7.68,"MMSCFD"]
[null,null,"Tag No:",null,"KPP-G-001A/B"]
[null,null,"Description:",null,"LNG Pump"]
[null,null,"Location:",null,"Kupang Peaker",null,null,null,null,null,null,null,null,null,"Pipe roughness",0.05,"mm"]
[null,null,null,null,null,null,null,null,null,null,null,null,null,null,null,{"$f":"P11/1000/3.28","v":1.5243902439024392E-5},"ft"]
[]
[null,null,"DATA",null,null,null,null,null,"RESULTS",null,null,null,null,null,"Mass flow",{"$f":"E15*E16/0.45","v":14231.497777777777},"lb/hr"]
[null,null,"Flow rate",null,{"$f":"VLOOKUP(E11,'Data pompa'!$B$5:$R$24,8,FALSE)","v":14.78},"m3/h",null,null,"Suction Hydraulic",null,null,null,null,null,"Rho",{"$f":"E16/16.02","v":27.047440699126092},"lb/ft3"]
[null,null,"Density",null,{"$f":"VLOOKUP(E11,'Data pompa'!$B$5:$R$24,13,FALSE)","v":433.3},"kg/m3",null,null,"Pipe ID",{"$f":"VLOOKUP(E28,'Pipe size sch 40'!$A$5:$C$27,3,FALSE)*25.4/1000","v":7.7977999999999992E-2},"m"]
[null,null,"Flow temperature",null,{"$f":"VLOOKUP(E11,'Data pompa'!$B$5:$R$24,12,FALSE)","v":-158.91999999999999},"deg C",null,null,"Velocity",{"$f":"E15/(PI()/4*J16^2)/3600","v":0.85968206758880972},"m/s",null,null,null,"Side Calculation (Suction)"]
[null,null,"Viscocity",null,{"$f":"VLOOKUP(E11,'Data pompa'!$B$5:$R$24,14,FALSE)","v":0.1176},"cP",null,null,"Velocity acceptance",{"$f":"IF(E28<=2,0.9,IF(OR(E28>=3,E28<=6),1.2,IF(OR(E28>=8,E28<=18),1.5,1.8)))","v":1.2},"m/s","(max)",null,null,"f tebakan",1.881888944440193E-2]
[null,null,null,null,{"$f":"E18*10^-3","v":1.176E-4},"Nm2/s",null,null,"Reynold number",{"$f":"E16*J18*J16/E19","v":344774.15714285715},null,null,null,null,"f left",{"$f":"1/(P18)^0.5","v":7.2895883593749033}]
[null,null,"Vapor pressure",null,{"$f":"VLOOKUP(E11,'Data pompa'!$B$5:$R$24,15,FALSE)","v":1.2183999999999999},"bara",null,null,"Pipe DP",{"$f":"P24","v":3.9285606960538767E-2},"bar/100m",null,null,null,"f right",{"$f":"-2*LOG(P12/(3.7*J16*0.3048)+2.51/(J19*(P18)^0.5))","v":7.2901989510943421}]
[null,null,"Pump efficiency",null,0.45,null,null,null,"Pipe DP acceptance",{"$f":"IF(E28<=6,0.137,0.225)","v":0.13700000000000001},"bar/100m",null,null,null,"f left/f right",{"$f":"P19/P20","v":0.9999162448482497},"Goal seek"]
[null,null,null,null,null,null,null,null,"Static head",{"$f":"E16*9.8*E26/10^5","v":1.6985360000000001E-2},"bar",null,null,null,"psi/100 ft",{"$f":"0.000336*P18*P14^2/(J16*1000/25.4)^5/P15","v":0.17362666852279715}]
[null,null,"SUCTION",null,null,null,null,null,"Pipe friction loss",{"$f":"J20*E27/100","v":2.3797649272415965E-2},"bar",null,null,null,"psi/ft",{"$f":"P22/100","v":1.7362666852279716E-3}]
[null,null,"Pressure at Vessel (min)",null,2,"barg",null,null,"Fitting friction loss",{"$f":"G46","v":6.7262856688813752E-2},"bar",null,null,null,"bar/100 m",{"$f":"P23*100/14.5/0.3048","v":3.9285606960538767E-2}]
[null,null,"Pressure at Vessel (max)",null,5,"barg",null,null,"Suction Pressure",{"$f":"E24+J22-SUM(J23:J24)","v":1.9259248540387703},"barg"]
[null,null,"Static head",null,{"$f":"VLOOKUP(E11,'Data pompa'!$B$5:$S$27,18,FALSE)/1000","v":0.4},"m",null,null,"Result",{"$f":"IF(AND(J17<J18,J20<J21),\"OK\",\"NOT OK\")","v":"OK"}]
[null,null,"Length",null,{"$f":"(8408+1000+23274+5300+8924+3670)/1000+10","v":60.576000000000001},"m","assumption",null,null,null,null,null,null,null,"Side Calculation (Discharge)",null,null,null,null,"Suction",null,"Discharge"]
[null,null,"Pipe size",null,{"$f":"VLOOKUP(E11,'Data pompa'!$B$5:$R$24,16,FALSE)","v":3},"in",null,null,"Discharge Hydraulic",null,null,null,null,null,"f tebakan",1.8000041136656725E-2,null,null,null,null,null,null,"< 49 barg","> 49 barg"]
[null,null,"Schedule",null,40,null,null,null,"Pipe ID",{"$f":"VLOOKUP(E52,'Pipe size sch 40'!$A$5:$C$27,3,FALSE)*25.4/1000","v":7.7977999999999992E-2},"m",null,null,null,"f left",{"$f":"1/(P28)^0.5","v":7.4535514079434515},null,null,null,"Velocity","Pressure","Velocity","Pressure","Pressure"]
[null,null,"Fittings",null,null,null,null,null,"Velocity",{"$f":"E15/(PI()/4*J16^2)/3600","v":0.85968206758880972},"m/s",null,null,null,"f right",{"$f":"-2*LOG(P12/(3.7*J29*0.3048)+2.51/(J32*(P28)^0.5))","v":7.4525463387164708},null,null,0.5,0.9,0.13700000000000001,4.5,0.34300000000000003,0.68600000000000005]
[null,null,null,null,"Qty","K","DP",null,"Velocity acceptance",{"$f":"IF(E50<=18,4.5,6)","v":4.5},"m/s","(max)",null,null,"f left/f right",{"$f":"P29/P30","v":1.0001348625263502},"Goal seek",null,0.75,0.9,0.13700000000000001,4.5,0.34300000000000003,0.68600000000000005]
[null,null,"Elbow 90 LR",{"$f":"C32&$E$28","v":"Elbow 90 LR3"},10,{"$f":"VLOOKUP(D32,'K-value'!$D$48:$E$124,2,FALSE)","v":0.28999999999999998},{"$f":"E32*F32*$J$17^2/(2*9.8)*$E$16*9.8/10^5","v":4.6433607578394813E-3},null,"Reynold number",{"$f":"E16*J31*J29/E19","v":1292903.0892857143},null,null,null,null,"psi/100 ft",{"$f":"0.000336*P28*P14^2/(J29*1000/25.4)^5/P15","v":0.16607181763112441},null,null,1,0.9,0.13700000000000001,4.5,0.34300000000000003,0.68600000000000005]
[null,null,"Elbow 45 LR","Elbow 45 LR3",null,{"$f":"VLOOKUP(D33,'K-value'!$D$48:$E$124,2,FALSE)","v":0.28999999999999998},0,null,"Pipe DP",{"$f":"P34","v":3.7576209980795638E-2},"bar/100m",null,null,null,"psi/ft",{"$f":"P32/100","v":1.6607181763112441E-3},null,null,1.5,0.9,0.13700000000000001,4.5,0.34300000000000003,0.68600000000000005]
[null,null,"Tee thru","Tee thru3",null,{"$f":"VLOOKUP(D34,'K-value'!$D$48:$E$124,2,FALSE)","v":0.36},0,null,"Pipe DP acceptance",{"$f":"IF(E49<=49,0.343,0.686)","v":0.34300000000000003},"bar/100m",null,null,null,"bar/100 m",{"$f":"P33*100/14.5/0.3048","v":3.7576209980795638E-2},null,null,2,0.9,0.13700000000000001,4.5,0.34300000000000003,0.68600000000000005]
[null,null,"Tee branch","Tee branch3",null,{"$f":"VLOOKUP(D35,'K-value'!$D$48:$E$124,2,FALSE)","v":1.08},0,null,"Static head",{"$f":"E15*9.8*E50/10^5","v":4.3453199999999997E-3},"bar","note 1",null,null,null,null,null,null,3,1.2,0.13700000000000001,4.5,0.34300000000000003,0.68600000000000005]
[null,null,"Ball valve","Ball valve3",2,{"$f":"VLOOKUP(D36,'K-value'!$D$48:$E$124,2,FALSE)","v":0.05},1.6011588820136148E-4,null,"Line losses",{"$f":"J33*E51/100","v":1.1272862994238691E-2},"bar",null,null,null,null,null,null,null,4,1.2,0.13700000000000001,4.5,0.34300000000000003,0.68600000000000005]
[null,null,"Butterfly valve","Butterfly valve3",null,{"$f":"VLOOKUP(D37,'K-value'!$D$48:$E$124,2,FALSE)","v":0.81},0,null,"Fitting & eqp losses",{"$f":"G70+G72","v":1.0165239596623805},"bar",null,null,null,"NPSHA calculation",null,null,null,6,1.2,0.13700000000000001,4.5,0.34300000000000003,0.68600000000000005]
[null,null,"Gate valve","Gate valve3",null,{"$f":"VLOOKUP(D38,'K-value'!$D$48:$E$124,2,FALSE)","v":0.14000000000000001},0,null,"Discharge Pressure",{"$f":"E49+J35+J36+J37","v":9.0321421426566211},"barg",null,null,null,"HA",{"$f":"(E24+1.01)*100000/(E16*9.81)","v":70.812316073242982},"m",null,8,1.5,0.22500000000000001,4.5,0.34300000000000003,0.68600000000000005]
[null,null,"Globe valve","Globe valve3",null,{"$f":"VLOOKUP(D39,'K-value'!$D$48:$E$124,2,FALSE)","v":6.1},0,null,"Result",{"$f":"IF(AND(J30<J31,J33<J34),\"OK\",\"NOT OK\")","v":"OK"},null,null,null,null,"HZ",{"$f":"E26","v":0.4},"m",null,10,1.5,0.22500000000000001,4.5,0.34300000000000003,0.68600000000000005]
[null,null,"Check valve","Check valve3",null,{"$f":"VLOOKUP(D40,'K-value'!$D$48:$E$124,2,FALSE)","v":1.8},0,null,null,null,null,null,null,null,"HF",{"$f":"SUM(J23:J24)*-1","v":-9.1060505961229721E-2},null,null,12,1.5,0.22500000000000001,4.5,0.34300000000000003,0.68600000000000005]
[null,null,"Plug valve","Plug valve3",null,{"$f":"VLOOKUP(D41,'K-value'!$D$48:$E$124,2,FALSE)","v":1.62},0,null,"Pump Data",null,null,null,null,null,"HV",0,null,null,16,1.5,0.22500000000000001,4.5,0.34300000000000003,0.68600000000000005]
[null,null,"Pipe entrance","Pipe entrance3",1,{"$f":"VLOOKUP(D42,'K-value'!$D$48:$E$124,2,FALSE)","v":0.78},1.2489039279706194E-3,null,"Suction Pressure",{"$f":"J25","v":1.9259248540387703},"barg",null,null,null,"HVP",{"$f":"E20*10^5/(E16*9.8)*-1","v":-28.692944983209067},"m",null,18,1.5,0.22500000000000001,4.5,0.34300000000000003,0.68600000000000005]
[null,null,"Suction strainer","Suction strainer3",1,null,{"$f":"0.05*E43","v":0.05},null,"Discharge Pressure",{"$f":"J38","v":9.0321421426566211},"barg",null,null,null,"NPSHA",{"$f":"SUM(P38:P42)","v":42.428310584072698},"m",null,20,1.8,0.22500000000000001,6,0.34300000000000003,0.68600000000000005]
[null,null,"Total, barg",null,null,null,{"$f":"SUM(G32:G43)","v":5.6052380574011462E-2},null,"Selected disc. Pressure",10,"barg"]
[null,null,"Contingency",null,null,null,0.2,null,"Differential Pressure",{"$f":"J44-J42","v":8.0740751459612294},"bar"]
[null,null,"Total + Contingency",null,null,null,{"$f":"(1+G45)*G44","v":6.7262856688813752E-2},null,"Differential Head",{"$f":"J45*10^5/(E16*9.8)","v":190.14198453164911},"m"]
[null,null,null,null,null,null,null,null,"Hydraulic Power",{"$f":"E16*9.8*J46*E15/3600000","v":3.3148564071474156},"kW"]
[null,null,"DISCHARGE",null,null,null,null,null,"Pump BHP",{"$f":"J47/E21","v":7.366347571438701},"kW"]
[null,null,"Target Pressure ",null,{"$f":"VLOOKUP(E11,'Data pompa'!$B$5:$R$24,3,FALSE)","v":8},"barg",null,null,"NPSHa",{"$f":"P43","v":42.428310584072698},"m"]
[null,null,"Static head",null,3,"m","note 2",null,"NPSHr",{"$f":"J49-1","v":41.428310584072698},"m"]
[null,null,"Length",null,30,"m"]
[null,null,"Pipe size",null,{"$f":"VLOOKUP(E11,'Data pompa'!$B$5:$R$24,17,FALSE)","v":3},"in",null,null,"Shut in Pressure"]
[null,null,"Schedule",null,40,null,null,null,"P shut in",{"$f":"E25+1.3*J45","v":15.496297689749598},"barg"]
[null,null,"Fittings"]
[null,null,null,null,"Qty","K","DP"]
[null,null,"Elbow 90 LR",{"$f":"C56&$E$52","v":"Elbow 90 LR3"},10,{"$f":"VLOOKUP(D56,'K-value'!$D$48:$E$124,2,FALSE)","v":0.28999999999999998},{"$f":"E56*F56*$J$17^2/(2*9.8)*$E$16*9.8/10^5","v":4.6433607578394813E-3}]
[null,null,"Elbow 45 LR","Elbow 45 LR3",null,{"$f":"VLOOKUP(D57,'K-value'!$D$48:$E$124,2,FALSE)","v":0.28999999999999998},0]
[null,null,"Tee thru","Tee thru3",null,{"$f":"VLOOKUP(D58,'K-value'!$D$48:$E$124,2,FALSE)","v":0.36},0]
[null,null,"Tee branch","Tee branch3",null,{"$f":"VLOOKUP(D59,'K-value'!$D$48:$E$124,2,FALSE)","v":1.08},0]
[null,null,"Ball valve","Ball valve3",6,{"$f":"VLOOKUP(D60,'K-value'!$D$48:$E$124,2,FALSE)","v":0.05},4.8034766460408449E-4]
[null,null,"Butterfly valve","Butterfly valve3",null,{"$f":"VLOOKUP(D61,'K-value'!$D$48:$E$124,2,FALSE)","v":0.81},0]
[null,null,"Gate valve","Gate valve3",null,{"$f":"VLOOKUP(D62,'K-value'!$D$48:$E$124,2,FALSE)","v":0.14000000000000001},0]
[null,null,"Globe valve","Globe valve3",null,{"$f":"VLOOKUP(D63,'K-value'!$D$48:$E$124,2,FALSE)","v":6.1},0,null,"Note:"]
[null,null,"Check valve","Check valve3",3,{"$f":"VLOOKUP(D64,'K-value'!$D$48:$E$124,2,FALSE)","v":1.8},8.6462579628735197E-3]
[null,null,"Plug valve","Plug valve3",null,{"$f":"VLOOKUP(D65,'K-value'!$D$48:$E$124,2,FALSE)","v":1.62},0,null,"1. Discharge liquid level is assumed 3 m above grade elevation"]
[null,null,"Pipe entrance","Pipe entrance3",null,{"$f":"VLOOKUP(D66,'K-value'!$D$48:$E$124,2,FALSE)","v":0.78},0]
[null,null,"Flow orifice","Flow orifice3",1,null,0.25]
[null,null,"Total, barg",null,null,null,{"$f":"SUM(G56:G67)","v":0.26376996638531708}]
[null,null,"Contingency",null,null,null,0.2]
[null,null,"Total + contingency, barg",null,null,null,{"$f":"G68*(1+G69)","v":0.31652395966238051}]
[null,null,"Pressure Loss due to Equipment"]
[null,null,"AAV",null,null,null,0.7]

{"sheet":"Maumere","index":17,"n_rows":72,"n_cols":24,"rows_kept":72,"cut":false,"hidden":true,"merged":[[0,5,3,10],[26,21,26,23],[26,19,27,20],[26,18,27,18]]}
[null,null,null,null,null,"PUMP SIZING"]
[]
[]
[]
[null,null,"Project: LNG Regasification in Central Region of Indonesia"]
[]
[null,null,"Equipment Design Group",null,"8-10","MMSCFD"]
[null,null,"Equipment Design",null,7.68,"MMSCFD"]
[null,null,"Tag No:",null,"MMR-G-001A/B"]
[null,null,"Description:",null,"LNG Pump"]
[null,null,"Location:",null,"Maumere",null,null,null,null,null,null,null,null,null,"Pipe roughness",0.05,"mm"]
[null,null,null,null,null,null,null,null,null,null,null,null,null,null,null,{"$f":"P11/1000/3.28","v":1.5243902439024392E-5},"ft"]
[]
[null,null,"DATA",null,null,null,null,null,"RESULTS",null,null,null,null,null,"Mass flow",{"$f":"E15*E16/0.45","v":14231.497777777777},"lb/hr"]
[null,null,"Flow rate",null,{"$f":"VLOOKUP(E11,'Data pompa'!$B$5:$R$24,8,FALSE)","v":14.78},"m3/h",null,null,"Suction Hydraulic",null,null,null,null,null,"Rho",{"$f":"E16/16.02","v":27.047440699126092},"lb/ft3"]
[null,null,"Density",null,{"$f":"VLOOKUP(E11,'Data pompa'!$B$5:$R$24,13,FALSE)","v":433.3},"kg/m3",null,null,"Pipe ID",{"$f":"VLOOKUP(E28,'Pipe size sch 40'!$A$5:$C$27,3,FALSE)*25.4/1000","v":7.7977999999999992E-2},"m"]
[null,null,"Flow temperature",null,{"$f":"VLOOKUP(E11,'Data pompa'!$B$5:$R$24,12,FALSE)","v":-158.91999999999999},"deg C",null,null,"Velocity",{"$f":"E15/(PI()/4*J16^2)/3600","v":0.85968206758880972},"m/s",null,null,null,"Side Calculation (Suction)"]
[null,null,"Viscocity",null,{"$f":"VLOOKUP(E11,'Data pompa'!$B$5:$R$24,14,FALSE)","v":0.1176},"cP",null,null,"Velocity acceptance",{"$f":"IF(E28<=2,0.9,IF(OR(E28>=3,E28<=6),1.2,IF(OR(E28>=8,E28<=18),1.5,1.8)))","v":1.2},"m/s","(max)",null,null,"f tebakan",1.881888944440193E-2]
[null,null,null,null,{"$f":"E18*10^-3","v":1.176E-4},"Nm2/s",null,null,"Reynold number",{"$f":"E16*J18*J16/E19","v":344774.15714285715},null,null,null,null,"f left",{"$f":"1/(P18)^0.5","v":7.2895883593749033}]
[null,null,"Vapor pressure",null,{"$f":"VLOOKUP(E11,'Data pompa'!$B$5:$R$24,15,FALSE)","v":1.2183999999999999},"bara",null,null,"Pipe DP",{"$f":"P24","v":3.9285606960538767E-2},"bar/100m",null,null,null,"f right",{"$f":"-2*LOG(P12/(3.7*J16*0.3048)+2.51/(J19*(P18)^0.5))","v":7.2901989510943421}]
[null,null,"Pump efficiency",null,0.45,null,null,null,"Pipe DP acceptance",{"$f":"IF(E28<=6,0.137,0.225)","v":0.13700000000000001},"bar/100m",null,null,null,"f left/f right",{"$f":"P19/P20","v":0.9999162448482497},"Goal seek"]
[null,null,null,null,null,null,null,null,"Static head",{"$f":"E16*9.8*E26/10^5","v":1.6985360000000001E-2},"bar",null,null,null,"psi/100 ft",{"$f":"0.000336*P18*P14^2/(J16*1000/25.4)^5/P15","v":0.17362666852279715}]
[null,null,"SUCTION",null,null,null,null,null,"Pipe friction loss",{"$f":"J20*E27/100","v":2.3797649272415965E-2},"bar",null,null,null,"psi/ft",{"$f":"P22/100","v":1.7362666852279716E-3}]
[null,null,"Pressure at Vessel (min)",null,2,"barg",null,null,"Fitting friction loss",{"$f":"G46","v":6.7262856688813752E-2},"bar",null,null,null,"bar/100 m",{"$f":"P23*100/14.5/0.3048","v":3.9285606960538767E-2}]
[null,null,"Pressure at Vessel (max)",null,5,"barg",null,null,"Suction Pressure",{"$f":"E24+J22-SUM(J23:J24)","v":1.9259248540387703},"barg"]
[null,null,"Static head",null,{"$f":"VLOOKUP(E11,'Data pompa'!$B$5:$S$27,18,FALSE)/1000","v":0.4},"m",null,null,"Result",{"$f":"IF(AND(J17<J18,J20<J21),\"OK\",\"NOT OK\")","v":"OK"}]
[null,null,"Length",null,{"$f":"(8408+1000+23274+5300+8924+3670)/1000+10","v":60.576000000000001},"m","assumption",null,null,null,null,null,null,null,"Side Calculation (Discharge)",null,null,null,null,"Suction",null,"Discharge"]
[null,null,"Pipe size",null,{"$f":"VLOOKUP(E11,'Data pompa'!$B$5:$R$24,16,FALSE)","v":3},"in",null,null,"Discharge Hydraulic",null,null,null,null,null,"f tebakan",1.8000041136656725E-2,null,null,null,null,null,null,"< 49 barg","> 49 barg"]
[null,null,"Schedule",null,40,null,null,null,"Pipe ID",{"$f":"VLOOKUP(E52,'Pipe size sch 40'!$A$5:$C$27,3,FALSE)*25.4/1000","v":7.7977999999999992E-2},"m",null,null,null,"f left",{"$f":"1/(P28)^0.5","v":7.4535514079434515},null,null,null,"Velocity","Pressure","Velocity","Pressure","Pressure"]
[null,null,"Fittings",null,null,null,null,null,"Velocity",{"$f":"E15/(PI()/4*J16^2)/3600","v":0.85968206758880972},"m/s",null,null,null,"f right",{"$f":"-2*LOG(P12/(3.7*J29*0.3048)+2.51/(J32*(P28)^0.5))","v":7.4525463387164708},null,null,0.5,0.9,0.13700000000000001,4.5,0.34300000000000003,0.68600000000000005]
[null,null,null,null,"Qty","K","DP",null,"Velocity acceptance",{"$f":"IF(E50<=18,4.5,6)","v":4.5},"m/s","(max)",null,null,"f left/f right",{"$f":"P29/P30","v":1.0001348625263502},"Goal seek",null,0.75,0.9,0.13700000000000001,4.5,0.34300000000000003,0.68600000000000005]
[null,null,"Elbow 90 LR",{"$f":"C32&$E$28","v":"Elbow 90 LR3"},10,{"$f":"VLOOKUP(D32,'K-value'!$D$48:$E$124,2,FALSE)","v":0.28999999999999998},{"$f":"E32*F32*$J$17^2/(2*9.8)*$E$16*9.8/10^5","v":4.6433607578394813E-3},null,"Reynold number",{"$f":"E16*J31*J29/E19","v":1292903.0892857143},null,null,null,null,"psi/100 ft",{"$f":"0.000336*P28*P14^2/(J29*1000/25.4)^5/P15","v":0.16607181763112441},null,null,1,0.9,0.13700000000000001,4.5,0.34300000000000003,0.68600000000000005]
[null,null,"Elbow 45 LR","Elbow 45 LR3",null,{"$f":"VLOOKUP(D33,'K-value'!$D$48:$E$124,2,FALSE)","v":0.28999999999999998},0,null,"Pipe DP",{"$f":"P34","v":3.7576209980795638E-2},"bar/100m",null,null,null,"psi/ft",{"$f":"P32/100","v":1.6607181763112441E-3},null,null,1.5,0.9,0.13700000000000001,4.5,0.34300000000000003,0.68600000000000005]
[null,null,"Tee thru","Tee thru3",null,{"$f":"VLOOKUP(D34,'K-value'!$D$48:$E$124,2,FALSE)","v":0.36},0,null,"Pipe DP acceptance",{"$f":"IF(E49<=49,0.343,0.686)","v":0.34300000000000003},"bar/100m",null,null,null,"bar/100 m",{"$f":"P33*100/14.5/0.3048","v":3.7576209980795638E-2},null,null,2,0.9,0.13700000000000001,4.5,0.34300000000000003,0.68600000000000005]
[null,null,"Tee branch","Tee branch3",null,{"$f":"VLOOKUP(D35,'K-value'!$D$48:$E$124,2,FALSE)","v":1.08},0,null,"Static head",{"$f":"E15*9.8*E50/10^5","v":4.3453199999999997E-3},"bar","note 1",null,null,null,null,null,null,3,1.2,0.13700000000000001,4.5,0.34300000000000003,0.68600000000000005]
[null,null,"Ball valve","Ball valve3",2,{"$f":"VLOOKUP(D36,'K-value'!$D$48:$E$124,2,FALSE)","v":0.05},1.6011588820136148E-4,null,"Line losses",{"$f":"J33*E51/100","v":1.1272862994238691E-2},"bar",null,null,null,null,null,null,null,4,1.2,0.13700000000000001,4.5,0.34300000000000003,0.68600000000000005]
[null,null,"Butterfly valve","Butterfly valve3",null,{"$f":"VLOOKUP(D37,'K-value'!$D$48:$E$124,2,FALSE)","v":0.81},0,null,"Fitting & eqp losses",{"$f":"G70+G72","v":1.0206741634845597},"bar",null,null,null,"NPSHA calculation",null,null,null,6,1.2,0.13700000000000001,4.5,0.34300000000000003,0.68600000000000005]
[null,null,"Gate valve","Gate valve3",null,{"$f":"VLOOKUP(D38,'K-value'!$D$48:$E$124,2,FALSE)","v":0.14000000000000001},0,null,"Discharge Pressure",{"$f":"E49+J35+J36+J37","v":9.036292346478799},"barg",null,null,null,"HA",{"$f":"(E24+1.01)*100000/(E16*9.81)","v":70.812316073242982},"m",null,8,1.5,0.22500000000000001,4.5,0.34300000000000003,0.68600000000000005]
[null,null,"Globe valve","Globe valve3",null,{"$f":"VLOOKUP(D39,'K-value'!$D$48:$E$124,2,FALSE)","v":6.1},0,null,"Result",{"$f":"IF(AND(J30<J31,J33<J34),\"OK\",\"NOT OK\")","v":"OK"},null,null,null,null,"HZ",{"$f":"E26","v":0.4},"m",null,10,1.5,0.22500000000000001,4.5,0.34300000000000003,0.68600000000000005]
[null,null,"Check valve","Check valve3",null,{"$f":"VLOOKUP(D40,'K-value'!$D$48:$E$124,2,FALSE)","v":1.8},0,null,null,null,null,null,null,null,"HF",{"$f":"SUM(J23:J24)*-1","v":-9.1060505961229721E-2},null,null,12,1.5,0.22500000000000001,4.5,0.34300000000000003,0.68600000000000005]
[null,null,"Plug valve","Plug valve3",null,{"$f":"VLOOKUP(D41,'K-value'!$D$48:$E$124,2,FALSE)","v":1.62},0,null,"Pump Data",null,null,null,null,null,"HV",0,null,null,16,1.5,0.22500000000000001,4.5,0.34300000000000003,0.68600000000000005]
[null,null,"Pipe entrance","Pipe entrance3",1,{"$f":"VLOOKUP(D42,'K-value'!$D$48:$E$124,2,FALSE)","v":0.78},1.2489039279706194E-3,null,"Suction Pressure",{"$f":"J25","v":1.9259248540387703},"barg",null,null,null,"HVP",{"$f":"E20*10^5/(E16*9.8)*-1","v":-28.692944983209067},"m",null,18,1.5,0.22500000000000001,4.5,0.34300000000000003,0.68600000000000005]
[null,null,"Suction strainer","Suction strainer3",1,null,{"$f":"0.05*E43","v":0.05},null,"Discharge Pressure",{"$f":"J38","v":9.036292346478799},"barg",null,null,null,"NPSHA",{"$f":"SUM(P38:P42)","v":42.428310584072698},"m",null,20,1.8,0.22500000000000001,6,0.34300000000000003,0.68600000000000005]
[null,null,"Total, barg",null,null,null,{"$f":"SUM(G32:G43)","v":5.6052380574011462E-2},null,"Selected disc. Pressure",10,"barg"]
[null,null,"Contingency",null,null,null,0.2,null,"Differential Pressure",{"$f":"J44-J42","v":8.0740751459612294},"bar"]
[null,null,"Total + Contingency",null,null,null,{"$f":"(1+G45)*G44","v":6.7262856688813752E-2},null,"Differential Head",{"$f":"J45*10^5/(E16*9.8)","v":190.14198453164911},"m"]
[null,null,null,null,null,null,null,null,"Hydraulic Power",{"$f":"E16*9.8*J46*E15/3600000","v":3.3148564071474156},"kW"]
[null,null,"DISCHARGE",null,null,null,null,null,"Pump BHP",{"$f":"J47/E21","v":7.366347571438701},"kW"]
[null,null,"Target Pressure ",null,8,"barg",null,null,"NPSHa",{"$f":"P43","v":42.428310584072698},"m"]
[null,null,"Static head",null,3,"m","note 2",null,"NPSHr",{"$f":"J49-1","v":41.428310584072698},"m"]
[null,null,"Length",null,30,"m"]
[null,null,"Pipe size",null,{"$f":"VLOOKUP(E11,'Data pompa'!$B$5:$R$24,17,FALSE)","v":3},"in",null,null,"Shut in Pressure"]
[null,null,"Schedule",null,40,null,null,null,"P shut in",{"$f":"E25+1.3*J45","v":15.496297689749598},"barg"]
[null,null,"Fittings"]
[null,null,null,null,"Qty","K","DP"]
[null,null,"Elbow 90 LR",{"$f":"C56&$E$52","v":"Elbow 90 LR3"},10,{"$f":"VLOOKUP(D56,'K-value'!$D$48:$E$124,2,FALSE)","v":0.28999999999999998},{"$f":"E56*F56*$J$17^2/(2*9.8)*$E$16*9.8/10^5","v":4.6433607578394813E-3}]
[null,null,"Elbow 45 LR","Elbow 45 LR3",null,{"$f":"VLOOKUP(D57,'K-value'!$D$48:$E$124,2,FALSE)","v":0.28999999999999998},0]
[null,null,"Tee thru","Tee thru3",null,{"$f":"VLOOKUP(D58,'K-value'!$D$48:$E$124,2,FALSE)","v":0.36},0]
[null,null,"Tee branch","Tee branch3",2,{"$f":"VLOOKUP(D59,'K-value'!$D$48:$E$124,2,FALSE)","v":1.08},3.4585031851494074E-3]
[null,null,"Ball valve","Ball valve3",6,{"$f":"VLOOKUP(D60,'K-value'!$D$48:$E$124,2,FALSE)","v":0.05},4.8034766460408449E-4]
[null,null,"Butterfly valve","Butterfly valve3",null,{"$f":"VLOOKUP(D61,'K-value'!$D$48:$E$124,2,FALSE)","v":0.81},0]
[null,null,"Gate valve","Gate valve3",null,{"$f":"VLOOKUP(D62,'K-value'!$D$48:$E$124,2,FALSE)","v":0.14000000000000001},0]
[null,null,"Globe valve","Globe valve3",null,{"$f":"VLOOKUP(D63,'K-value'!$D$48:$E$124,2,FALSE)","v":6.1},0,null,"Note:"]
[null,null,"Check valve","Check valve3",3,{"$f":"VLOOKUP(D64,'K-value'!$D$48:$E$124,2,FALSE)","v":1.8},8.6462579628735197E-3]
[null,null,"Plug valve","Plug valve3",null,{"$f":"VLOOKUP(D65,'K-value'!$D$48:$E$124,2,FALSE)","v":1.62},0,null,"1. Discharge liquid level is assumed 3 m above grade elevation"]
[null,null,"Pipe entrance","Pipe entrance3",null,{"$f":"VLOOKUP(D66,'K-value'!$D$48:$E$124,2,FALSE)","v":0.78},0]
[null,null,"Flow orifice","Flow orifice3",1,null,0.25]
[null,null,"Total, barg",null,null,null,{"$f":"SUM(G56:G67)","v":0.26722846957046648}]
[null,null,"Contingency",null,null,null,0.2]
[null,null,"Total + contingency, barg",null,null,null,{"$f":"G68*(1+G69)","v":0.32067416348455974}]
[null,null,"Pressure Loss due to Equipment"]
[null,null,"AAV",null,null,null,0.7]

{"sheet":"Sumbawa","index":18,"n_rows":72,"n_cols":24,"rows_kept":72,"cut":false,"hidden":true,"merged":[[0,5,3,10],[26,21,26,23],[26,19,27,20],[26,18,27,18]]}
[null,null,null,null,null,"PUMP SIZING"]
[]
[]
[]
[null,null,"Project: LNG Regasification in Central Region of Indonesia"]
[]
[null,null,"Equipment Design Group",null,"8-10","MMSCFD"]
[null,null,"Equipment Design",null,9.6,"MMSCFD"]
[null,null,"Tag No:",null,"SMB-G-001A/B"]
[null,null,"Description:",null,"LNG Pump"]
[null,null,"Location:",null,"Sumbawa",null,null,null,null,null,null,null,null,null,"Pipe roughness",0.05,"mm"]
[null,null,null,null,null,null,null,null,null,null,null,null,null,null,null,{"$f":"P11/1000/3.28","v":1.5243902439024392E-5},"ft"]
[]
[null,null,"DATA",null,null,null,null,null,"RESULTS",null,null,null,null,null,"Mass flow",{"$f":"E15*E16/0.45","v":17794.186666666665},"lb/hr"]
[null,null,"Flow rate",null,{"$f":"VLOOKUP(E11,'Data pompa'!$B$5:$R$24,8,FALSE)","v":18.48},"m3/h",null,null,"Suction Hydraulic",null,null,null,null,null,"Rho",{"$f":"E16/16.02","v":27.047440699126092},"lb/ft3"]
[null,null,"Density",null,{"$f":"VLOOKUP(E11,'Data pompa'!$B$5:$R$24,13,FALSE)","v":433.3},"kg/m3",null,null,"Pipe ID",{"$f":"VLOOKUP(E28,'Pipe size sch 40'!$A$5:$C$27,3,FALSE)*25.4/1000","v":0.10236199999999999},"m"]
[null,null,"Flow temperature",null,{"$f":"VLOOKUP(E11,'Data pompa'!$B$5:$R$24,12,FALSE)","v":-158.91999999999999},"deg C",null,null,"Velocity",{"$f":"E15/(PI()/4*J16^2)/3600","v":0.62378088072717186},"m/s",null,null,null,"Side Calculation (Suction)"]
[null,null,"Viscocity",null,{"$f":"VLOOKUP(E11,'Data pompa'!$B$5:$R$24,14,FALSE)","v":0.1176},"cP",null,null,"Velocity acceptance",{"$f":"IF(E28<=2,0.9,IF(OR(E28>=3,E28<=6),1.2,IF(OR(E28>=8,E28<=18),1.5,1.8)))","v":1.2},"m/s","(max)",null,null,"f tebakan",1.7689784527891338E-2]
[null,null,null,null,{"$f":"E18*10^-3","v":1.176E-4},"Nm2/s",null,null,"Reynold number",{"$f":"E16*J18*J16/E19","v":452586.27142857143},null,null,null,null,"f left",{"$f":"1/(P18)^0.5","v":7.5186302642957124}]
[null,null,"Vapor pressure",null,{"$f":"VLOOKUP(E11,'Data pompa'!$B$5:$R$24,15,FALSE)","v":1.2183999999999999},"bara",null,null,"Pipe DP",{"$f":"P24","v":1.4810977826518726E-2},"bar/100m",null,null,null,"f right",{"$f":"-2*LOG(P12/(3.7*J16*0.3048)+2.51/(J19*(P18)^0.5))","v":7.5201588595928719}]
[null,null,"Pump efficiency",null,0.45,null,null,null,"Pipe DP acceptance",{"$f":"IF(E28<=6,0.137,0.225)","v":0.13700000000000001},"bar/100m",null,null,null,"f left/f right",{"$f":"P19/P20","v":0.99979673364277277},"Goal seek"]
[null,null,null,null,null,null,null,null,"Static head",{"$f":"E16*9.8*E26/10^5","v":1.6985360000000001E-2},"bar",null,null,null,"psi/100 ft",{"$f":"0.000336*P18*P14^2/(J16*1000/25.4)^5/P15","v":6.5458597602082169E-2}]
[null,null,"SUCTION",null,null,null,null,null,"Pipe friction loss",{"$f":"J20*E27/100","v":8.9718979281919846E-3},"bar",null,null,null,"psi/ft",{"$f":"P22/100","v":6.5458597602082173E-4}]
[null,null,"Pressure at Vessel (min)",null,2,"barg",null,null,"Fitting friction loss",{"$f":"G46","v":6.3621488283839997E-2},"bar",null,null,null,"bar/100 m",{"$f":"P23*100/14.5/0.3048","v":1.4810977826518726E-2}]
[null,null,"Pressure at Vessel (max)",null,5,"barg",null,null,"Suction Pressure",{"$f":"E24+J22-SUM(J23:J24)","v":1.944391973787968},"barg"]
[null,null,"Static head",null,{"$f":"VLOOKUP(E11,'Data pompa'!$B$5:$S$27,18,FALSE)/1000","v":0.4},"m",null,null,"Result",{"$f":"IF(AND(J17<J18,J20<J21),\"OK\",\"NOT OK\")","v":"OK"}]
[null,null,"Length",null,{"$f":"(8408+1000+23274+5300+8924+3670)/1000+10","v":60.576000000000001},"m","assumption",null,null,null,null,null,null,null,"Side Calculation (Discharge)",null,null,null,null,"Suction",null,"Discharge"]
[null,null,"Pipe size",null,{"$f":"VLOOKUP(E11,'Data pompa'!$B$5:$R$24,16,FALSE)","v":4},"in",null,null,"Discharge Hydraulic",null,null,null,null,null,"f tebakan",1.8000041136656725E-2,null,null,null,null,null,null,"< 49 barg","> 49 barg"]
[null,null,"Schedule",null,40,null,null,null,"Pipe ID",{"$f":"VLOOKUP(E52,'Pipe size sch 40'!$A$5:$C$27,3,FALSE)*25.4/1000","v":7.7977999999999992E-2},"m",null,null,null,"f left",{"$f":"1/(P28)^0.5","v":7.4535514079434515},null,null,null,"Velocity","Pressure","Velocity","Pressure","Pressure"]
[null,null,"Fittings",null,null,null,null,null,"Velocity",{"$f":"E15/(PI()/4*J16^2)/3600","v":0.62378088072717186},"m/s",null,null,null,"f right",{"$f":"-2*LOG(P12/(3.7*J29*0.3048)+2.51/(J32*(P28)^0.5))","v":7.4525463387164708},null,null,0.5,0.9,0.13700000000000001,4.5,0.34300000000000003,0.68600000000000005]
[null,null,null,null,"Qty","K","DP",null,"Velocity acceptance",{"$f":"IF(E50<=18,4.5,6)","v":4.5},"m/s","(max)",null,null,"f left/f right",{"$f":"P29/P30","v":1.0001348625263502},"Goal seek",null,0.75,0.9,0.13700000000000001,4.5,0.34300000000000003,0.68600000000000005]
[null,null,"Elbow 90 LR",{"$f":"C32&$E$28","v":"Elbow 90 LR4"},10,{"$f":"VLOOKUP(D32,'K-value'!$D$48:$E$124,2,FALSE)","v":0.27},{"$f":"E32*F32*$J$17^2/(2*9.8)*$E$16*9.8/10^5","v":2.2760750387262607E-3},null,"Reynold number",{"$f":"E16*J31*J29/E19","v":1292903.0892857143},null,null,null,null,"psi/100 ft",{"$f":"0.000336*P28*P14^2/(J29*1000/25.4)^5/P15","v":0.25962768721552709},null,null,1,0.9,0.13700000000000001,4.5,0.34300000000000003,0.68600000000000005]
[null,null,"Elbow 45 LR","Elbow 45 LR4",null,{"$f":"VLOOKUP(D33,'K-value'!$D$48:$E$124,2,FALSE)","v":0.27},0,null,"Pipe DP",{"$f":"P34","v":5.8744612004599295E-2},"bar/100m",null,null,null,"psi/ft",{"$f":"P32/100","v":2.596276872155271E-3},null,null,1.5,0.9,0.13700000000000001,4.5,0.34300000000000003,0.68600000000000005]
[null,null,"Tee thru","Tee thru4",null,{"$f":"VLOOKUP(D34,'K-value'!$D$48:$E$124,2,FALSE)","v":0.34},0,null,"Pipe DP acceptance",{"$f":"IF(E49<=49,0.343,0.686)","v":0.34300000000000003},"bar/100m",null,null,null,"bar/100 m",{"$f":"P33*100/14.5/0.3048","v":5.8744612004599295E-2},null,null,2,0.9,0.13700000000000001,4.5,0.34300000000000003,0.68600000000000005]
[null,null,"Tee branch","Tee branch4",null,{"$f":"VLOOKUP(D35,'K-value'!$D$48:$E$124,2,FALSE)","v":1.02},0,null,"Static head",{"$f":"E15*9.8*E50/10^5","v":5.4331200000000005E-3},"bar","note 1",null,null,null,null,null,null,3,1.2,0.13700000000000001,4.5,0.34300000000000003,0.68600000000000005]
[null,null,"Ball valve","Ball valve4",2,{"$f":"VLOOKUP(D36,'K-value'!$D$48:$E$124,2,FALSE)","v":0.05},8.4299075508380012E-5,null,"Line losses",{"$f":"J33*E51/100","v":1.7623383601379786E-2},"bar",null,null,null,null,null,null,null,4,1.2,0.13700000000000001,4.5,0.34300000000000003,0.68600000000000005]
[null,null,"Butterfly valve","Butterfly valve4",null,{"$f":"VLOOKUP(D37,'K-value'!$D$48:$E$124,2,FALSE)","v":0.77},0,null,"Fitting & eqp losses",{"$f":"G70+G72","v":1.0108846966296419},"bar",null,null,null,"NPSHA calculation",null,null,null,6,1.2,0.13700000000000001,4.5,0.34300000000000003,0.68600000000000005]
[null,null,"Gate valve","Gate valve4",null,{"$f":"VLOOKUP(D38,'K-value'!$D$48:$E$124,2,FALSE)","v":0.14000000000000001},0,null,"Discharge Pressure",{"$f":"E49+J35+J36+J37","v":9.0339412002310215},"barg",null,null,null,"HA",{"$f":"(E24+1.01)*100000/(E16*9.81)","v":70.812316073242982},"m",null,8,1.5,0.22500000000000001,4.5,0.34300000000000003,0.68600000000000005]
[null,null,"Globe valve","Globe valve4",null,{"$f":"VLOOKUP(D39,'K-value'!$D$48:$E$124,2,FALSE)","v":5.8},0,null,"Result",{"$f":"IF(AND(J30<J31,J33<J34),\"OK\",\"NOT OK\")","v":"OK"},null,null,null,null,"HZ",{"$f":"E26","v":0.4},"m",null,10,1.5,0.22500000000000001,4.5,0.34300000000000003,0.68600000000000005]
[null,null,"Check valve","Check valve4",null,{"$f":"VLOOKUP(D40,'K-value'!$D$48:$E$124,2,FALSE)","v":1.7},0,null,null,null,null,null,null,null,"HF",{"$f":"SUM(J23:J24)*-1","v":-7.2593386212031985E-2},null,null,12,1.5,0.22500000000000001,4.5,0.34300000000000003,0.68600000000000005]
[null,null,"Plug valve","Plug valve4",null,{"$f":"VLOOKUP(D41,'K-value'!$D$48:$E$124,2,FALSE)","v":1.53},0,null,"Pump Data",null,null,null,null,null,"HV",0,null,null,16,1.5,0.22500000000000001,4.5,0.34300000000000003,0.68600000000000005]
[null,null,"Pipe entrance","Pipe entrance4",1,{"$f":"VLOOKUP(D42,'K-value'!$D$48:$E$124,2,FALSE)","v":0.78},6.5753278896536402E-4,null,"Suction Pressure",{"$f":"J25","v":1.944391973787968},"barg",null,null,null,"HVP",{"$f":"E20*10^5/(E16*9.8)*-1","v":-28.692944983209067},"m",null,18,1.5,0.22500000000000001,4.5,0.34300000000000003,0.68600000000000005]
[null,null,"Suction strainer","Suction strainer4",1,null,{"$f":"0.05*E43","v":0.05},null,"Discharge Pressure",{"$f":"J38","v":9.0339412002310215},"barg",null,null,null,"NPSHA",{"$f":"SUM(P38:P42)","v":42.446777703821887},"m",null,20,1.8,0.22500000000000001,6,0.34300000000000003,0.68600000000000005]
[null,null,"Total, barg",null,null,null,{"$f":"SUM(G32:G43)","v":5.3017906903200004E-2},null,"Selected disc. Pressure",10,"barg"]
[null,null,"Contingency",null,null,null,0.2,null,"Differential Pressure",{"$f":"J44-J42","v":8.0556080262120311},"bar"]
[null,null,"Total + Contingency",null,null,null,{"$f":"(1+G45)*G44","v":6.3621488283839997E-2},null,"Differential Head",{"$f":"J45*10^5/(E16*9.8)","v":189.70708954563298},"m"]
[null,null,null,null,null,null,null,null,"Hydraulic Power",{"$f":"E16*9.8*J46*E15/3600000","v":4.1352121201221772},"kW"]
[null,null,"DISCHARGE",null,null,null,null,null,"Pump BHP",{"$f":"J47/E21","v":9.1893602669381718},"kW"]
[null,null,"Target Pressure ",null,8,"barg",null,null,"NPSHa",{"$f":"P43","v":42.446777703821887},"m"]
[null,null,"Static head",null,3,"m","note 2",null,"NPSHr",{"$f":"J49-1","v":41.446777703821887},"m"]
[null,null,"Length",null,30,"m"]
[null,null,"Pipe size",null,{"$f":"VLOOKUP(E11,'Data pompa'!$B$5:$R$24,17,FALSE)","v":3},"in",null,null,"Shut in Pressure"]
[null,null,"Schedule",null,40,null,null,null,"P shut in",{"$f":"E25+1.3*J45","v":15.47229043407564},"barg"]
[null,null,"Fittings"]
[null,null,null,null,"Qty","K","DP"]
[null,null,"Elbow 90 LR",{"$f":"C56&$E$52","v":"Elbow 90 LR3"},10,{"$f":"VLOOKUP(D56,'K-value'!$D$48:$E$124,2,FALSE)","v":0.28999999999999998},{"$f":"E56*F56*$J$17^2/(2*9.8)*$E$16*9.8/10^5","v":2.44467318974302E-3}]
[null,null,"Elbow 45 LR","Elbow 45 LR3",null,{"$f":"VLOOKUP(D57,'K-value'!$D$48:$E$124,2,FALSE)","v":0.28999999999999998},0]
[null,null,"Tee thru","Tee thru3",null,{"$f":"VLOOKUP(D58,'K-value'!$D$48:$E$124,2,FALSE)","v":0.36},0]
[null,null,"Tee branch","Tee branch3",2,{"$f":"VLOOKUP(D59,'K-value'!$D$48:$E$124,2,FALSE)","v":1.08},1.8208600309810082E-3]
[null,null,"Ball valve","Ball valve3",6,{"$f":"VLOOKUP(D60,'K-value'!$D$48:$E$124,2,FALSE)","v":0.05},2.5289722652514004E-4]
[null,null,"Butterfly valve","Butterfly valve3",null,{"$f":"VLOOKUP(D61,'K-value'!$D$48:$E$124,2,FALSE)","v":0.81},0]
[null,null,"Gate valve","Gate valve3",null,{"$f":"VLOOKUP(D62,'K-value'!$D$48:$E$124,2,FALSE)","v":0.14000000000000001},0]
[null,null,"Globe valve","Globe valve3",null,{"$f":"VLOOKUP(D63,'K-value'!$D$48:$E$124,2,FALSE)","v":6.1},0,null,"Note:"]
[null,null,"Check valve","Check valve3",3,{"$f":"VLOOKUP(D64,'K-value'!$D$48:$E$124,2,FALSE)","v":1.8},4.5521500774525214E-3]
[null,null,"Plug valve","Plug valve3",null,{"$f":"VLOOKUP(D65,'K-value'!$D$48:$E$124,2,FALSE)","v":1.62},0,null,"1. Discharge liquid level is assumed 3 m above grade elevation"]
[null,null,"Pipe entrance","Pipe entrance3",null,{"$f":"VLOOKUP(D66,'K-value'!$D$48:$E$124,2,FALSE)","v":0.78},0]
[null,null,"Flow orifice","Flow orifice3",1,null,0.25]
[null,null,"Total, barg",null,null,null,{"$f":"SUM(G56:G67)","v":0.25907058052470167}]
[null,null,"Contingency",null,null,null,0.2]
[null,null,"Total + contingency, barg",null,null,null,{"$f":"G68*(1+G69)","v":0.31088469662964197}]
[null,null,"Pressure Loss due to Equipment"]
[null,null,"AAV",null,null,null,0.7]

{"sheet":"Bima","index":19,"n_rows":72,"n_cols":24,"rows_kept":72,"cut":false,"hidden":true,"merged":[[0,5,3,10],[26,21,26,23],[26,19,27,20],[26,18,27,18]]}
[null,null,null,null,null,"PUMP SIZING"]
[]
[]
[]
[null,null,"Project: LNG Regasification in Central Region of Indonesia"]
[]
[null,null,"Equipment Design Group",null,"8-10","MMSCFD"]
[null,null,"Equipment Design",null,9.6,"MMSCFD"]
[null,null,"Tag No:",null,"BIM-G-001A/B"]
[null,null,"Description:",null,"LNG Pump"]
[null,null,"Location:",null,"Bima",null,null,null,null,null,null,null,null,null,"Pipe roughness",0.05,"mm"]
[null,null,null,null,null,null,null,null,null,null,null,null,null,null,null,{"$f":"P11/1000/3.28","v":1.5243902439024392E-5},"ft"]
[]
[null,null,"DATA",null,null,null,null,null,"RESULTS",null,null,null,null,null,"Mass flow",{"$f":"E15*E16/0.45","v":17794.186666666665},"lb/hr"]
[null,null,"Flow rate",null,{"$f":"VLOOKUP(E11,'Data pompa'!$B$5:$R$24,8,FALSE)","v":18.48},"m3/h",null,null,"Suction Hydraulic",null,null,null,null,null,"Rho",{"$f":"E16/16.02","v":27.047440699126092},"lb/ft3"]
[null,null,"Density",null,{"$f":"VLOOKUP(E11,'Data pompa'!$B$5:$R$24,13,FALSE)","v":433.3},"kg/m3",null,null,"Pipe ID",{"$f":"VLOOKUP(E28,'Pipe size sch 40'!$A$5:$C$27,3,FALSE)*25.4/1000","v":0.10236199999999999},"m"]
[null,null,"Flow temperature",null,{"$f":"VLOOKUP(E11,'Data pompa'!$B$5:$R$24,12,FALSE)","v":-158.91999999999999},"deg C",null,null,"Velocity",{"$f":"E15/(PI()/4*J16^2)/3600","v":0.62378088072717186},"m/s",null,null,null,"Side Calculation (Suction)"]
[null,null,"Viscocity",null,{"$f":"VLOOKUP(E11,'Data pompa'!$B$5:$R$24,14,FALSE)","v":0.1176},"cP",null,null,"Velocity acceptance",{"$f":"IF(E28<=2,0.9,IF(OR(E28>=3,E28<=6),1.2,IF(OR(E28>=8,E28<=18),1.5,1.8)))","v":1.2},"m/s","(max)",null,null,"f tebakan",1.7689784527891338E-2]
[null,null,null,null,{"$f":"E18*10^-3","v":1.176E-4},"Nm2/s",null,null,"Reynold number",{"$f":"E16*J18*J16/E19","v":452586.27142857143},null,null,null,null,"f left",{"$f":"1/(P18)^0.5","v":7.5186302642957124}]
[null,null,"Vapor pressure",null,{"$f":"VLOOKUP(E11,'Data pompa'!$B$5:$R$24,15,FALSE)","v":1.2183999999999999},"bara",null,null,"Pipe DP",{"$f":"P24","v":1.4810977826518726E-2},"bar/100m",null,null,null,"f right",{"$f":"-2*LOG(P12/(3.7*J16*0.3048)+2.51/(J19*(P18)^0.5))","v":7.5201588595928719}]
[null,null,"Pump efficiency",null,0.45,null,null,null,"Pipe DP acceptance",{"$f":"IF(E28<=6,0.137,0.225)","v":0.13700000000000001},"bar/100m",null,null,null,"f left/f right",{"$f":"P19/P20","v":0.99979673364277277},"Goal seek"]
[null,null,null,null,null,null,null,null,"Static head",{"$f":"E16*9.8*E26/10^5","v":1.6985360000000001E-2},"bar",null,null,null,"psi/100 ft",{"$f":"0.000336*P18*P14^2/(J16*1000/25.4)^5/P15","v":6.5458597602082169E-2}]
[null,null,"SUCTION",null,null,null,null,null,"Pipe friction loss",{"$f":"J20*E27/100","v":8.9718979281919846E-3},"bar",null,null,null,"psi/ft",{"$f":"P22/100","v":6.5458597602082173E-4}]
[null,null,"Pressure at Vessel (min)",null,2,"barg",null,null,"Fitting friction loss",{"$f":"G46","v":6.3621488283839997E-2},"bar",null,null,null,"bar/100 m",{"$f":"P23*100/14.5/0.3048","v":1.4810977826518726E-2}]
[null,null,"Pressure at Vessel (max)",null,5,"barg",null,null,"Suction Pressure",{"$f":"E24+J22-SUM(J23:J24)","v":1.944391973787968},"barg"]
[null,null,"Static head",null,{"$f":"VLOOKUP(E11,'Data pompa'!$B$5:$S$27,18,FALSE)/1000","v":0.4},"m",null,null,"Result",{"$f":"IF(AND(J17<J18,J20<J21),\"OK\",\"NOT OK\")","v":"OK"}]
[null,null,"Length",null,{"$f":"(8408+1000+23274+5300+8924+3670)/1000+10","v":60.576000000000001},"m","assumption",null,null,null,null,null,null,null,"Side Calculation (Discharge)",null,null,null,null,"Suction",null,"Discharge"]
[null,null,"Pipe size",null,{"$f":"VLOOKUP(E11,'Data pompa'!$B$5:$R$24,16,FALSE)","v":4},"in",null,null,"Discharge Hydraulic",null,null,null,null,null,"f tebakan",1.8000041136656725E-2,null,null,null,null,null,null,"< 49 barg","> 49 barg"]
[null,null,"Schedule",null,40,null,null,null,"Pipe ID",{"$f":"VLOOKUP(E52,'Pipe size sch 40'!$A$5:$C$27,3,FALSE)*25.4/1000","v":7.7977999999999992E-2},"m",null,null,null,"f left",{"$f":"1/(P28)^0.5","v":7.4535514079434515},null,null,null,"Velocity","Pressure","Velocity","Pressure","Pressure"]
[null,null,"Fittings",null,null,null,null,null,"Velocity",{"$f":"E15/(PI()/4*J16^2)/3600","v":0.62378088072717186},"m/s",null,null,null,"f right",{"$f":"-2*LOG(P12/(3.7*J29*0.3048)+2.51/(J32*(P28)^0.5))","v":7.4525463387164708},null,null,0.5,0.9,0.13700000000000001,4.5,0.34300000000000003,0.68600000000000005]
[null,null,null,null,"Qty","K","DP",null,"Velocity acceptance",{"$f":"IF(E50<=18,4.5,6)","v":4.5},"m/s","(max)",null,null,"f left/f right",{"$f":"P29/P30","v":1.0001348625263502},"Goal seek",null,0.75,0.9,0.13700000000000001,4.5,0.34300000000000003,0.68600000000000005]
[null,null,"Elbow 90 LR",{"$f":"C32&$E$28","v":"Elbow 90 LR4"},10,{"$f":"VLOOKUP(D32,'K-value'!$D$48:$E$124,2,FALSE)","v":0.27},{"$f":"E32*F32*$J$17^2/(2*9.8)*$E$16*9.8/10^5","v":2.2760750387262607E-3},null,"Reynold number",{"$f":"E16*J31*J29/E19","v":1292903.0892857143},null,null,null,null,"psi/100 ft",{"$f":"0.000336*P28*P14^2/(J29*1000/25.4)^5/P15","v":0.25962768721552709},null,null,1,0.9,0.13700000000000001,4.5,0.34300000000000003,0.68600000000000005]
[null,null,"Elbow 45 LR","Elbow 45 LR4",null,{"$f":"VLOOKUP(D33,'K-value'!$D$48:$E$124,2,FALSE)","v":0.27},0,null,"Pipe DP",{"$f":"P34","v":5.8744612004599295E-2},"bar/100m",null,null,null,"psi/ft",{"$f":"P32/100","v":2.596276872155271E-3},null,null,1.5,0.9,0.13700000000000001,4.5,0.34300000000000003,0.68600000000000005]
[null,null,"Tee thru","Tee thru4",null,{"$f":"VLOOKUP(D34,'K-value'!$D$48:$E$124,2,FALSE)","v":0.34},0,null,"Pipe DP acceptance",{"$f":"IF(E49<=49,0.343,0.686)","v":0.34300000000000003},"bar/100m",null,null,null,"bar/100 m",{"$f":"P33*100/14.5/0.3048","v":5.8744612004599295E-2},null,null,2,0.9,0.13700000000000001,4.5,0.34300000000000003,0.68600000000000005]
[null,null,"Tee branch","Tee branch4",null,{"$f":"VLOOKUP(D35,'K-value'!$D$48:$E$124,2,FALSE)","v":1.02},0,null,"Static head",{"$f":"E15*9.8*E50/10^5","v":5.4331200000000005E-3},"bar","note 1",null,null,null,null,null,null,3,1.2,0.13700000000000001,4.5,0.34300000000000003,0.68600000000000005]
[null,null,"Ball valve","Ball valve4",2,{"$f":"VLOOKUP(D36,'K-value'!$D$48:$E$124,2,FALSE)","v":0.05},8.4299075508380012E-5,null,"Line losses",{"$f":"J33*E51/100","v":1.7623383601379786E-2},"bar",null,null,null,null,null,null,null,4,1.2,0.13700000000000001,4.5,0.34300000000000003,0.68600000000000005]
[null,null,"Butterfly valve","Butterfly valve4",null,{"$f":"VLOOKUP(D37,'K-value'!$D$48:$E$124,2,FALSE)","v":0.77},0,null,"Fitting & eqp losses",{"$f":"G70+G72","v":1.0108341171843369},"bar",null,null,null,"NPSHA calculation",null,null,null,6,1.2,0.13700000000000001,4.5,0.34300000000000003,0.68600000000000005]
[null,null,"Gate valve","Gate valve4",null,{"$f":"VLOOKUP(D38,'K-value'!$D$48:$E$124,2,FALSE)","v":0.14000000000000001},0,null,"Discharge Pressure",{"$f":"E49+J35+J36+J37","v":9.0338906207857157},"barg",null,null,null,"HA",{"$f":"(E24+1.01)*100000/(E16*9.81)","v":70.812316073242982},"m",null,8,1.5,0.22500000000000001,4.5,0.34300000000000003,0.68600000000000005]
[null,null,"Globe valve","Globe valve4",null,{"$f":"VLOOKUP(D39,'K-value'!$D$48:$E$124,2,FALSE)","v":5.8},0,null,"Result",{"$f":"IF(AND(J30<J31,J33<J34),\"OK\",\"NOT OK\")","v":"OK"},null,null,null,null,"HZ",{"$f":"E26","v":0.4},"m",null,10,1.5,0.22500000000000001,4.5,0.34300000000000003,0.68600000000000005]
[null,null,"Check valve","Check valve4",null,{"$f":"VLOOKUP(D40,'K-value'!$D$48:$E$124,2,FALSE)","v":1.7},0,null,null,null,null,null,null,null,"HF",{"$f":"SUM(J23:J24)*-1","v":-7.2593386212031985E-2},null,null,12,1.5,0.22500000000000001,4.5,0.34300000000000003,0.68600000000000005]
[null,null,"Plug valve","Plug valve4",null,{"$f":"VLOOKUP(D41,'K-value'!$D$48:$E$124,2,FALSE)","v":1.53},0,null,"Pump Data",null,null,null,null,null,"HV",0,null,null,16,1.5,0.22500000000000001,4.5,0.34300000000000003,0.68600000000000005]
[null,null,"Pipe entrance","Pipe entrance4",1,{"$f":"VLOOKUP(D42,'K-value'!$D$48:$E$124,2,FALSE)","v":0.78},6.5753278896536402E-4,null,"Suction Pressure",{"$f":"J25","v":1.944391973787968},"barg",null,null,null,"HVP",{"$f":"E20*10^5/(E16*9.8)*-1","v":-28.692944983209067},"m",null,18,1.5,0.22500000000000001,4.5,0.34300000000000003,0.68600000000000005]
[null,null,"Suction strainer","Suction strainer4",1,null,{"$f":"0.05*E43","v":0.05},null,"Discharge Pressure",{"$f":"J38","v":9.0338906207857157},"barg",null,null,null,"NPSHA",{"$f":"SUM(P38:P42)","v":42.446777703821887},"m",null,20,1.8,0.22500000000000001,6,0.34300000000000003,0.68600000000000005]
[null,null,"Total, barg",null,null,null,{"$f":"SUM(G32:G43)","v":5.3017906903200004E-2},null,"Selected disc. Pressure",10,"barg"]
[null,null,"Contingency",null,null,null,0.2,null,"Differential Pressure",{"$f":"J44-J42","v":8.0556080262120311},"bar"]
[null,null,"Total + Contingency",null,null,null,{"$f":"(1+G45)*G44","v":6.3621488283839997E-2},null,"Differential Head",{"$f":"J45*10^5/(E16*9.8)","v":189.70708954563298},"m"]
[null,null,null,null,null,null,null,null,"Hydraulic Power",{"$f":"E16*9.8*J46*E15/3600000","v":4.1352121201221772},"kW"]
[null,null,"DISCHARGE",null,null,null,null,null,"Pump BHP",{"$f":"J47/E21","v":9.1893602669381718},"kW"]
[null,null,"Target Pressure ",null,{"$f":"VLOOKUP(E11,'Data pompa'!$B$5:$R$24,3,FALSE)","v":8},"barg",null,null,"NPSHa",{"$f":"P43","v":42.446777703821887},"m"]
[null,null,"Static head",null,3,"m","note 2",null,"NPSHr",{"$f":"J49-1","v":41.446777703821887},"m"]
[null,null,"Length",null,30,"m"]
[null,null,"Pipe size",null,{"$f":"VLOOKUP(E11,'Data pompa'!$B$5:$R$24,17,FALSE)","v":3},"in",null,null,"Shut in Pressure"]
[null,null,"Schedule",null,40,null,null,null,"P shut in",{"$f":"E25+1.3*J45","v":15.47229043407564},"barg"]
[null,null,"Fittings"]
[null,null,null,null,"Qty","K","DP"]
[null,null,"Elbow 90 LR",{"$f":"C56&$E$52","v":"Elbow 90 LR3"},10,{"$f":"VLOOKUP(D56,'K-value'!$D$48:$E$124,2,FALSE)","v":0.28999999999999998},{"$f":"E56*F56*$J$17^2/(2*9.8)*$E$16*9.8/10^5","v":2.44467318974302E-3}]
[null,null,"Elbow 45 LR","Elbow 45 LR3",null,{"$f":"VLOOKUP(D57,'K-value'!$D$48:$E$124,2,FALSE)","v":0.28999999999999998},0]
[null,null,"Tee thru","Tee thru3",null,{"$f":"VLOOKUP(D58,'K-value'!$D$48:$E$124,2,FALSE)","v":0.36},0]
[null,null,"Tee branch","Tee branch3",2,{"$f":"VLOOKUP(D59,'K-value'!$D$48:$E$124,2,FALSE)","v":1.08},1.8208600309810082E-3]
[null,null,"Ball valve","Ball valve3",5,{"$f":"VLOOKUP(D60,'K-value'!$D$48:$E$124,2,FALSE)","v":0.05},2.1074768877095003E-4]
[null,null,"Butterfly valve","Butterfly valve3",null,{"$f":"VLOOKUP(D61,'K-value'!$D$48:$E$124,2,FALSE)","v":0.81},0]
[null,null,"Gate valve","Gate valve3",null,{"$f":"VLOOKUP(D62,'K-value'!$D$48:$E$124,2,FALSE)","v":0.14000000000000001},0]
[null,null,"Globe valve","Globe valve3",null,{"$f":"VLOOKUP(D63,'K-value'!$D$48:$E$124,2,FALSE)","v":6.1},0,null,"Note:"]
[null,null,"Check valve","Check valve3",3,{"$f":"VLOOKUP(D64,'K-value'!$D$48:$E$124,2,FALSE)","v":1.8},4.5521500774525214E-3]
[null,null,"Plug valve","Plug valve3",null,{"$f":"VLOOKUP(D65,'K-value'!$D$48:$E$124,2,FALSE)","v":1.62},0,null,"1. Discharge liquid level is assumed 3 m above grade elevation"]
[null,null,"Pipe entrance","Pipe entrance3",null,{"$f":"VLOOKUP(D66,'K-value'!$D$48:$E$124,2,FALSE)","v":0.78},0]
[null,null,"Flow orifice","Flow orifice3",1,null,0.25]
[null,null,"Total, barg",null,null,null,{"$f":"SUM(G56:G67)","v":0.2590284309869475}]
[null,null,"Contingency",null,null,null,0.2]
[null,null,"Total + contingency, barg",null,null,null,{"$f":"G68*(1+G69)","v":0.31083411718433701}]
[null,null,"Pressure Loss due to Equipment"]
[null,null,"AAV",null,null,null,0.7]

{"sheet":"Pump sizing","index":20,"n_rows":92,"n_cols":23,"rows_kept":92,"cut":false,"hidden":false,"merged":[[21,20,21,22],[21,18,22,19],[21,17,22,17],[1,1,1,11],[3,8,5,10]]}
[]
[null,"CENTRIFUGAL PUMP SIZING"]
[]
["`",null,"Tag No:",null,"P-001",null,null,null,"Please click the button \"Calculate inlet pressure drop\" and \"Calculate oultet pressure drop\" when you make changes in input data"]
[null,null,"Description:",null,"Pump"]
[null,null,"Location:",null,"Water pump",null,null,null,null,null,null,null,null,"Pipe roughness",{"$f":"E24","v":0.05},"mm"]
[null,null,null,null,null,null,null,null,"You can change",null,null,null,null,null,{"$f":"O6/1000/3.28","v":1.5243902439024392E-5},"ft"]
[]
[null,null,"DATA",null,null,null,null,null,"RESULTS",null,null,null,null,"Mass flow",{"$f":"E12*E13/0.45","v":121977.7777777778},"lb/hr"]
[null,null,"Flow rate (normal)",null,50,"m3/h",null,null,"Suction Hydraulic",null,null,null,null,"Rho",{"$f":"E13/16.02","v":62.297128589263423},"lb/ft3"]
[null,null,"Percentage of rated flow",null,0.1,null,null,null,"Pipe ID",{"$f":"VLOOKUP(E26&\"-\"&E27,'Sheet2 (2)'!$D$4:$G$651,4,FALSE)*25.4/1000","v":2.6644599999999997E-2},"m"]
[null,null,"Flow rate (rated)",null,{"$f":"(E11+1)*E10","v":55.000000000000007},"m3/h",null,null,"Velocity",{"$f":"E12/(PI()/4*J11^2)/3600","v":27.400084220926232},"m/s",null,null,"Side Calculation (Suction)"]
[null,null,"Density",null,998,"kg/m3",null,null,"Velocity acceptance",{"$f":"IF(E26<=2,0.9,IF(OR(E26>=3,E26<=6),1.2,IF(OR(E26>=8,E26<=18),1.5,1.8)))","v":0.9},"m/s",null,null,"f tebakan",2.8749510640607327E-2]
[null,null,"Flow temperature",null,30,"deg C",null,null,"Reynold number",{"$f":"E13*J13*J11/E16","v":23932.17972},null,null,null,"f left",{"$f":"1/(O13)^0.5","v":5.8977284396061238}]
[null,null,"Viscocity",null,1,"cP",null,null,null,null,null,null,null,"f right",{"$f":"-2*LOG(O7/(3.7*J11*0.3048)+2.51/(J14*(O13)^0.5))","v":5.8970324959113158}]
[null,null,null,null,{"$f":"E15*10^-3","v":1E-3},"Nm2/s",null,null,null,null,null,null,null,"f left/f right",{"$f":"O14/O15","v":1.0001180159165293},"Goal seek"]
[null,null,"Vapor pressure",null,1.01,"bara",null,null,"Pipe DP",{"$f":"O19","v":410.96300917705099},"bar/100m",null,null,"psi/100 ft",{"$f":"0.000336*O13*O9^2/(J11*1000/25.4)^5/O10","v":1816.2921153588948}]
[null,null,"Pump efficiency",null,0.6,null,null,null,"Pipe DP acceptance",{"$f":"IF(E26<=6,0.137,0.225)","v":0.13700000000000001},"bar/100m",null,null,"psi/ft",{"$f":"O17/100","v":18.162921153588947}]
[null,null,null,null,null,null,null,null,"Static head",{"$f":"E13*9.8*E23/10^5","v":9.7804000000000016E-2},"bar",null,null,"bar/100 m",{"$f":"O18*100/14.5/0.3048","v":410.96300917705099}]
[null,null,"SUCTION",null,null,null,null,null,"Pipe friction loss",{"$f":"J17*E25/100","v":205.4815045885255},"bar"]
[null,null,"Pressure at Vessel (min)",null,1,"barg",null,null,"Fitting friction loss",{"$f":"G44","v":25.909576469871194},"bar"]
[null,null,"Pressure at Vessel (max)",null,2,"barg",null,null,"Suction Pressure",{"$f":"E21+J19-SUM(J20:J21)","v":-230.29327705839668},"barg",null,null,"Side Calculation (Discharge)",null,null,null,null,"Suction",null,"Discharge"]
[null,null,"Static head",null,1,"m",null,null,"Result",{"$f":"IF(AND(J12<J13,J17<J18),\"OK\",\"NOT OK\")","v":"NOT OK"},null,null,null,"f tebakan",1.7669277298306602E-2,null,null,null,null,null,null,"< 49 barg","> 49 barg"]
[null,null,"Pipe roughness",null,0.05,"mm",null,null,null,null,null,null,null,"f left",{"$f":"1/(O23)^0.5","v":7.5229921168662459},null,null,null,"Velocity","Pressure","Velocity","Pressure","Pressure"]
[null,null,"Length",null,50,"m",null,null,"Discharge Hydraulic",null,null,null,null,"f right",{"$f":"-2*LOG(O7/(3.7*J26*0.3048)+2.51/(J29*(O23)^0.5))","v":7.5224120155827219},null,null,0.5,0.9,0.13700000000000001,4.5,0.34300000000000003,0.68600000000000005]
[null,null,"Pipe size",null,1,"in",null,null,"Pipe ID",{"$f":"VLOOKUP(E50&\"-\"&E51,'Sheet2 (2)'!$D$4:$G$651,4,FALSE)*25.4/1000","v":0.10226039999999999},"m",null,null,"f left/f right",{"$f":"O24/O25","v":1.0000771163932956},"Goal seek",null,0.75,0.9,0.13700000000000001,4.5,0.34300000000000003,0.68600000000000005]
[null,null,"Schedule",null,40,null,null,null,"Velocity",{"$f":"E12/(PI()/4*J11^2)/3600","v":27.400084220926232},"m/s",null,null,"psi/100 ft",{"$f":"0.000336*O23*O9^2/(J26*1000/25.4)^5/O10","v":1.3405487611134721},null,null,1,0.9,0.13700000000000001,4.5,0.34300000000000003,0.68600000000000005]
[null,null,"Fittings",null,null,null,null,null,"Velocity acceptance",{"$f":"IF(E48<=18,4.5,6)","v":4.5},"m/s",null,null,"psi/ft",{"$f":"O27/100","v":1.3405487611134722E-2},null,null,1.5,0.9,0.13700000000000001,4.5,0.34300000000000003,0.68600000000000005]
[null,null,null,null,"Qty","K or DP per unit","DP",null,"Reynold number",{"$f":"E13*J28*J26/E16","v":459251.45639999991},null,null,null,"bar/100 m",{"$f":"O28*100/14.5/0.3048","v":0.30331902459803423},null,null,2,0.9,0.13700000000000001,4.5,0.34300000000000003,0.68600000000000005]
[null,null,"Elbow 90 LR",{"$f":"C30&$E$26","v":"Elbow 90 LR1"},1,{"$f":"VLOOKUP(D30,'K-value'!$D$4:$E$179,2,FALSE)","v":0.69},{"$f":"E30*F30*$J$12^2/(2*9.8)*$E$13*9.8/10^5","v":2.5849576469871192},null,null,null,null,null,null,null,null,null,null,3,1.2,0.13700000000000001,4.5,0.34300000000000003,0.68600000000000005]
[null,null,"Elbow 45 LR","Elbow 45 LR1",null,{"$f":"VLOOKUP(D31,'K-value'!$D$4:$E$179,2,FALSE)","v":0.37},0,null,null,null,null,null,null,null,null,null,null,4,1.2,0.13700000000000001,4.5,0.34300000000000003,0.68600000000000005]
[null,null,"Tee thru","Tee thru1",null,{"$f":"VLOOKUP(D32,'K-value'!$D$4:$E$179,2,FALSE)","v":0.46},0,null,"Pipe DP",{"$f":"O29","v":0.30331902459803423},"bar/100m",null,null,"NPSHA calculation",null,null,null,6,1.2,0.13700000000000001,4.5,0.34300000000000003,0.68600000000000005]
[null,null,"Tee branch","Tee branch1",3,{"$f":"VLOOKUP(D33,'K-value'!$D$4:$E$179,2,FALSE)","v":1.38},15.509745881922713,null,"Pipe DP acceptance",{"$f":"IF(E47<=49,0.343,0.686)","v":0.34300000000000003},"bar/100m",null,null,"HA",{"$f":"(E21+1.01)*100000/(E13*9.81)","v":20.530357350787195},"m",null,8,1.5,0.22500000000000001,4.5,0.34300000000000003,0.68600000000000005]
[null,null,"Ball valve","Ball valve1",2,{"$f":"VLOOKUP(D34,'K-value'!$D$4:$E$179,2,FALSE)","v":7.0000000000000007E-2},0.52448416025825606,null,"Static head",{"$f":"E13*9.8*E48/10^5","v":0.29341200000000006},"bar",null,null,"HZ",{"$f":"E23","v":1},"m",null,10,1.5,0.22500000000000001,4.5,0.34300000000000003,0.68600000000000005]
[null,null,"Butterfly valve","Butterfly valve1",null,{"$f":"VLOOKUP(D35,'K-value'!$D$4:$E$179,2,FALSE)","v":0.86},0,null,"Line losses",{"$f":"J32*E49/100","v":2.1565982648920237},"bar",null,null,"HF",{"$f":"SUM(J20:J21)*-1*10^5/(E13*9.8)","v":-2365.8652106089389},"m",null,12,1.5,0.22500000000000001,4.5,0.34300000000000003,0.68600000000000005]
[null,null,"Gate valve","Gate valve1",null,{"$f":"VLOOKUP(D36,'K-value'!$D$4:$E$179,2,FALSE)","v":0.18},0,null,"Fitting & eqp losses",{"$f":"G68+G70+G71+G72+G73+G74+G75","v":46.185166157303286},"bar",null,null,"HV",0,null,null,16,1.5,0.22500000000000001,4.5,0.34300000000000003,0.68600000000000005]
[null,null,"Globe valve","Globe valve1",null,{"$f":"VLOOKUP(D37,'K-value'!$D$4:$E$179,2,FALSE)","v":7.8},0,null,"Discharge Pressure",{"$f":"E47+J34+J35+J36","v":51.635176422195308},"barg",null,null,"HVP",{"$f":"E17*10^5/(E13*9.8)*-1","v":-10.326776000981553},"m",null,18,1.5,0.22500000000000001,4.5,0.34300000000000003,0.68600000000000005]
[null,null,"Check valve","Check valve1",null,{"$f":"VLOOKUP(D38,'K-value'!$D$4:$E$179,2,FALSE)","v":2.2999999999999998},0,null,"Result",{"$f":"IF(AND(J27<J28,J32<J33),\"OK\",\"NOT OK\")","v":"NOT OK"},null,null,null,"NPSHA",{"$f":"SUM(O33:O37)","v":-2354.6616292591334},"m",null,20,1.8,0.22500000000000001,6,0.34300000000000003,0.68600000000000005]
[null,null,"Plug valve","Plug valve1",null,{"$f":"VLOOKUP(D39,'K-value'!$D$4:$E$179,2,FALSE)","v":2.0699999999999998},0]
[null,null,"Pipe entrance","Pipe entrance1",1,{"$f":"VLOOKUP(D40,'K-value'!$D$4:$E$179,2,FALSE)","v":0.78},2.9221260357245691,null,"Pump Data"]
[null,null,"Suction strainer","Suction strainer1",1,0.05,{"$f":"F41*E41","v":0.05},null,"Suction Pressure",{"$f":"J22","v":-230.29327705839668},"barg"]
[null,null,"Total, barg",null,null,null,{"$f":"SUM(G30:G41)","v":21.591313724892661},null,"Discharge Pressure",{"$f":"J37","v":51.635176422195308},"barg",null,null,"Preferred rated output power (kW)"]
[null,null,"Contingency",null,null,null,0.2,null,"Differential Pressure",{"$f":"J42-J41","v":281.928453480592},"bar",null,null,0.37]
[null,null,"Total + Contingency",null,null,null,{"$f":"(1+G43)*G42","v":25.909576469871194},null,"Differential Head",{"$f":"J43*10^5/(E13*9.8)","v":2882.5861261358632},"m",null,null,0.55000000000000004]
[null,null,null,null,null,null,null,null,"Hydraulic Power",{"$f":"E13*9.8*J44*E12/3600000","v":430.72402615090448},"kW",null,null,0.75]
[null,null,"DISCHARGE",null,null,null,null,null,"Pump BHP",{"$f":"J45/E18","v":717.87337691817413},"kW",null,null,1.1000000000000001]
[null,null,"Target Pressure ",null,3,"barg",null,null,"Rated Power (calculated)",{"$f":"IF(J46<22,J46*1.25,IF(AND(J46>22,J46<55),J46*1.15,IF(J46>55,J46*1.1,\"ERROR\")))","v":789.6607146099916},"kW",null,null,1.5]
[null,null,"Static head",null,3,"m",null,null,"Rated Power (selected)",{"$f":"LARGE($N$43:$N$92,COUNTIF($N$43:$N$92,\">=\"&J47))","v":800},"kW",null,null,2.2000000000000002]
[null,null,"Length",null,711,"m",null,null,"NPSHa",{"$f":"O38","v":-2354.6616292591334},"m",null,null,3.7]
[null,null,"Pipe size",null,4,"in",null,null,"NPSHr",{"$f":"J49-1","v":-2355.6616292591334},"m",null,null,5.5]
[null,null,"Schedule",null,40,null,null,null,"P shut in",{"$f":"E22+1.3*J43","v":368.50698952476961},"barg",null,null,7.5]
[null,null,"Fittings",null,null,null,null,null,null,null,null,null,null,11]
[null,null,null,null,"Qty","K or DP per unit","DP",null,null,null,null,null,null,15]
[null,null,"Elbow 90 LR",{"$f":"C54&$E$50","v":"Elbow 90 LR4"},10,{"$f":"VLOOKUP(D54,'K-value'!$D$4:$E$179,2,FALSE)","v":0.27},{"$f":"E54*F54*$J$12^2/(2*9.8)*$E$13*9.8/10^5","v":10.115051662123511},null,null,null,null,null,null,18.5]
[null,null,"Elbow 45 LR","Elbow 45 LR4",null,{"$f":"VLOOKUP(D55,'K-value'!$D$4:$E$179,2,FALSE)","v":0.27},0,null,null,null,null,null,null,22]
[null,null,"Tee thru","Tee thru4",null,{"$f":"VLOOKUP(D56,'K-value'!$D$4:$E$179,2,FALSE)","v":0.34},0,null,null,null,null,null,null,30]
[null,null,"Tee branch","Tee branch4",2,{"$f":"VLOOKUP(D57,'K-value'!$D$4:$E$179,2,FALSE)","v":1.02},7.6424834780488737,null,null,null,null,null,null,37]
[null,null,"Ball valve","Ball valve4",6,{"$f":"VLOOKUP(D58,'K-value'!$D$4:$E$179,2,FALSE)","v":0.05},1.1238946291248344,null,null,null,null,null,null,45]
[null,null,"Butterfly valve","Butterfly valve4",null,{"$f":"VLOOKUP(D59,'K-value'!$D$4:$E$179,2,FALSE)","v":0.77},0,null,null,null,null,null,null,55]
[null,null,"Gate valve","Gate valve4",null,{"$f":"VLOOKUP(D60,'K-value'!$D$4:$E$179,2,FALSE)","v":0.14000000000000001},0,null,null,null,null,null,null,75]
[null,null,"Globe valve","Globe valve4",null,{"$f":"VLOOKUP(D61,'K-value'!$D$4:$E$179,2,FALSE)","v":5.8},0,null,null,null,null,null,null,90]
[null,null,"Check valve","Check valve4",3,{"$f":"VLOOKUP(D62,'K-value'!$D$4:$E$179,2,FALSE)","v":1.7},19.106208695122184,null,null,null,null,null,null,110]
[null,null,"Plug valve","Plug valve4",null,{"$f":"VLOOKUP(D63,'K-value'!$D$4:$E$179,2,FALSE)","v":1.53},0,null,null,null,null,null,null,132]
[null,null,"Pipe entrance","Pipe entrance4",null,{"$f":"VLOOKUP(D64,'K-value'!$D$4:$E$179,2,FALSE)","v":0.78},0,null,null,null,null,null,null,150]
[null,null,"Flow orifice","Flow orifice4",2,0.25,{"$f":"F65*E65","v":0.5},null,null,null,null,null,null,160]
[null,null,"Total, barg",null,null,null,{"$f":"SUM(G54:G65)","v":38.487638464419405},null,null,null,null,null,null,185]
[null,null,"Contingency",null,null,null,0.2,null,null,null,null,null,null,200]
[null,null,"Total + contingency, barg",null,null,null,{"$f":"G66*(1+G67)","v":46.185166157303286},null,null,null,null,null,null,220]
[null,null,"Pressure Loss due to Equipment",null,null,null,null,null,null,null,null,null,null,250]
[null,null,"Control valve",null,null,null,{"$f":"F70*E70","v":0},null,null,null,null,null,null,280]
[null,null,"Flow element",null,null,null,0,null,null,null,null,null,null,300]
[null,null,"Equipment A",null,null,null,0,null,null,null,null,null,null,315]
[null,null,"Equipment B",null,null,null,0,null,null,null,null,null,null,335]
[null,null,"Equipment C",null,null,null,0,null,null,null,null,null,null,355]
[null,null,"Equipment D",null,null,null,0,null,null,null,null,null,null,375]
[null,null,null,null,null,null,null,null,null,null,null,null,null,400]
[null,null,null,null,null,null,null,null,null,null,null,null,null,425]
[null,null,null,null,null,null,null,null,null,null,null,null,null,450]
[null,null,null,null,null,null,null,null,null,null,null,null,null,475]
[null,null,null,null,null,null,null,null,null,null,null,null,null,500]
[null,null,null,null,null,null,null,null,null,null,null,null,null,530]
[null,null,null,null,null,null,null,null,null,null,null,null,null,560]
[null,null,null,null,null,null,null,null,null,null,null,null,null,600]
[null,null,null,null,null,null,null,null,null,null,null,null,null,630]
[null,null,null,null,null,null,null,null,null,null,null,null,null,670]
[null,null,null,null,null,null,null,null,null,null,null,null,null,710]
[null,null,null,null,null,null,null,null,null,null,null,null,null,750]
[null,null,null,null,null,null,null,null,null,null,null,null,null,800]
[null,null,null,null,null,null,null,null,null,null,null,null,null,850]
[null,null,null,null,null,null,null,null,null,null,null,null,null,900]
[null,null,null,null,null,null,null,null,null,null,null,null,null,950]
[null,null,null,null,null,null,null,null,null,null,null,null,null,1000]

{"sheet":"How to use","index":21,"n_rows":8,"n_cols":3,"rows_kept":8,"cut":false,"hidden":false,"merged":[[7,2,7,18],[2,2,2,18],[3,2,3,18],[4,2,4,18],[5,2,5,18],[6,2,6,18]]}
[]
[null,"How To Use"]
[null,1,"This pump sizing is calculated based on rated capacity. If you wish to size based on normal capacity, put 100% on \"Percentage of rated flow rate\""]
[null,2,"Cell in dark orange is input cell. You can change the value"]
[null,3,"When sizing inlet and outlet pipe diameter, input \"Velocity Acceptance\" and \"Pipe DP Acceptance\" first. I input default value that I usually use"]
[null,4,"Sizing of inlet and outlet pipe diameter is done by input the guessed value, then check if \"Result\" is OK. Don't forget to always click \"Calculate inlet pipe pressure drop\" or \"Calculate outlet pipe pressure drop\" whenever to change the diameter"]
[null,5,"Ensure you input correct \"Target Pressure\". The Pump Sizing purpose is to calculate required differential pressure based on pressure loss along the pipe so that it meets \"Target Pressure\""]
[null,6,"\"Rated Power (selected)\" is determined based on commercial available power output of motor"]

{"sheet":"Transfer Pump","index":22,"n_rows":71,"n_cols":24,"rows_kept":71,"cut":false,"hidden":true,"merged":[[0,5,3,10],[24,18,25,18],[24,19,25,20],[24,21,24,23]]}
[null,null,null,null,null,"PUMP SIZING"]
[]
[]
[]
[null,null,"Project: FEED PROYEK LNG JAWA"]
[]
[null,null,"Tag No:",null,"KRWG-P-001A/B"]
[null,null,"Description:",null,"LNG Transfer Pump"]
[null,null,"Location:",null,"Karawang",null,null,null,null,null,null,null,null,null,"Pipe roughness",0.05,"mm"]
[null,null,null,null,null,null,null,null,null,null,null,null,null,null,null,{"$f":"P9/1000/3.28","v":1.5243902439024392E-5},"ft"]
[]
[null,null,"DATA",null,null,null,null,null,"RESULTS",null,null,null,null,null,"Mass flow",{"$f":"E14*E15/0.45","v":20187.2},"lb/hr"]
[null,null,"Flow rate (normal)",null,18,"m3/h",null,null,"Suction Hydraulic",null,null,null,null,null,"Rho",{"$f":"E15/16.02","v":28.639200998751562},"lb/ft3"]
[null,null,"Flow rate (rated)",null,{"$f":"1.1*E13","v":19.8},"m3/h",null,null,"Pipe ID",{"$f":"VLOOKUP(E27,'Pipe size sch 40'!$A$5:$C$27,3,FALSE)*25.4/1000","v":7.7977999999999992E-2},"m"]
[null,null,"Density",null,458.8,"kg/m3",null,null,"Velocity",{"$f":"E14/(PI()/4*J14^2)/3600","v":1.1516715113841971},"m/s",null,null,null,"Side Calculation (Suction)"]
[null,null,"Flow temperature",null,-158.4,"deg C",null,null,"Velocity acceptance",{"$f":"IF(E27<=2,0.9,IF(OR(E27>=3,E27<=6),1.2,IF(OR(E27>=8,E27<=18),1.5,1.8)))","v":1.2},"m/s","(max)",null,null,"f tebakan",1.8967652688417456E-2]
[null,null,"Viscocity",null,0.1434,"cP",null,null,"Reynold number",{"$f":"E15*J16*J14/E18","v":299383.31715481164},null,null,null,null,"f left",{"$f":"1/(P16)^0.5","v":7.2609459783100894}]
[null,null,null,null,{"$f":"E17*10^-3","v":1.4340000000000002E-4},"Nm2/s",null,null,"Pipe DP",{"$f":"P22","v":7.5243553537109681E-2},"bar/100m",null,null,null,"f right",{"$f":"-2*LOG(P10/(3.7*J14*0.3048)+2.51/(J17*(P16)^0.5))","v":7.2607576894757946}]
[null,null,"Vapor pressure",null,{"$f":"'Pump sizing'!E17","v":1.01},"bara",null,null,"Pipe DP acceptance",{"$f":"IF(E27<=6,0.137,0.225)","v":0.13700000000000001},"bar/100m",null,null,null,"f left/f right",{"$f":"P17/P18","v":1.0000259323947096},"Goal seek"]
[null,null,"Pump efficiency",null,0.45,null,null,null,"Static head",{"$f":"E15*9.8*E25/10^5","v":4.4962400000000007E-2},"bar",null,null,null,"psi/100 ft",{"$f":"0.000336*P16*P12^2/(J14*1000/25.4)^5/P13","v":0.33254640921260997}]
[null,null,null,null,null,null,null,null,"Pipe friction loss",{"$f":"J18*E26/100","v":7.5243553537109676E-3},"bar",null,null,null,"psi/ft",{"$f":"P20/100","v":3.3254640921260999E-3}]
[null,null,"SUCTION",null,null,null,null,null,"Fitting friction loss",{"$f":"G45","v":8.139584896421713E-2},"bar",null,null,null,"bar/100 m",{"$f":"P21*100/14.5/0.3048","v":7.5243553537109681E-2}]
[null,null,"Pressure at Vessel (min)",null,1,"barg",null,null,"Suction Pressure",{"$f":"E23+J20-SUM(J21:J22)","v":0.95604219568207183},"barg"]
[null,null,"Pressure at Vessel (max)",null,5,"barg",null,null,"Result",{"$f":"IF(AND(J15<J16,J18<J19),\"OK\",\"NOT OK\")","v":"OK"}]
[null,null,"Static head",null,1,"m",null,null,null,null,null,null,null,null,"Side Calculation (Discharge)",null,null,null,null,"Suction",null,"Discharge"]
[null,null,"Length",null,10,"m",null,null,"Discharge Hydraulic",null,null,null,null,null,"f tebakan",1.8060578639456818E-2,null,null,null,null,null,null,"< 49 barg","> 49 barg"]
[null,null,"Pipe size",null,3,"in",null,null,"Pipe ID",{"$f":"VLOOKUP(E51,'Pipe size sch 40'!$A$5:$C$27,3,FALSE)*25.4/1000","v":7.7977999999999992E-2},"m",null,null,null,"f left",{"$f":"1/(P26)^0.5","v":7.4410490915614833},null,null,null,"Velocity","Pressure","Velocity","Pressure","Pressure"]
[null,null,"Schedule",null,40,null,null,null,"Velocity",{"$f":"E14/(PI()/4*J14^2)/3600","v":1.1516715113841971},"m/s",null,null,null,"f right",{"$f":"-2*LOG(P10/(3.7*J27*0.3048)+2.51/(J30*(P26)^0.5))","v":7.4425868264634403},null,null,0.5,0.9,0.13700000000000001,4.5,0.34300000000000003,0.68600000000000005]
[null,null,"Fittings",null,null,null,null,null,"Velocity acceptance",{"$f":"IF(E49<=18,4.5,6)","v":4.5},"m/s","(max)",null,null,"f left/f right",{"$f":"P27/P28","v":0.99979338703896747},"Goal seek",null,0.75,0.9,0.13700000000000001,4.5,0.34300000000000003,0.68600000000000005]
[null,null,null,null,"Qty","K","DP",null,"Reynold number",{"$f":"E15*J29*J27/E18","v":1122687.4393305436},null,null,null,null,"psi/100 ft",{"$f":"0.000336*P26*P12^2/(J27*1000/25.4)^5/P13","v":0.31664332289893021},null,null,1,0.9,0.13700000000000001,4.5,0.34300000000000003,0.68600000000000005]
[null,null,"Elbow 90 LR",{"$f":"C31&$E$27","v":"Elbow 90 LR3"},6,{"$f":"VLOOKUP(D31,'K-value'!$D$4:$E$146,2,FALSE)","v":0.28999999999999998},{"$f":"E31*F31*$J$15^2/(2*9.8)*$E$15*9.8/10^5","v":5.2941947095759122E-3},null,"Pipe DP",{"$f":"P32","v":7.1645244569402258E-2},"bar/100m",null,null,null,"psi/ft",{"$f":"P30/100","v":3.1664332289893021E-3},null,null,1.5,0.9,0.13700000000000001,4.5,0.34300000000000003,0.68600000000000005]
[null,null,"Elbow 45 LR","Elbow 45 LR3",null,{"$f":"VLOOKUP(D32,'K-value'!$D$4:$E$146,2,FALSE)","v":0.28999999999999998},0,null,"Pipe DP acceptance",{"$f":"IF(E48<=49,0.343,0.686)","v":0.34300000000000003},"bar/100m",null,null,null,"bar/100 m",{"$f":"P31*100/14.5/0.3048","v":7.1645244569402258E-2},null,null,2,0.9,0.13700000000000001,4.5,0.34300000000000003,0.68600000000000005]
[null,null,"Tee thru","Tee thru3",null,{"$f":"VLOOKUP(D33,'K-value'!$D$4:$E$146,2,FALSE)","v":0.36},0,null,"Static head",{"$f":"E15*9.8*E49/10^5","v":0.67443600000000004},"bar","note 1",null,null,null,null,null,null,3,1.2,0.13700000000000001,4.5,0.34300000000000003,0.68600000000000005]
[null,null,"Tee branch","Tee branch3",3,{"$f":"VLOOKUP(D34,'K-value'!$D$4:$E$146,2,FALSE)","v":1.08},9.8581556661068732E-3,null,"Line losses",{"$f":"J31*E50/100","v":2.1493573370820678E-2},"bar",null,null,null,null,null,null,null,4,1.2,0.13700000000000001,4.5,0.34300000000000003,0.68600000000000005]
[null,null,"Ball valve","Ball valve3",2,{"$f":"VLOOKUP(D35,'K-value'!$D$4:$E$146,2,FALSE)","v":0.05},3.0426406376873064E-4,null,"Fitting & eqp losses",{"$f":"G69+G71+G72","v":0.63399238120424251},"bar",null,null,null,"NPSHA calculation",null,null,null,6,1.2,0.13700000000000001,4.5,0.34300000000000003,0.68600000000000005]
[null,null,"Butterfly valve","Butterfly valve3",null,{"$f":"VLOOKUP(D36,'K-value'!$D$4:$E$146,2,FALSE)","v":0.81},0,null,"Discharge Pressure",{"$f":"E48+J33+J34+J35","v":3.3299219545750631},"barg",null,null,null,"HA",{"$f":"(E23+1.01)*100000/(E15*9.81)","v":44.658449511956455},"m",null,8,1.5,0.22500000000000001,4.5,0.34300000000000003,0.68600000000000005]
[null,null,"Gate valve","Gate valve3",null,{"$f":"VLOOKUP(D37,'K-value'!$D$4:$E$146,2,FALSE)","v":0.14000000000000001},0,null,"Result",{"$f":"IF(AND(J28<J29,J31<J32),\"OK\",\"NOT OK\")","v":"OK"},null,null,null,null,"HZ",{"$f":"E25","v":1},"m",null,10,1.5,0.22500000000000001,4.5,0.34300000000000003,0.68600000000000005]
[null,null,"Globe valve","Globe valve3",null,{"$f":"VLOOKUP(D38,'K-value'!$D$4:$E$146,2,FALSE)","v":6.1},0,null,null,null,null,null,null,null,"HF",{"$f":"SUM(J21:J22)*-1*10^5/(E15*9.8)","v":-1.9776569826772614},"m",null,12,1.5,0.22500000000000001,4.5,0.34300000000000003,0.68600000000000005]
[null,null,"Check valve","Check valve3",null,{"$f":"VLOOKUP(D39,'K-value'!$D$4:$E$146,2,FALSE)","v":1.8},0,null,"Pump Data",null,null,null,null,null,"HV",0,null,null,16,1.5,0.22500000000000001,4.5,0.34300000000000003,0.68600000000000005]
[null,null,"Plug valve","Plug valve3",null,{"$f":"VLOOKUP(D40,'K-value'!$D$4:$E$146,2,FALSE)","v":1.62},0,null,"Suction Pressure",{"$f":"J23","v":0.95604219568207183},"barg",null,null,null,"HVP",{"$f":"E19*10^5/(E15*9.8)*-1","v":-22.463213707453335},"m",null,18,1.5,0.22500000000000001,4.5,0.34300000000000003,0.68600000000000005]
[null,null,"Pipe entrance","Pipe entrance3",1,{"$f":"VLOOKUP(D41,'K-value'!$D$4:$E$146,2,FALSE)","v":0.78},2.3732596973960987E-3,null,"Discharge Pressure",{"$f":"J36","v":3.3299219545750631},"barg",null,null,null,"NPSHA",{"$f":"SUM(P36:P40)","v":21.21757882182586},"m",null,20,1.8,0.22500000000000001,6,0.34300000000000003,0.68600000000000005]
[null,null,"Suction strainer","Suction strainer3",1,null,{"$f":"0.05*E42","v":0.05},null,"Selected disc. Pressure",{"$f":"J41","v":3.3299219545750631},"barg"]
[null,null,"Total, barg",null,null,null,{"$f":"SUM(G31:G42)","v":6.7829874136847615E-2},null,"Differential Pressure",{"$f":"J42-J40","v":2.3738797588929912},"bar"]
[null,null,"Contingency",null,null,null,0.2,null,"Differential Head",{"$f":"J43*10^5/(E15*9.8)","v":52.796998356248572},"m"]
[null,null,"Total + Contingency",null,null,null,{"$f":"(1+G44)*G43","v":8.139584896421713E-2},null,"Hydraulic Power",{"$f":"E15*9.8*J44*E14/3600000","v":1.3056338673911454},"kW"]
[null,null,null,null,null,null,null,null,"Pump BHP",{"$f":"J45/E20","v":2.9014085942025454},"kW",null,null,null,{"$f":"50*9.8*460/100000","v":2.2540000000000004}]
[null,null,"DISCHARGE",null,null,null,null,null,"Rated Power (calculated)",{"$f":"IF(J46<22,J46*1.25,IF(AND(J46>22,J46<55),J46*1.15,IF(J46>55,J46*1.1,\"ERROR\")))","v":3.6267607427531816},"kW"]
[null,null,"Target Pressure ",null,2,"barg",null,null,"Rated Power (selected)",3.7,"kW"]
[null,null,"Static head",null,15,"m","note 2",null,"NPSHa",{"$f":"P41","v":21.21757882182586},"m"]
[null,null,"Length",null,30,"m","(plot plan)",null,"NPSHr",{"$f":"J49-1","v":20.21757882182586},"m"]
[null,null,"Pipe size",null,3,"in"]
[null,null,"Schedule",null,40,null,null,null,"Shut in Pressure"]
[null,null,"Fittings",null,null,null,null,null,"P shut in","-","barg"]
[null,null,null,null,"Qty","K","DP"]
[null,null,"Elbow 90 LR",{"$f":"C55&$E$51","v":"Elbow 90 LR3"},5,{"$f":"VLOOKUP(D55,'K-value'!$D$4:$E$146,2,FALSE)","v":0.28999999999999998},{"$f":"E55*F55*$J$15^2/(2*9.8)*$E$15*9.8/10^5","v":4.4118289246465941E-3}]
[null,null,"Elbow 45 LR","Elbow 45 LR3",null,{"$f":"VLOOKUP(D56,'K-value'!$D$4:$E$146,2,FALSE)","v":0.28999999999999998},0]
[null,null,"Tee thru","Tee thru3",null,{"$f":"VLOOKUP(D57,'K-value'!$D$4:$E$146,2,FALSE)","v":0.36},0]
[null,null,"Tee branch","Tee branch3",2,{"$f":"VLOOKUP(D58,'K-value'!$D$4:$E$146,2,FALSE)","v":1.08},6.5721037774045818E-3]
[null,null,"Ball valve","Ball valve3",6,{"$f":"VLOOKUP(D59,'K-value'!$D$4:$E$146,2,FALSE)","v":0.05},9.1279219130619208E-4]
[null,null,"Butterfly valve","Butterfly valve3",null,{"$f":"VLOOKUP(D60,'K-value'!$D$4:$E$146,2,FALSE)","v":0.81},0]
[null,null,"Gate valve","Gate valve3",null,{"$f":"VLOOKUP(D61,'K-value'!$D$4:$E$146,2,FALSE)","v":0.14000000000000001},0]
[null,null,"Globe valve","Globe valve3",null,{"$f":"VLOOKUP(D62,'K-value'!$D$4:$E$146,2,FALSE)","v":6.1},0]
[null,null,"Check valve","Check valve3",3,{"$f":"VLOOKUP(D63,'K-value'!$D$4:$E$146,2,FALSE)","v":1.8},1.6430259443511456E-2]
[null,null,"Plug valve","Plug valve3",null,{"$f":"VLOOKUP(D64,'K-value'!$D$4:$E$146,2,FALSE)","v":1.62},0]
[null,null,"Pipe entrance","Pipe entrance3",null,{"$f":"VLOOKUP(D65,'K-value'!$D$4:$E$146,2,FALSE)","v":0.78},0]
[null,null,"Flow orifice","Flow orifice3",1,null,0.25]
[null,null,"Total, barg",null,null,null,{"$f":"SUM(G55:G66)","v":0.27832698433686881}]
[null,null,"Contingency",null,null,null,0.2]
[null,null,"Total + contingency, barg",null,null,null,{"$f":"G67*(1+G68)","v":0.33399238120424257}]
[]
[null,null,"Control valve",null,null,null,0.3]

{"sheet":"Karawang (LP Pump)","index":23,"n_rows":72,"n_cols":24,"rows_kept":72,"cut":false,"hidden":true,"merged":[[0,5,3,10],[24,18,25,18],[24,19,25,20],[24,21,24,23]]}
[null,null,null,null,null,"PUMP SIZING"]
[]
[]
[]
[null,null,"Project: FEED PROYEK LNG JAWA"]
[]
[null,null,"Tag No:",null,"KRWG-P-002A/B"]
[null,null,"Description:",null,"LNG LP Pump"]
[null,null,"Location:",null,"Karawang",null,null,null,null,null,null,null,null,null,"Pipe roughness",0.05,"mm"]
[null,null,null,null,null,null,null,null,null,null,null,null,null,null,null,{"$f":"P9/1000/3.28","v":1.5243902439024392E-5},"ft"]
[]
[null,null,"DATA",null,null,null,null,null,"RESULTS",null,null,null,null,null,"Mass flow",{"$f":"E13*E15/0.45","v":19575.466666666664},"lb/hr"]
[null,null,"Flow rate (normal)",null,{"$f":"9.6*2","v":19.2},"m3/h",null,null,"Suction Hydraulic",null,null,null,null,null,"Rho",{"$f":"E15/16.02","v":28.639200998751562},"lb/ft3"]
[null,null,"Flow rate (rated)",null,{"$f":"1.1*E13","v":21.12},"m3/h",null,null,"Pipe ID",{"$f":"VLOOKUP(E27,'Pipe size sch 40'!$A$5:$C$27,3,FALSE)*25.4/1000","v":7.7977999999999992E-2},"m"]
[null,null,"Density",null,458.8,"kg/m3",null,null,"Velocity",{"$f":"E13/(PI()/4*J14^2)/3600","v":1.1167723746755849},"m/s",null,null,null,"Side Calculation (Suction)"]
[null,null,"Flow temperature",null,-158.4,"deg C",null,null,"Velocity acceptance",{"$f":"IF(E27<=2,0.9,IF(OR(E27>=3,E27<=6),1.2,IF(OR(E27>=8,E27<=18),1.5,1.8)))","v":1.2},"m/s","(max)",null,null,"f tebakan",1.8967652688417456E-2]
[null,null,"Viscocity",null,0.1434,"cP",null,null,"Reynold number",{"$f":"E15*J16*J14/E18","v":299383.31715481164},null,null,null,null,"f left",{"$f":"1/(P16)^0.5","v":7.2609459783100894}]
[null,null,null,null,{"$f":"E17*10^-3","v":1.4340000000000002E-4},"Nm2/s",null,null,"Pipe DP",{"$f":"P22","v":7.0752432343434618E-2},"bar/100m",null,null,null,"f right",{"$f":"-2*LOG(P10/(3.7*J14*0.3048)+2.51/(J17*(P16)^0.5))","v":7.2607576894757946}]
[null,null,"Vapor pressure",null,{"$f":"'Pump sizing'!E17","v":1.01},"bara",null,null,"Pipe DP acceptance",{"$f":"IF(E27<=6,0.137,0.225)","v":0.13700000000000001},"bar/100m",null,null,null,"f left/f right",{"$f":"P17/P18","v":1.0000259323947096},"Goal seek"]
[null,null,"Pump efficiency",null,0.45,null,null,null,"Static head",{"$f":"E15*9.8*E25/10^5","v":0.1011654},"bar",null,null,null,"psi/100 ft",{"$f":"0.000336*P16*P12^2/(J14*1000/25.4)^5/P13","v":0.31269744998504362}]
[null,null,null,null,null,null,null,null,"Pipe friction loss",{"$f":"J18*E26/100","v":7.0752432343434623E-3},"bar",null,null,null,"psi/ft",{"$f":"P20/100","v":3.126974499850436E-3}]
[null,null,"SUCTION",null,null,null,null,null,"Fitting friction loss",{"$f":"G45","v":8.0118778089401599E-2},"bar",null,null,null,"bar/100 m",{"$f":"P21*100/14.5/0.3048","v":7.0752432343434618E-2}]
[null,null,"Pressure at Vessel (min)",null,2,"barg",null,null,"Suction Pressure",{"$f":"E23+J20-SUM(J21:J22)","v":2.013971378676255},"barg"]
[null,null,"Pressure at Vessel (max)",null,5,"barg",null,null,"Result",{"$f":"IF(AND(J15<J16,J18<J19),\"OK\",\"NOT OK\")","v":"OK"}]
[null,null,"Static head",null,2.25,"m","(vertical tank)",null,null,null,null,null,null,null,"Side Calculation (Discharge)",null,null,null,null,"Suction",null,"Discharge"]
[null,null,"Length",null,10,"m","(plot plan)",null,"Discharge Hydraulic",null,null,null,null,null,"f tebakan",1.8060578639456818E-2,null,null,null,null,null,null,"< 49 barg","> 49 barg"]
[null,null,"Pipe size",null,3,"in",null,null,"Pipe ID",{"$f":"VLOOKUP(E51,'Pipe size sch 40'!$A$5:$C$27,3,FALSE)*25.4/1000","v":7.7977999999999992E-2},"m",null,null,null,"f left",{"$f":"1/(P26)^0.5","v":7.4410490915614833},null,null,null,"Velocity","Pressure","Velocity","Pressure","Pressure"]
[null,null,"Schedule",null,40,null,null,null,"Velocity",{"$f":"E13/(PI()/4*J14^2)/3600","v":1.1167723746755849},"m/s",null,null,null,"f right",{"$f":"-2*LOG(P10/(3.7*J27*0.3048)+2.51/(J30*(P26)^0.5))","v":7.4425868264634403},null,null,0.5,0.9,0.13700000000000001,4.5,0.34300000000000003,0.68600000000000005]
[null,null,"Fittings",null,null,null,null,null,"Velocity acceptance",{"$f":"IF(E49<=18,4.5,6)","v":4.5},"m/s","(max)",null,null,"f left/f right",{"$f":"P27/P28","v":0.99979338703896747},"Goal seek",null,0.75,0.9,0.13700000000000001,4.5,0.34300000000000003,0.68600000000000005]
[null,null,null,null,"Qty","K","DP",null,"Reynold number",{"$f":"E15*J29*J27/E18","v":1122687.4393305436},null,null,null,null,"psi/100 ft",{"$f":"0.000336*P26*P12^2/(J27*1000/25.4)^5/P13","v":0.29774358369926945},null,null,1,0.9,0.13700000000000001,4.5,0.34300000000000003,0.68600000000000005]
[null,null,"Elbow 90 LR",{"$f":"C31&$E$27","v":"Elbow 90 LR3"},6,{"$f":"VLOOKUP(D31,'K-value'!$D$4:$E$146,2,FALSE)","v":0.28999999999999998},{"$f":"E31*F31*$J$15^2/(2*9.8)*$E$15*9.8/10^5","v":4.9781959436232624E-3},null,"Pipe DP",{"$f":"P32","v":6.7368898474809813E-2},"bar/100m",null,null,null,"psi/ft",{"$f":"P30/100","v":2.9774358369926944E-3},null,null,1.5,0.9,0.13700000000000001,4.5,0.34300000000000003,0.68600000000000005]
[null,null,"Elbow 45 LR","Elbow 45 LR3",null,{"$f":"VLOOKUP(D32,'K-value'!$D$4:$E$146,2,FALSE)","v":0.28999999999999998},0,null,"Pipe DP acceptance",0.34300000000000003,"bar/100m",null,null,null,"bar/100 m",{"$f":"P31*100/14.5/0.3048","v":6.7368898474809813E-2},null,null,2,0.9,0.13700000000000001,4.5,0.34300000000000003,0.68600000000000005]
[null,null,"Tee thru","Tee thru3",null,{"$f":"VLOOKUP(D33,'K-value'!$D$4:$E$146,2,FALSE)","v":0.36},0,null,"Static head",{"$f":"E15*9.8*E49/10^5","v":8.9924800000000013E-2},"bar","note 1",null,null,null,null,null,null,3,1.2,0.13700000000000001,4.5,0.34300000000000003,0.68600000000000005]
[null,null,"Tee branch","Tee branch3",3,{"$f":"VLOOKUP(D34,'K-value'!$D$4:$E$146,2,FALSE)","v":1.08},9.2697441708846952E-3,null,"Line losses",{"$f":"J31*E50/100","v":4.7158228932366868E-2},"bar",null,null,null,null,null,null,null,4,1.2,0.13700000000000001,4.5,0.34300000000000003,0.68600000000000005]
[null,null,"Ball valve","Ball valve3",2,{"$f":"VLOOKUP(D35,'K-value'!$D$4:$E$146,2,FALSE)","v":0.05},2.8610321515076223E-4,null,"Fitting & eqp losses",{"$f":"G69+G71+G72","v":0.73196345119664308},"bar",null,null,null,"NPSHA calculation",null,null,null,6,1.2,0.13700000000000001,4.5,0.34300000000000003,0.68600000000000005]
[null,null,"Butterfly valve","Butterfly valve3",null,{"$f":"VLOOKUP(D36,'K-value'!$D$4:$E$146,2,FALSE)","v":0.81},0,null,"Discharge Pressure",{"$f":"E48+J33+J34+J35","v":8.8690464801290094},"barg",null,null,null,"HA",{"$f":"(E23+1.01)*100000/(E15*9.81)","v":66.876583597506936},"m",null,8,1.5,0.22500000000000001,4.5,0.34300000000000003,0.68600000000000005]
[null,null,"Gate valve","Gate valve3",null,{"$f":"VLOOKUP(D37,'K-value'!$D$4:$E$146,2,FALSE)","v":0.14000000000000001},0,null,"Result",{"$f":"IF(AND(J28<J29,J31<J32),\"OK\",\"NOT OK\")","v":"OK"},null,null,null,null,"HZ",{"$f":"E25","v":2.25},"m",null,10,1.5,0.22500000000000001,4.5,0.34300000000000003,0.68600000000000005]
[null,null,"Globe valve","Globe valve3",null,{"$f":"VLOOKUP(D38,'K-value'!$D$4:$E$146,2,FALSE)","v":6.1},0,null,null,null,null,null,null,null,"HF",{"$f":"SUM(J21:J22)*-1*10^5/(E15*9.8)","v":-1.9392652821856717},"m",null,12,1.5,0.22500000000000001,4.5,0.34300000000000003,0.68600000000000005]
[null,null,"Check valve","Check valve3",null,{"$f":"VLOOKUP(D39,'K-value'!$D$4:$E$146,2,FALSE)","v":1.8},0,null,"Pump Data",null,null,null,null,null,"HV",0,null,null,16,1.5,0.22500000000000001,4.5,0.34300000000000003,0.68600000000000005]
[null,null,"Plug valve","Plug valve3",null,{"$f":"VLOOKUP(D40,'K-value'!$D$4:$E$146,2,FALSE)","v":1.62},0,null,"Suction Pressure",{"$f":"J23","v":2.013971378676255},"barg",null,null,null,"HVP",{"$f":"E19*10^5/(E15*9.8)*-1","v":-22.463213707453335},"m",null,18,1.5,0.22500000000000001,4.5,0.34300000000000003,0.68600000000000005]
[null,null,"Pipe entrance","Pipe entrance3",1,{"$f":"VLOOKUP(D41,'K-value'!$D$4:$E$146,2,FALSE)","v":0.78},2.2316050781759455E-3,null,"Discharge Pressure",{"$f":"J36","v":8.8690464801290094},"barg",null,null,null,"NPSHA",{"$f":"SUM(P36:P40)","v":44.724104607867929},"m",null,20,1.8,0.22500000000000001,6,0.34300000000000003,0.68600000000000005]
[null,null,"Suction strainer","Suction strainer3",1,null,{"$f":"0.05*E42","v":0.05},null,"Selected disc. Pressure",{"$f":"J41","v":8.8690464801290094},"barg"]
[null,null,"Total, barg",null,null,null,{"$f":"SUM(G31:G42)","v":6.6765648407834666E-2},null,"Differential Pressure",{"$f":"J42-J40","v":6.8550751014527549},"bar"]
[null,null,"Contingency",null,null,null,0.2,null,"Differential Head",{"$f":"J43*10^5/(E15*9.8)","v":152.46239305403523},"m"]
[null,null,"Total + Contingency",null,null,null,{"$f":"(1+G44)*G43","v":8.0118778089401599E-2},null,"Hydraulic Power",{"$f":"E15*9.8*J44*E14/3600000","v":4.02164405951895},"kW"]
[null,null,null,null,null,null,null,null,"Pump BHP",{"$f":"J45/E20","v":8.9369867989310006},"kW"]
[null,null,"DISCHARGE",null,null,null,null,null,"Rated Power (calculated)",{"$f":"IF(J46<22,J46*1.25,IF(AND(J46>22,J46<55),J46*1.15,IF(J46>55,J46*1.1,\"ERROR\")))","v":11.171233498663751},"kW"]
[null,null,"Target Pressure ",null,8,"barg",null,null,"Rated Power (selected)",15,"kW"]
[null,null,"Static head",null,2,"m","note 2",null,"NPSHa",{"$f":"P41","v":44.724104607867929},"m"]
[null,null,"Length",null,70,"m","(plot plan)",null,"NPSHr",{"$f":"J49-1","v":43.724104607867929},"m"]
[null,null,"Pipe size",null,3,"in"]
[null,null,"Schedule",null,40,null,null,null,"Shut in Pressure"]
[null,null,"Fittings",null,null,null,null,null,"P shut in",{"$f":"E24+1.3*J43","v":13.911597631888581},"barg"]
[null,null,null,null,"Qty","K","DP"]
[null,null,"Elbow 90 LR",{"$f":"C55&$E$51","v":"Elbow 90 LR3"},5,{"$f":"VLOOKUP(D55,'K-value'!$D$4:$E$146,2,FALSE)","v":0.28999999999999998},{"$f":"E55*F55*$J$15^2/(2*9.8)*$E$15*9.8/10^5","v":4.1484966196860514E-3}]
[null,null,"Elbow 45 LR","Elbow 45 LR3",null,{"$f":"VLOOKUP(D56,'K-value'!$D$4:$E$146,2,FALSE)","v":0.28999999999999998},0]
[null,null,"Tee thru","Tee thru3",null,{"$f":"VLOOKUP(D57,'K-value'!$D$4:$E$146,2,FALSE)","v":0.36},0]
[null,null,"Tee branch","Tee branch3",2,{"$f":"VLOOKUP(D58,'K-value'!$D$4:$E$146,2,FALSE)","v":1.08},6.1798294472564649E-3]
[null,null,"Ball valve","Ball valve3",6,{"$f":"VLOOKUP(D59,'K-value'!$D$4:$E$146,2,FALSE)","v":0.05},8.583096454522867E-4]
[null,null,"Butterfly valve","Butterfly valve3",null,{"$f":"VLOOKUP(D60,'K-value'!$D$4:$E$146,2,FALSE)","v":0.81},0]
[null,null,"Gate valve","Gate valve3",null,{"$f":"VLOOKUP(D61,'K-value'!$D$4:$E$146,2,FALSE)","v":0.14000000000000001},0,null,"Note:"]
[null,null,"Globe valve","Globe valve3",null,{"$f":"VLOOKUP(D62,'K-value'!$D$4:$E$146,2,FALSE)","v":6.1},0]
[null,null,"Check valve","Check valve3",3,{"$f":"VLOOKUP(D63,'K-value'!$D$4:$E$146,2,FALSE)","v":1.8},1.5449573618141163E-2,null,"1. Discharge liquid level is assumed 2 m above grade elevation"]
[null,null,"Plug valve","Plug valve3",null,{"$f":"VLOOKUP(D64,'K-value'!$D$4:$E$146,2,FALSE)","v":1.62},0]
[null,null,"Pipe entrance","Pipe entrance3",null,{"$f":"VLOOKUP(D65,'K-value'!$D$4:$E$146,2,FALSE)","v":0.78},0]
[null,null,"Flow orifice","Flow orifice3",1,null,0.25]
[null,null,"Total, barg",null,null,null,{"$f":"SUM(G55:G66)","v":0.27663620933053595}]
[null,null,"Contingency",null,null,null,0.2]
[null,null,"Total + contingency, barg",null,null,null,{"$f":"G67*(1+G68)","v":0.33196345119664311},null,{"$f":"G69-G66","v":8.1963451196643111E-2}]
[null,null,"Pressure Loss due to Equipment",null,null,null,null,null,{"$f":"G66","v":0.25}]
[null,null,"Coriolis flow meter at LNG dispenser",null,null,null,0.1]
[null,null,"Control valve",null,null,null,0.3]

{"sheet":"Karawang (HP Pump)","index":24,"n_rows":73,"n_cols":24,"rows_kept":73,"cut":false,"hidden":true,"merged":[[0,5,3,10],[24,18,25,18],[24,19,25,20],[24,21,24,23]]}
[null,null,null,null,null,"PUMP SIZING"]
[]
[]
[]
[null,null,"Project: FEED PROYEK LNG JAWA"]
[]
[null,null,"Tag No:",null,"KRWG-P-003A/B"]
[null,null,"Description:",null,"LNG HP Pump"]
[null,null,"Location:",null,"Karawang",null,null,null,null,null,null,null,null,null,"Pipe roughness",0.05,"mm"]
[null,null,null,null,null,null,null,null,null,null,null,null,null,null,null,{"$f":"P9/1000/3.28","v":1.5243902439024392E-5},"ft"]
[]
[null,null,"DATA",null,null,null,null,null,"RESULTS",null,null,null,null,null,"Mass flow",{"$f":"E14*E15/0.45","v":1098.1462962962962},"lb/hr"]
[null,null,"Flow rate (normal)",null,{"$f":"0.5*47/24","v":0.97916666666666663},"m3/h",null,null,"Suction Hydraulic",null,null,null,null,null,"Rho",{"$f":"E15/16.02","v":28.639200998751562},"lb/ft3"]
[null,null,"Flow rate (rated)",null,{"$f":"1.1*E13","v":1.0770833333333334},"m3/h",null,null,"Pipe ID",{"$f":"VLOOKUP(E27,'Pipe size sch 40'!$A$5:$C$27,3,FALSE)*25.4/1000","v":2.6669999999999999E-2},"m"]
[null,null,"Density",null,458.8,"kg/m3",null,null,"Velocity",{"$f":"E14/(PI()/4*J14^2)/3600","v":0.53556340272456449},"m/s",null,null,null,"Side Calculation (Suction)"]
[null,null,"Flow temperature",null,-158.4,"deg C",null,null,"Velocity acceptance",{"$f":"IF(E27<=2,0.9,IF(OR(E27>=3,E27<=6),1.2,IF(OR(E27>=8,E27<=18),1.5,1.8)))","v":0.9},"m/s","(max)",null,null,"f tebakan",2.5243813926468607E-2]
[null,null,"Viscocity",null,0.1434,"cP",null,null,"Reynold number",{"$f":"E15*J16*J14/E18","v":76796.209205020918},null,null,null,null,"f left",{"$f":"1/(P16)^0.5","v":6.2939387880106432}]
[null,null,null,null,{"$f":"E17*10^-3","v":1.4340000000000002E-4},"Nm2/s",null,null,"Pipe DP",{"$f":"P22","v":6.3317577747366086E-2},"bar/100m",null,null,null,"f right",{"$f":"-2*LOG(P10/(3.7*J14*0.3048)+2.51/(J17*(P16)^0.5))","v":6.2943892250778015}]
[null,null,"Vapor pressure",null,{"$f":"'Pump sizing'!E17","v":1.01},"bara",null,null,"Pipe DP acceptance",{"$f":"IF(E27<=6,0.137,0.225)","v":0.13700000000000001},"bar/100m",null,null,null,"f left/f right",{"$f":"P17/P18","v":0.99992843832005751},"Goal seek"]
[null,null,"Pump efficiency",null,0.45,null,null,null,"Static head",{"$f":"E15*9.8*E25/10^5","v":0.1011654},"bar",null,null,null,"psi/100 ft",{"$f":"0.000336*P16*P12^2/(J14*1000/25.4)^5/P13","v":0.27983836661225914}]
[null,null,null,null,null,null,null,null,"Pipe friction loss",{"$f":"J18*E26/100","v":9.4976366621049128E-3},"bar",null,null,null,"psi/ft",{"$f":"P20/100","v":2.7983836661225913E-3}]
[null,null,"SUCTION",null,null,null,null,null,"Fitting friction loss",{"$f":"G45","v":6.7264141099308006E-2},"bar",null,null,null,"bar/100 m",{"$f":"P21*100/14.5/0.3048","v":6.3317577747366086E-2}]
[null,null,"Pressure at Vessel (min)",null,2,"barg",null,null,"Suction Pressure",{"$f":"E23+J20-SUM(J21:J22)","v":2.0244036222385873},"barg"]
[null,null,"Pressure at Vessel (max)",null,5,"barg",null,null,"Result",{"$f":"IF(AND(J15<J16,J18<J19),\"OK\",\"NOT OK\")","v":"OK"}]
[null,null,"Static head",null,2.25,"m","(vertical tank)",null,null,null,null,null,null,null,"Side Calculation (Discharge)",null,null,null,null,"Suction",null,"Discharge"]
[null,null,"Length",null,15,"m","(plot plan)",null,"Discharge Hydraulic",null,null,null,null,null,"f tebakan",2.5140091881832943E-2,null,null,null,null,null,null,"< 49 barg","> 49 barg"]
[null,null,"Pipe size",null,1,"in",null,null,"Pipe ID",{"$f":"VLOOKUP(E51,'Pipe size sch 40'!$A$5:$C$27,3,FALSE)*25.4/1000","v":2.0827999999999996E-2},"m",null,null,null,"f left",{"$f":"1/(P26)^0.5","v":6.3069090715557135},null,null,null,"Velocity","Pressure","Velocity","Pressure","Pressure"]
[null,null,"Schedule",null,40,null,null,null,"Velocity",{"$f":"E14/(PI()/4*J14^2)/3600","v":0.53556340272456449},"m/s",null,null,null,"f right",{"$f":"-2*LOG(P10/(3.7*J27*0.3048)+2.51/(J30*(P26)^0.5))","v":6.3076086630560315},null,null,0.5,0.9,0.13700000000000001,4.5,0.34300000000000003,0.68600000000000005]
[null,null,"Fittings",null,null,null,null,null,"Velocity acceptance",{"$f":"IF(E49<=18,4.5,6)","v":4.5},"m/s","(max)",null,null,"f left/f right",{"$f":"P27/P28","v":0.99988908768160978},"Goal seek",null,0.75,0.9,0.13700000000000001,4.5,0.34300000000000003,0.68600000000000005]
[null,null,null,null,"Qty","K","DP",null,"Reynold number",{"$f":"E15*J29*J27/E18","v":299870.91213389114},null,null,null,null,"psi/100 ft",{"$f":"0.000336*P26*P12^2/(J27*1000/25.4)^5/P13","v":0.95939263668692532},null,null,1,0.9,0.13700000000000001,4.5,0.34300000000000003,0.68600000000000005]
[null,null,"Elbow 90 LR",{"$f":"C31&$E$27","v":"Elbow 90 LR1"},6,{"$f":"VLOOKUP(D31,'K-value'!$D$4:$E$146,2,FALSE)","v":0.69},{"$f":"E31*F31*$J$15^2/(2*9.8)*$E$15*9.8/10^5","v":2.724052912240503E-3},null,"Pipe DP",{"$f":"P32","v":0.21707680258098588},"bar/100m",null,null,null,"psi/ft",{"$f":"P30/100","v":9.5939263668692529E-3},null,null,1.5,0.9,0.13700000000000001,4.5,0.34300000000000003,0.68600000000000005]
[null,null,"Elbow 45 LR","Elbow 45 LR1",null,{"$f":"VLOOKUP(D32,'K-value'!$D$4:$E$146,2,FALSE)","v":0.37},0,null,"Pipe DP acceptance",{"$f":"IF(E48<=49,0.343,0.686)","v":0.68600000000000005},"bar/100m",null,null,null,"bar/100 m",{"$f":"P31*100/14.5/0.3048","v":0.21707680258098588},null,null,2,0.9,0.13700000000000001,4.5,0.34300000000000003,0.68600000000000005]
[null,null,"Tee thru","Tee thru1",null,{"$f":"VLOOKUP(D33,'K-value'!$D$4:$E$146,2,FALSE)","v":0.46},0,null,"Static head",{"$f":"E15*9.8*E49/10^5","v":8.9924800000000013E-2},"bar","note 1",null,null,null,null,null,null,3,1.2,0.13700000000000001,4.5,0.34300000000000003,0.68600000000000005]
[null,null,"Tee branch","Tee branch1",3,{"$f":"VLOOKUP(D34,'K-value'!$D$4:$E$146,2,FALSE)","v":1.38},2.724052912240503E-3,null,"Line losses",{"$f":"J31*E50/100","v":0.15195376180669012},"bar",null,null,null,null,null,null,null,4,1.2,0.13700000000000001,4.5,0.34300000000000003,0.68600000000000005]
[null,null,"Ball valve","Ball valve1",2,{"$f":"VLOOKUP(D35,'K-value'!$D$4:$E$146,2,FALSE)","v":7.0000000000000007E-2},9.2117731331804468E-5,null,"Fitting & eqp losses",{"$f":"G69+G71+G72+G73","v":2.7118673957307173},"bar",null,null,null,"NPSHA calculation",null,null,null,6,1.2,0.13700000000000001,4.5,0.34300000000000003,0.68600000000000005]
[null,null,"Butterfly valve","Butterfly valve1",null,{"$f":"VLOOKUP(D36,'K-value'!$D$4:$E$146,2,FALSE)","v":0.86},0,null,"Discharge Pressure",{"$f":"E48+J33+J34+J35","v":252.95374595753739},"barg",null,null,null,"HA",{"$f":"(E23+1.01)*100000/(E15*9.81)","v":66.876583597506936},"m",null,8,1.5,0.22500000000000001,4.5,0.34300000000000003,0.68600000000000005]
[null,null,"Gate valve","Gate valve1",null,{"$f":"VLOOKUP(D37,'K-value'!$D$4:$E$146,2,FALSE)","v":0.18},0,null,"Result",{"$f":"IF(AND(J28<J29,J31<J32),\"OK\",\"NOT OK\")","v":"OK"},null,null,null,null,"HZ",{"$f":"E25","v":2.25},"m",null,10,1.5,0.22500000000000001,4.5,0.34300000000000003,0.68600000000000005]
[null,null,"Globe valve","Globe valve1",null,{"$f":"VLOOKUP(D38,'K-value'!$D$4:$E$146,2,FALSE)","v":7.8},0,null,null,null,null,null,null,null,"HF",{"$f":"SUM(J21:J22)*-1*10^5/(E15*9.8)","v":-1.707243780612532},"m",null,12,1.5,0.22500000000000001,4.5,0.34300000000000003,0.68600000000000005]
[null,null,"Check valve","Check valve1",null,{"$f":"VLOOKUP(D39,'K-value'!$D$4:$E$146,2,FALSE)","v":2.2999999999999998},0,null,"Pump Data",null,null,null,null,null,"HV",0,null,null,16,1.5,0.22500000000000001,4.5,0.34300000000000003,0.68600000000000005]
[null,null,"Plug valve","Plug valve1",null,{"$f":"VLOOKUP(D40,'K-value'!$D$4:$E$146,2,FALSE)","v":2.0699999999999998},0,null,"Suction Pressure",{"$f":"J23","v":2.0244036222385873},"barg",null,null,null,"HVP",{"$f":"E19*10^5/(E15*9.8)*-1","v":-22.463213707453335},"m",null,18,1.5,0.22500000000000001,4.5,0.34300000000000003,0.68600000000000005]
[null,null,"Pipe entrance","Pipe entrance1",1,{"$f":"VLOOKUP(D41,'K-value'!$D$4:$E$146,2,FALSE)","v":0.78},5.1322736027719631E-4,null,"Discharge Pressure",{"$f":"J36","v":252.95374595753739},"barg",null,null,null,"NPSHA",{"$f":"SUM(P36:P40)","v":44.956126109441072},"m",null,20,1.8,0.22500000000000001,6,0.34300000000000003,0.68600000000000005]
[null,null,"Suction strainer","Suction strainer1",1,null,{"$f":"0.05*E42","v":0.05},null,"Selected disc. Pressure",{"$f":"J41","v":252.95374595753739},"barg"]
[null,null,"Total, barg",null,null,null,{"$f":"SUM(G31:G42)","v":5.6053450916090007E-2},null,"Differential Pressure",{"$f":"J42-J40","v":250.9293423352988},"bar"]
[null,null,"Contingency",null,null,null,0.2,null,"Differential Head",{"$f":"J43*10^5/(E15*9.8)","v":5580.8707349985489},"m"]
[null,null,"Total + Contingency",null,null,null,{"$f":"(1+G44)*G43","v":6.7264141099308006E-2},null,"Hydraulic Power",{"$f":"E15*9.8*J44*E14/3600000","v":7.5075503464901328},"kW"]
[null,null,null,null,null,null,null,null,"Pump BHP",{"$f":"J45/E20","v":16.683445214422516},"kW"]
[null,null,"DISCHARGE",null,null,null,null,null,"Rated Power (calculated)",{"$f":"IF(J46<22,J46*1.25,IF(AND(J46>22,J46<55),J46*1.15,IF(J46>55,J46*1.1,\"ERROR\")))","v":20.854306518028146},"kW"]
[null,null,"Target Pressure ",null,250,"barg",null,null,"Rated Power (selected)",22,"kW"]
[null,null,"Static head",null,2,"m","note 2",null,"NPSHa",{"$f":"P41","v":44.956126109441072},"m"]
[null,null,"Length",null,70,"m","(plot plan)",null,"NPSHr",{"$f":"J49-1","v":43.956126109441072},"m"]
[null,null,"Pipe size",null,0.75,"in"]
[null,null,"Schedule",null,40,null,null,null,"Shut in Pressure"]
[null,null,"Fittings",null,null,null,null,null,"P shut in","-","barg"]
[null,null,null,null,"Qty","K","DP"]
[null,null,"Elbow 90 LR",{"$f":"C55&$E$51","v":"Elbow 90 LR0.75"},5,{"$f":"VLOOKUP(D55,'K-value'!$D$4:$E$146,2,FALSE)","v":0.81},{"$f":"E55*F55*$J$15^2/(2*9.8)*$E$15*9.8/10^5","v":2.6648343706700585E-3}]
[null,null,"Elbow 45 LR","Elbow 45 LR0.75",null,{"$f":"VLOOKUP(D56,'K-value'!$D$4:$E$146,2,FALSE)","v":0.4},0]
[null,null,"Tee thru","Tee thru0.75",null,{"$f":"VLOOKUP(D57,'K-value'!$D$4:$E$146,2,FALSE)","v":0.5},0]
[null,null,"Tee branch","Tee branch0.75",2,{"$f":"VLOOKUP(D58,'K-value'!$D$4:$E$146,2,FALSE)","v":1.5},1.9739513856815243E-3]
[null,null,"Ball valve","Ball valve0.75",6,{"$f":"VLOOKUP(D59,'K-value'!$D$4:$E$146,2,FALSE)","v":0.08},3.1583222170904386E-4]
[null,null,"Butterfly valve","Butterfly valve0.75",null,{"$f":"VLOOKUP(D60,'K-value'!$D$4:$E$146,2,FALSE)","v":0.86},0]
[null,null,"Gate valve","Gate valve0.75",null,{"$f":"VLOOKUP(D61,'K-value'!$D$4:$E$146,2,FALSE)","v":0.2},0,null,"Note:"]
[null,null,"Globe valve","Globe valve0.75",null,{"$f":"VLOOKUP(D62,'K-value'!$D$4:$E$146,2,FALSE)","v":8.5},0]
[null,null,"Check valve","Check valve0.75",3,{"$f":"VLOOKUP(D63,'K-value'!$D$4:$E$146,2,FALSE)","v":2.5},4.934878464203811E-3,null,"1. Discharge liquid level is assumed 2 m above grade elevation"]
[null,null,"Plug valve","Plug valve0.75",null,{"$f":"VLOOKUP(D64,'K-value'!$D$4:$E$146,2,FALSE)","v":2.25},0]
[null,null,"Pipe entrance","Pipe entrance0.75",null,{"$f":"VLOOKUP(D65,'K-value'!$D$4:$E$146,2,FALSE)","v":0.78},0]
[null,null,"Flow orifice","Flow orifice0.75",1,null,0.25]
[null,null,"Total, barg",null,null,null,{"$f":"SUM(G55:G66)","v":0.25988949644226444}]
[null,null,"Contingency",null,null,null,0.2]
[null,null,"Total + contingency, barg",null,null,null,{"$f":"G67*(1+G68)","v":0.31186739573071731}]
[null,null,"Pressure Loss due to Equipment"]
[null,null,"AAV",null,null,null,2]
[null,null,"Control valve",null,null,null,0.3]
[null,null,"Coriolis flow meter at CNG dispenser",null,null,null,0.1]

{"sheet":"Cirebon (LP Pump)","index":25,"n_rows":72,"n_cols":24,"rows_kept":72,"cut":false,"hidden":true,"merged":[[0,5,3,10],[24,18,25,18],[24,19,25,20],[24,21,24,23]]}
[null,null,null,null,null,"PUMP SIZING"]
[]
[]
[]
[null,null,"Project: FEED PROYEK LNG JAWA"]
[]
[null,null,"Tag No:",null,"CRBN-P-002A/B"]
[null,null,"Description:",null,"LNG LP Pump"]
[null,null,"Location:",null,"Cirebon",null,null,null,null,null,null,null,null,null,"Pipe roughness",0.05,"mm"]
[null,null,null,null,null,null,null,null,null,null,null,null,null,null,null,{"$f":"P9/1000/3.28","v":1.5243902439024392E-5},"ft"]
[]
[null,null,"DATA",null,null,null,null,null,"RESULTS",null,null,null,null,null,"Mass flow",{"$f":"E13*E15/0.45","v":19575.466666666664},"lb/hr"]
[null,null,"Flow rate (normal)",null,{"$f":"9.6*2","v":19.2},"m3/h",null,null,"Suction Hydraulic",null,null,null,null,null,"Rho",{"$f":"E15/16.02","v":28.639200998751562},"lb/ft3"]
[null,null,"Flow rate (rated)",null,{"$f":"1.1*E13","v":21.12},"m3/h",null,null,"Pipe ID",{"$f":"VLOOKUP(E27,'Pipe size sch 40'!$A$5:$C$27,3,FALSE)*25.4/1000","v":7.7977999999999992E-2},"m"]
[null,null,"Density",null,458.8,"kg/m3",null,null,"Velocity",{"$f":"E13/(PI()/4*J14^2)/3600","v":1.1167723746755849},"m/s",null,null,null,"Side Calculation (Suction)"]
[null,null,"Flow temperature",null,-158.4,"deg C",null,null,"Velocity acceptance",{"$f":"IF(E27<=2,0.9,IF(OR(E27>=3,E27<=6),1.2,IF(OR(E27>=8,E27<=18),1.5,1.8)))","v":1.2},"m/s","(max)",null,null,"f tebakan",1.8967652688417456E-2]
[null,null,"Viscocity",null,0.1434,"cP",null,null,"Reynold number",{"$f":"E15*J16*J14/E18","v":299383.31715481164},null,null,null,null,"f left",{"$f":"1/(P16)^0.5","v":7.2609459783100894}]
[null,null,null,null,{"$f":"E17*10^-3","v":1.4340000000000002E-4},"Nm2/s",null,null,"Pipe DP",{"$f":"P22","v":7.0752432343434618E-2},"bar/100m",null,null,null,"f right",{"$f":"-2*LOG(P10/(3.7*J14*0.3048)+2.51/(J17*(P16)^0.5))","v":7.2607576894757946}]
[null,null,"Vapor pressure",null,{"$f":"'Pump sizing'!E17","v":1.01},"bara",null,null,"Pipe DP acceptance",{"$f":"IF(E27<=6,0.137,0.225)","v":0.13700000000000001},"bar/100m",null,null,null,"f left/f right",{"$f":"P17/P18","v":1.0000259323947096},"Goal seek"]
[null,null,"Pump efficiency",null,0.45,null,null,null,"Static head",{"$f":"E15*9.8*E25/10^5","v":0.1011654},"bar",null,null,null,"psi/100 ft",{"$f":"0.000336*P16*P12^2/(J14*1000/25.4)^5/P13","v":0.31269744998504362}]
[null,null,null,null,null,null,null,null,"Pipe friction loss",{"$f":"J18*E26/100","v":7.0752432343434623E-3},"bar",null,null,null,"psi/ft",{"$f":"P20/100","v":3.126974499850436E-3}]
[null,null,"SUCTION",null,null,null,null,null,"Fitting friction loss",{"$f":"G45","v":8.0118778089401599E-2},"bar",null,null,null,"bar/100 m",{"$f":"P21*100/14.5/0.3048","v":7.0752432343434618E-2}]
[null,null,"Pressure at Vessel (min)",null,2,"barg",null,null,"Suction Pressure",{"$f":"E23+J20-SUM(J21:J22)","v":2.013971378676255},"barg"]
[null,null,"Pressure at Vessel (max)",null,5,"barg",null,null,"Result",{"$f":"IF(AND(J15<J16,J18<J19),\"OK\",\"NOT OK\")","v":"OK"}]
[null,null,"Static head",null,2.25,"m","(vertical tank)",null,null,null,null,null,null,null,"Side Calculation (Discharge)",null,null,null,null,"Suction",null,"Discharge"]
[null,null,"Length",null,10,"m","(plot plan)",null,"Discharge Hydraulic",null,null,null,null,null,"f tebakan",1.981596010081706E-2,null,null,null,null,null,null,"< 49 barg","> 49 barg"]
[null,null,"Pipe size",null,3,"in",null,null,"Pipe ID",{"$f":"VLOOKUP(E51,'Pipe size sch 40'!$A$5:$C$27,3,FALSE)*25.4/1000","v":7.7977999999999992E-2},"m",null,null,null,"f left",{"$f":"1/(P26)^0.5","v":7.10382804585592},null,null,null,"Velocity","Pressure","Velocity","Pressure","Pressure"]
[null,null,"Schedule",null,40,null,null,null,"Velocity",{"$f":"E13/(PI()/4*J14^2)/3600","v":1.1167723746755849},"m/s",null,null,null,"f right",{"$f":"-2*LOG(P10/(3.7*J27*0.3048)+2.51/(J30*(P26)^0.5))","v":7.4460406521811393},null,null,0.5,0.9,0.13700000000000001,4.5,0.34300000000000003,0.68600000000000005]
[null,null,"Fittings",null,null,null,null,null,"Velocity acceptance",{"$f":"IF(E49<=18,4.5,6)","v":4.5},"m/s","(max)",null,null,"f left/f right",{"$f":"P27/P28","v":0.95404099677793508},"Goal seek",null,0.75,0.9,0.13700000000000001,4.5,0.34300000000000003,0.68600000000000005]
[null,null,null,null,"Qty","K","DP",null,"Reynold number",{"$f":"E15*J29*J27/E18","v":1122687.4393305436},null,null,null,null,"psi/100 ft",{"$f":"0.000336*P26*P12^2/(J27*1000/25.4)^5/P13","v":0.32668249963869689},null,null,1,0.9,0.13700000000000001,4.5,0.34300000000000003,0.68600000000000005]
[null,null,"Elbow 90 LR",{"$f":"C31&$E$27","v":"Elbow 90 LR3"},6,{"$f":"VLOOKUP(D31,'K-value'!$D$4:$E$146,2,FALSE)","v":0.28999999999999998},{"$f":"E31*F31*$J$15^2/(2*9.8)*$E$15*9.8/10^5","v":4.9781959436232624E-3},null,"Pipe DP",{"$f":"P32","v":7.3916757090844623E-2},"bar/100m",null,null,null,"psi/ft",{"$f":"P30/100","v":3.2668249963869688E-3},null,null,1.5,0.9,0.13700000000000001,4.5,0.34300000000000003,0.68600000000000005]
[null,null,"Elbow 45 LR","Elbow 45 LR3",null,{"$f":"VLOOKUP(D32,'K-value'!$D$4:$E$146,2,FALSE)","v":0.28999999999999998},0,null,"Pipe DP acceptance",{"$f":"IF(E48<=49,0.343,0.686)","v":0.34300000000000003},"bar/100m",null,null,null,"bar/100 m",{"$f":"P31*100/14.5/0.3048","v":7.3916757090844623E-2},null,null,2,0.9,0.13700000000000001,4.5,0.34300000000000003,0.68600000000000005]
[null,null,"Tee thru","Tee thru3",null,{"$f":"VLOOKUP(D33,'K-value'!$D$4:$E$146,2,FALSE)","v":0.36},0,null,"Static head",{"$f":"E15*9.8*E49/10^5","v":8.9924800000000013E-2},"bar","note 1",null,null,null,null,null,null,3,1.2,0.13700000000000001,4.5,0.34300000000000003,0.68600000000000005]
[null,null,"Tee branch","Tee branch3",3,{"$f":"VLOOKUP(D34,'K-value'!$D$4:$E$146,2,FALSE)","v":1.08},9.2697441708846952E-3,null,"Line losses",{"$f":"J31*E50/100","v":3.84367136872392E-2},"bar",null,null,null,null,null,null,null,4,1.2,0.13700000000000001,4.5,0.34300000000000003,0.68600000000000005]
[null,null,"Ball valve","Ball valve3",2,{"$f":"VLOOKUP(D35,'K-value'!$D$4:$E$146,2,FALSE)","v":0.05},2.8610321515076223E-4,null,"Fitting & eqp losses",{"$f":"G69+G71+G72","v":0.73196345119664308},"bar",null,null,null,"NPSHA calculation",null,null,null,6,1.2,0.13700000000000001,4.5,0.34300000000000003,0.68600000000000005]
[null,null,"Butterfly valve","Butterfly valve3",null,{"$f":"VLOOKUP(D36,'K-value'!$D$4:$E$146,2,FALSE)","v":0.81},0,null,"Discharge Pressure",{"$f":"E48+J33+J34+J35","v":8.8603249648838833},"barg",null,null,null,"HA",{"$f":"(E23+1.01)*100000/(E15*9.81)","v":66.876583597506936},"m",null,8,1.5,0.22500000000000001,4.5,0.34300000000000003,0.68600000000000005]
[null,null,"Gate valve","Gate valve3",null,{"$f":"VLOOKUP(D37,'K-value'!$D$4:$E$146,2,FALSE)","v":0.14000000000000001},0,null,"Result",{"$f":"IF(AND(J28<J29,J31<J32),\"OK\",\"NOT OK\")","v":"OK"},null,null,null,null,"HZ",{"$f":"E25","v":2.25},"m",null,10,1.5,0.22500000000000001,4.5,0.34300000000000003,0.68600000000000005]
[null,null,"Globe valve","Globe valve3",null,{"$f":"VLOOKUP(D38,'K-value'!$D$4:$E$146,2,FALSE)","v":6.1},0,null,null,null,null,null,null,null,"HF",{"$f":"SUM(J21:J22)*-1*10^5/(E15*9.8)","v":-1.9392652821856717},"m",null,12,1.5,0.22500000000000001,4.5,0.34300000000000003,0.68600000000000005]
[null,null,"Check valve","Check valve3",null,{"$f":"VLOOKUP(D39,'K-value'!$D$4:$E$146,2,FALSE)","v":1.8},0,null,"Pump Data",null,null,null,null,null,"HV",0,null,null,16,1.5,0.22500000000000001,4.5,0.34300000000000003,0.68600000000000005]
[null,null,"Plug valve","Plug valve3",null,{"$f":"VLOOKUP(D40,'K-value'!$D$4:$E$146,2,FALSE)","v":1.62},0,null,"Suction Pressure",{"$f":"J23","v":2.013971378676255},"barg",null,null,null,"HVP",{"$f":"E19*10^5/(E15*9.8)*-1","v":-22.463213707453335},"m",null,18,1.5,0.22500000000000001,4.5,0.34300000000000003,0.68600000000000005]
[null,null,"Pipe entrance","Pipe entrance3",1,{"$f":"VLOOKUP(D41,'K-value'!$D$4:$E$146,2,FALSE)","v":0.78},2.2316050781759455E-3,null,"Discharge Pressure",{"$f":"J36","v":8.8603249648838833},"barg",null,null,null,"NPSHA",{"$f":"SUM(P36:P40)","v":44.724104607867929},"m",null,20,1.8,0.22500000000000001,6,0.34300000000000003,0.68600000000000005]
[null,null,"Suction strainer","Suction strainer3",1,null,{"$f":"0.05*E42","v":0.05},null,"Selected disc. Pressure",{"$f":"J41","v":8.8603249648838833},"barg"]
[null,null,"Total, barg",null,null,null,{"$f":"SUM(G31:G42)","v":6.6765648407834666E-2},null,"Differential Pressure",{"$f":"J42-J40","v":6.8463535862076288},"bar"]
[null,null,"Contingency",null,null,null,0.2,null,"Differential Head",{"$f":"J43*10^5/(E15*9.8)","v":152.26841952848662},"m"]
[null,null,"Total + Contingency",null,null,null,{"$f":"(1+G44)*G43","v":8.0118778089401599E-2},null,"Hydraulic Power",{"$f":"E15*9.8*J44*E14/3600000","v":4.0165274372418089},"kW"]
[null,null,null,null,null,null,null,null,"Pump BHP",{"$f":"J45/E20","v":8.9256165272040189},"kW"]
[null,null,"DISCHARGE",null,null,null,null,null,"Rated Power (calculated)",{"$f":"IF(J46<22,J46*1.25,IF(AND(J46>22,J46<55),J46*1.15,IF(J46>55,J46*1.1,\"ERROR\")))","v":11.157020659005024},"kW"]
[null,null,"Target Pressure ",null,8,"barg",null,null,"Rated Power (selected)",15,"kW"]
[null,null,"Static head",null,2,"m","note 2",null,"NPSHa",{"$f":"P41","v":44.724104607867929},"m"]
[null,null,"Length",null,52,"m","(plot plan)",null,"NPSHr",{"$f":"J49-1","v":43.724104607867929},"m"]
[null,null,"Pipe size",null,3,"in"]
[null,null,"Schedule",null,40,null,null,null,"Shut in Pressure"]
[null,null,"Fittings",null,null,null,null,null,"P shut in",{"$f":"E24+1.3*J43","v":13.900259662069917},"barg"]
[null,null,null,null,"Qty","K","DP"]
[null,null,"Elbow 90 LR",{"$f":"C55&$E$51","v":"Elbow 90 LR3"},5,{"$f":"VLOOKUP(D55,'K-value'!$D$4:$E$146,2,FALSE)","v":0.28999999999999998},{"$f":"E55*F55*$J$15^2/(2*9.8)*$E$15*9.8/10^5","v":4.1484966196860514E-3}]
[null,null,"Elbow 45 LR","Elbow 45 LR3",null,{"$f":"VLOOKUP(D56,'K-value'!$D$4:$E$146,2,FALSE)","v":0.28999999999999998},0]
[null,null,"Tee thru","Tee thru3",null,{"$f":"VLOOKUP(D57,'K-value'!$D$4:$E$146,2,FALSE)","v":0.36},0]
[null,null,"Tee branch","Tee branch3",2,{"$f":"VLOOKUP(D58,'K-value'!$D$4:$E$146,2,FALSE)","v":1.08},6.1798294472564649E-3]
[null,null,"Ball valve","Ball valve3",6,{"$f":"VLOOKUP(D59,'K-value'!$D$4:$E$146,2,FALSE)","v":0.05},8.583096454522867E-4]
[null,null,"Butterfly valve","Butterfly valve3",null,{"$f":"VLOOKUP(D60,'K-value'!$D$4:$E$146,2,FALSE)","v":0.81},0]
[null,null,"Gate valve","Gate valve3",null,{"$f":"VLOOKUP(D61,'K-value'!$D$4:$E$146,2,FALSE)","v":0.14000000000000001},0,null,"Note:"]
[null,null,"Globe valve","Globe valve3",null,{"$f":"VLOOKUP(D62,'K-value'!$D$4:$E$146,2,FALSE)","v":6.1},0]
[null,null,"Check valve","Check valve3",3,{"$f":"VLOOKUP(D63,'K-value'!$D$4:$E$146,2,FALSE)","v":1.8},1.5449573618141163E-2,null,"1. Discharge liquid level is assumed 2 m above grade elevation"]
[null,null,"Plug valve","Plug valve3",null,{"$f":"VLOOKUP(D64,'K-value'!$D$4:$E$146,2,FALSE)","v":1.62},0]
[null,null,"Pipe entrance","Pipe entrance3",null,{"$f":"VLOOKUP(D65,'K-value'!$D$4:$E$146,2,FALSE)","v":0.78},0]
[null,null,"Flow orifice","Flow orifice3",1,null,0.25]
[null,null,"Total, barg",null,null,null,{"$f":"SUM(G55:G66)","v":0.27663620933053595}]
[null,null,"Contingency",null,null,null,0.2]
[null,null,"Total + contingency, barg",null,null,null,{"$f":"G67*(1+G68)","v":0.33196345119664311}]
[null,null,"Pressure Loss due to Equipment"]
[null,null,"Coriolis flow meter at LNG dispenser",null,null,null,0.1]
[null,null,"Control valve",null,null,null,0.3]

{"sheet":"Cirebon (HP Pump)","index":26,"n_rows":73,"n_cols":24,"rows_kept":73,"cut":false,"hidden":true,"merged":[[0,5,3,10],[24,18,25,18],[24,19,25,20],[24,21,24,23]]}
[null,null,null,null,null,"PUMP SIZING"]
[]
[]
[]
[null,null,"Project: FEED PROYEK LNG JAWA"]
[]
[null,null,"Tag No:",null,"CRBN-P-003A/B"]
[null,null,"Description:",null,"LNG HP Pump"]
[null,null,"Location:",null,"Cirebon",null,null,null,null,null,null,null,null,null,"Pipe roughness",0.05,"mm"]
[null,null,null,null,null,null,null,null,null,null,null,null,null,null,null,{"$f":"P9/1000/3.28","v":1.5243902439024392E-5},"ft"]
[]
[null,null,"DATA",null,null,null,null,null,"RESULTS",null,null,null,null,null,"Mass flow",{"$f":"E14*E15/0.45","v":1098.1462962962962},"lb/hr"]
[null,null,"Flow rate (normal)",null,{"$f":"0.5*47/24","v":0.97916666666666663},"m3/h",null,null,"Suction Hydraulic",null,null,null,null,null,"Rho",{"$f":"E15/16.02","v":28.639200998751562},"lb/ft3"]
[null,null,"Flow rate (rated)",null,{"$f":"1.1*E13","v":1.0770833333333334},"m3/h",null,null,"Pipe ID",{"$f":"VLOOKUP(E27,'Pipe size sch 40'!$A$5:$C$27,3,FALSE)*25.4/1000","v":2.6669999999999999E-2},"m"]
[null,null,"Density",null,458.8,"kg/m3",null,null,"Velocity",{"$f":"E14/(PI()/4*J14^2)/3600","v":0.53556340272456449},"m/s",null,null,null,"Side Calculation (Suction)"]
[null,null,"Flow temperature",null,-158.4,"deg C",null,null,"Velocity acceptance",{"$f":"IF(E27<=2,0.9,IF(OR(E27>=3,E27<=6),1.2,IF(OR(E27>=8,E27<=18),1.5,1.8)))","v":0.9},"m/s","(max)",null,null,"f tebakan",2.5243813926468607E-2]
[null,null,"Viscocity",null,0.1434,"cP",null,null,"Reynold number",{"$f":"E15*J16*J14/E18","v":76796.209205020918},null,null,null,null,"f left",{"$f":"1/(P16)^0.5","v":6.2939387880106432}]
[null,null,null,null,{"$f":"E17*10^-3","v":1.4340000000000002E-4},"Nm2/s",null,null,"Pipe DP",{"$f":"P22","v":6.3317577747366086E-2},"bar/100m",null,null,null,"f right",{"$f":"-2*LOG(P10/(3.7*J14*0.3048)+2.51/(J17*(P16)^0.5))","v":6.2943892250778015}]
[null,null,"Vapor pressure",null,{"$f":"'Pump sizing'!E17","v":1.01},"bara",null,null,"Pipe DP acceptance",{"$f":"IF(E27<=6,0.137,0.225)","v":0.13700000000000001},"bar/100m",null,null,null,"f left/f right",{"$f":"P17/P18","v":0.99992843832005751},"Goal seek"]
[null,null,"Pump efficiency",null,0.45,null,null,null,"Static head",{"$f":"E15*9.8*E25/10^5","v":0.1011654},"bar",null,null,null,"psi/100 ft",{"$f":"0.000336*P16*P12^2/(J14*1000/25.4)^5/P13","v":0.27983836661225914}]
[null,null,null,null,null,null,null,null,"Pipe friction loss",{"$f":"J18*E26/100","v":9.4976366621049128E-3},"bar",null,null,null,"psi/ft",{"$f":"P20/100","v":2.7983836661225913E-3}]
[null,null,"SUCTION",null,null,null,null,null,"Fitting friction loss",{"$f":"G45","v":6.7264141099308006E-2},"bar",null,null,null,"bar/100 m",{"$f":"P21*100/14.5/0.3048","v":6.3317577747366086E-2}]
[null,null,"Pressure at Vessel (min)",null,2,"barg",null,null,"Suction Pressure",{"$f":"E23+J20-SUM(J21:J22)","v":2.0244036222385873},"barg"]
[null,null,"Pressure at Vessel (max)",null,5,"barg",null,null,"Result",{"$f":"IF(AND(J15<J16,J18<J19),\"OK\",\"NOT OK\")","v":"OK"}]
[null,null,"Static head",null,2.25,"m","(vertical tank)",null,null,null,null,null,null,null,"Side Calculation (Discharge)",null,null,null,null,"Suction",null,"Discharge"]
[null,null,"Length",null,15,"m","(plot plan)",null,"Discharge Hydraulic",null,null,null,null,null,"f tebakan",2.5140091881832943E-2,null,null,null,null,null,null,"< 49 barg","> 49 barg"]
[null,null,"Pipe size",null,1,"in",null,null,"Pipe ID",{"$f":"VLOOKUP(E51,'Pipe size sch 40'!$A$5:$C$27,3,FALSE)*25.4/1000","v":2.0827999999999996E-2},"m",null,null,null,"f left",{"$f":"1/(P26)^0.5","v":6.3069090715557135},null,null,null,"Velocity","Pressure","Velocity","Pressure","Pressure"]
[null,null,"Schedule",null,40,null,null,null,"Velocity",{"$f":"E14/(PI()/4*J14^2)/3600","v":0.53556340272456449},"m/s",null,null,null,"f right",{"$f":"-2*LOG(P10/(3.7*J27*0.3048)+2.51/(J30*(P26)^0.5))","v":6.3076086630560315},null,null,0.5,0.9,0.13700000000000001,4.5,0.34300000000000003,0.68600000000000005]
[null,null,"Fittings",null,null,null,null,null,"Velocity acceptance",{"$f":"IF(E49<=18,4.5,6)","v":4.5},"m/s","(max)",null,null,"f left/f right",{"$f":"P27/P28","v":0.99988908768160978},"Goal seek",null,0.75,0.9,0.13700000000000001,4.5,0.34300000000000003,0.68600000000000005]
[null,null,null,null,"Qty","K","DP",null,"Reynold number",{"$f":"E15*J29*J27/E18","v":299870.91213389114},null,null,null,null,"psi/100 ft",{"$f":"0.000336*P26*P12^2/(J27*1000/25.4)^5/P13","v":0.95939263668692532},null,null,1,0.9,0.13700000000000001,4.5,0.34300000000000003,0.68600000000000005]
[null,null,"Elbow 90 LR",{"$f":"C31&$E$27","v":"Elbow 90 LR1"},6,{"$f":"VLOOKUP(D31,'K-value'!$D$4:$E$146,2,FALSE)","v":0.69},{"$f":"E31*F31*$J$15^2/(2*9.8)*$E$15*9.8/10^5","v":2.724052912240503E-3},null,"Pipe DP",{"$f":"P32","v":0.21707680258098588},"bar/100m",null,null,null,"psi/ft",{"$f":"P30/100","v":9.5939263668692529E-3},null,null,1.5,0.9,0.13700000000000001,4.5,0.34300000000000003,0.68600000000000005]
[null,null,"Elbow 45 LR",{"$f":"C32&$E$27","v":"Elbow 45 LR1"},null,{"$f":"VLOOKUP(D32,'K-value'!$D$4:$E$146,2,FALSE)","v":0.37},0,null,"Pipe DP acceptance",{"$f":"IF(E48<=49,0.343,0.686)","v":0.68600000000000005},"bar/100m",null,null,null,"bar/100 m",{"$f":"P31*100/14.5/0.3048","v":0.21707680258098588},null,null,2,0.9,0.13700000000000001,4.5,0.34300000000000003,0.68600000000000005]
[null,null,"Tee thru","Tee thru1",null,{"$f":"VLOOKUP(D33,'K-value'!$D$4:$E$146,2,FALSE)","v":0.46},0,null,"Static head",{"$f":"E15*9.8*E49/10^5","v":8.9924800000000013E-2},"bar","note 1",null,null,null,null,null,null,3,1.2,0.13700000000000001,4.5,0.34300000000000003,0.68600000000000005]
[null,null,"Tee branch","Tee branch1",3,{"$f":"VLOOKUP(D34,'K-value'!$D$4:$E$146,2,FALSE)","v":1.38},2.724052912240503E-3,null,"Line losses",{"$f":"J31*E50/100","v":0.11287993734211266},"bar",null,null,null,null,null,null,null,4,1.2,0.13700000000000001,4.5,0.34300000000000003,0.68600000000000005]
[null,null,"Ball valve","Ball valve1",2,{"$f":"VLOOKUP(D35,'K-value'!$D$4:$E$146,2,FALSE)","v":7.0000000000000007E-2},9.2117731331804468E-5,null,"Fitting & eqp losses",{"$f":"G69+G71+G72+G73","v":2.7118673957307173},"bar",null,null,null,"NPSHA calculation",null,null,null,6,1.2,0.13700000000000001,4.5,0.34300000000000003,0.68600000000000005]
[null,null,"Butterfly valve","Butterfly valve1",null,{"$f":"VLOOKUP(D36,'K-value'!$D$4:$E$146,2,FALSE)","v":0.86},0,null,"Discharge Pressure",{"$f":"E48+J33+J34+J35","v":252.91467213307283},"barg",null,null,null,"HA",{"$f":"(E23+1.01)*100000/(E15*9.81)","v":66.876583597506936},"m",null,8,1.5,0.22500000000000001,4.5,0.34300000000000003,0.68600000000000005]
[null,null,"Gate valve","Gate valve1",null,{"$f":"VLOOKUP(D37,'K-value'!$D$4:$E$146,2,FALSE)","v":0.18},0,null,"Result",{"$f":"IF(AND(J28<J29,J31<J32),\"OK\",\"NOT OK\")","v":"OK"},null,null,null,null,"HZ",{"$f":"E25","v":2.25},"m",null,10,1.5,0.22500000000000001,4.5,0.34300000000000003,0.68600000000000005]
[null,null,"Globe valve","Globe valve1",null,{"$f":"VLOOKUP(D38,'K-value'!$D$4:$E$146,2,FALSE)","v":7.8},0,null,null,null,null,null,null,null,"HF",{"$f":"SUM(J21:J22)*-1*10^5/(E15*9.8)","v":-1.707243780612532},"m",null,12,1.5,0.22500000000000001,4.5,0.34300000000000003,0.68600000000000005]
[null,null,"Check valve","Check valve1",null,{"$f":"VLOOKUP(D39,'K-value'!$D$4:$E$146,2,FALSE)","v":2.2999999999999998},0,null,"Pump Data",null,null,null,null,null,"HV",0,null,null,16,1.5,0.22500000000000001,4.5,0.34300000000000003,0.68600000000000005]
[null,null,"Plug valve","Plug valve1",null,{"$f":"VLOOKUP(D40,'K-value'!$D$4:$E$146,2,FALSE)","v":2.0699999999999998},0,null,"Suction Pressure",{"$f":"J23","v":2.0244036222385873},"barg",null,null,null,"HVP",{"$f":"E19*10^5/(E15*9.8)*-1","v":-22.463213707453335},"m",null,18,1.5,0.22500000000000001,4.5,0.34300000000000003,0.68600000000000005]
[null,null,"Pipe entrance","Pipe entrance1",1,{"$f":"VLOOKUP(D41,'K-value'!$D$4:$E$146,2,FALSE)","v":0.78},5.1322736027719631E-4,null,"Discharge Pressure",{"$f":"J36","v":252.91467213307283},"barg",null,null,null,"NPSHA",{"$f":"SUM(P36:P40)","v":44.956126109441072},"m",null,20,1.8,0.22500000000000001,6,0.34300000000000003,0.68600000000000005]
[null,null,"Suction strainer","Suction strainer1",1,null,{"$f":"0.05*E42","v":0.05},null,"Selected disc. Pressure",{"$f":"J41","v":252.91467213307283},"barg"]
[null,null,"Total, barg",null,null,null,{"$f":"SUM(G31:G42)","v":5.6053450916090007E-2},null,"Differential Pressure",{"$f":"J42-J40","v":250.89026851083423},"bar"]
[null,null,"Contingency",null,null,null,0.2,null,"Differential Head",{"$f":"J43*10^5/(E15*9.8)","v":5580.0017016625934},"m"]
[null,null,"Total + Contingency",null,null,null,{"$f":"(1+G44)*G43","v":6.7264141099308006E-2},null,"Hydraulic Power",{"$f":"E15*9.8*J44*E14/3600000","v":7.5063812974595665},"kW"]
[null,null,null,null,null,null,null,null,"Pump BHP",{"$f":"J45/E20","v":16.680847327687925},"kW"]
[null,null,"DISCHARGE",null,null,null,null,null,"Rated Power (calculated)",{"$f":"IF(J46<22,J46*1.25,IF(AND(J46>22,J46<55),J46*1.15,IF(J46>55,J46*1.1,\"ERROR\")))","v":20.851059159609907},"kW"]
[null,null,"Target Pressure ",null,250,"barg",null,null,"Rated Power (selected)",22,"kW"]
[null,null,"Static head",null,2,"m","note 2",null,"NPSHa",{"$f":"P41","v":44.956126109441072},"m"]
[null,null,"Length",null,52,"m","(plot plan)",null,"NPSHr",{"$f":"J49-1","v":43.956126109441072},"m"]
[null,null,"Pipe size",null,0.75,"in"]
[null,null,"Schedule",null,40,null,null,null,"Shut in Pressure"]
[null,null,"Fittings",null,null,null,null,null,"P shut in","-","barg"]
[null,null,null,null,"Qty","K","DP"]
[null,null,"Elbow 90 LR",{"$f":"C55&$E$51","v":"Elbow 90 LR0.75"},5,{"$f":"VLOOKUP(D55,'K-value'!$D$4:$E$146,2,FALSE)","v":0.81},{"$f":"E55*F55*$J$15^2/(2*9.8)*$E$15*9.8/10^5","v":2.6648343706700585E-3}]
[null,null,"Elbow 45 LR",{"$f":"C56&$E$51","v":"Elbow 45 LR0.75"},null,{"$f":"VLOOKUP(D56,'K-value'!$D$4:$E$146,2,FALSE)","v":0.4},0]
[null,null,"Tee thru","Tee thru0.75",null,{"$f":"VLOOKUP(D57,'K-value'!$D$4:$E$146,2,FALSE)","v":0.5},0]
[null,null,"Tee branch","Tee branch0.75",2,{"$f":"VLOOKUP(D58,'K-value'!$D$4:$E$146,2,FALSE)","v":1.5},1.9739513856815243E-3]
[null,null,"Ball valve","Ball valve0.75",6,{"$f":"VLOOKUP(D59,'K-value'!$D$4:$E$146,2,FALSE)","v":0.08},3.1583222170904386E-4]
[null,null,"Butterfly valve","Butterfly valve0.75",null,{"$f":"VLOOKUP(D60,'K-value'!$D$4:$E$146,2,FALSE)","v":0.86},0]
[null,null,"Gate valve","Gate valve0.75",null,{"$f":"VLOOKUP(D61,'K-value'!$D$4:$E$146,2,FALSE)","v":0.2},0,null,"Note:"]
[null,null,"Globe valve","Globe valve0.75",null,{"$f":"VLOOKUP(D62,'K-value'!$D$4:$E$146,2,FALSE)","v":8.5},0]
[null,null,"Check valve","Check valve0.75",3,{"$f":"VLOOKUP(D63,'K-value'!$D$4:$E$146,2,FALSE)","v":2.5},4.934878464203811E-3,null,"1. Discharge liquid level is assumed 2 m above grade elevation"]
[null,null,"Plug valve","Plug valve0.75",null,{"$f":"VLOOKUP(D64,'K-value'!$D$4:$E$146,2,FALSE)","v":2.25},0]
[null,null,"Pipe entrance","Pipe entrance0.75",null,{"$f":"VLOOKUP(D65,'K-value'!$D$4:$E$146,2,FALSE)","v":0.78},0]
[null,null,"Flow orifice","Flow orifice0.75",1,null,0.25]
[null,null,"Total, barg",null,null,null,{"$f":"SUM(G55:G66)","v":0.25988949644226444}]
[null,null,"Contingency",null,null,null,0.2]
[null,null,"Total + contingency, barg",null,null,null,{"$f":"G67*(1+G68)","v":0.31186739573071731}]
[null,null,"Pressure Loss due to Equipment"]
[null,null,"AAV",null,null,null,2]
[null,null,"Control valve",null,null,null,0.3]
[null,null,"Coriolis flow meter at CNG dispenser",null,null,null,0.1]

{"sheet":"Gresik (LP Pump)","index":27,"n_rows":72,"n_cols":24,"rows_kept":72,"cut":false,"hidden":true,"merged":[[0,5,3,10],[24,18,25,18],[24,19,25,20],[24,21,24,23]]}
[null,null,null,null,null,"PUMP SIZING"]
[]
[]
[]
[null,null,"Project: FEED PROYEK LNG JAWA"]
[]
[null,null,"Tag No:",null,"GRSK-P-002A/B"]
[null,null,"Description:",null,"LNG LP Pump"]
[null,null,"Location:",null,"Gresik",null,null,null,null,null,null,null,null,null,"Pipe roughness",0.05,"mm"]
[null,null,null,null,null,null,null,null,null,null,null,null,null,null,null,{"$f":"P9/1000/3.28","v":1.5243902439024392E-5},"ft"]
[]
[null,null,"DATA",null,null,null,null,null,"RESULTS",null,null,null,null,null,"Mass flow",{"$f":"E13*E15/0.45","v":19575.466666666664},"lb/hr"]
[null,null,"Flow rate (normal)",null,{"$f":"9.6*2","v":19.2},"m3/h",null,null,"Suction Hydraulic",null,null,null,null,null,"Rho",{"$f":"E15/16.02","v":28.639200998751562},"lb/ft3"]
[null,null,"Flow rate (rated)",null,{"$f":"1.1*E13","v":21.12},"m3/h",null,null,"Pipe ID",{"$f":"VLOOKUP(E27,'Pipe size sch 40'!$A$5:$C$27,3,FALSE)*25.4/1000","v":7.7977999999999992E-2},"m"]
[null,null,"Density",null,458.8,"kg/m3",null,null,"Velocity",{"$f":"E13/(PI()/4*J14^2)/3600","v":1.1167723746755849},"m/s",null,null,null,"Side Calculation (Suction)"]
[null,null,"Flow temperature",null,-158.4,"deg C",null,null,"Velocity acceptance",{"$f":"IF(E27<=2,0.9,IF(OR(E27>=3,E27<=6),1.2,IF(OR(E27>=8,E27<=18),1.5,1.8)))","v":1.2},"m/s","(max)",null,null,"f tebakan",1.8967652688417456E-2]
[null,null,"Viscocity",null,0.1434,"cP",null,null,"Reynold number",{"$f":"E15*J16*J14/E18","v":299383.31715481164},null,null,null,null,"f left",{"$f":"1/(P16)^0.5","v":7.2609459783100894}]
[null,null,null,null,{"$f":"E17*10^-3","v":1.4340000000000002E-4},"Nm2/s",null,null,"Pipe DP",{"$f":"P22","v":7.0752432343434618E-2},"bar/100m",null,null,null,"f right",{"$f":"-2*LOG(P10/(3.7*J14*0.3048)+2.51/(J17*(P16)^0.5))","v":7.2607576894757946}]
[null,null,"Vapor pressure",null,{"$f":"'Pump sizing'!E17","v":1.01},"bara",null,null,"Pipe DP acceptance",{"$f":"IF(E27<=6,0.137,0.225)","v":0.13700000000000001},"bar/100m",null,null,null,"f left/f right",{"$f":"P17/P18","v":1.0000259323947096},"Goal seek"]
[null,null,"Pump efficiency",null,0.45,null,null,null,"Static head",{"$f":"E15*9.8*E25/10^5","v":0.1011654},"bar",null,null,null,"psi/100 ft",{"$f":"0.000336*P16*P12^2/(J14*1000/25.4)^5/P13","v":0.31269744998504362}]
[null,null,null,null,null,null,null,null,"Pipe friction loss",{"$f":"J18*E26/100","v":7.0752432343434623E-3},"bar",null,null,null,"psi/ft",{"$f":"P20/100","v":3.126974499850436E-3}]
[null,null,"SUCTION",null,null,null,null,null,"Fitting friction loss",{"$f":"G45","v":8.0118778089401599E-2},"bar",null,null,null,"bar/100 m",{"$f":"P21*100/14.5/0.3048","v":7.0752432343434618E-2}]
[null,null,"Pressure at Vessel (min)",null,2,"barg",null,null,"Suction Pressure",{"$f":"E23+J20-SUM(J21:J22)","v":2.013971378676255},"barg"]
[null,null,"Pressure at Vessel (max)",null,5,"barg",null,null,"Result",{"$f":"IF(AND(J15<J16,J18<J19),\"OK\",\"NOT OK\")","v":"OK"}]
[null,null,"Static head",null,2.25,"m","(vertical tank)",null,null,null,null,null,null,null,"Side Calculation (Discharge)",null,null,null,null,"Suction",null,"Discharge"]
[null,null,"Length",null,10,"m","(plot plan)",null,"Discharge Hydraulic",null,null,null,null,null,"f tebakan",1.8060578639456818E-2,null,null,null,null,null,null,"< 49 barg","> 49 barg"]
[null,null,"Pipe size",null,3,"in",null,null,"Pipe ID",{"$f":"VLOOKUP(E51,'Pipe size sch 40'!$A$5:$C$27,3,FALSE)*25.4/1000","v":7.7977999999999992E-2},"m",null,null,null,"f left",{"$f":"1/(P26)^0.5","v":7.4410490915614833},null,null,null,"Velocity","Pressure","Velocity","Pressure","Pressure"]
[null,null,"Schedule",null,40,null,null,null,"Velocity",{"$f":"E13/(PI()/4*J14^2)/3600","v":1.1167723746755849},"m/s",null,null,null,"f right",{"$f":"-2*LOG(P10/(3.7*J27*0.3048)+2.51/(J30*(P26)^0.5))","v":7.4425868264634403},null,null,0.5,0.9,0.13700000000000001,4.5,0.34300000000000003,0.68600000000000005]
[null,null,"Fittings",null,null,null,null,null,"Velocity acceptance",{"$f":"IF(E49<=18,4.5,6)","v":4.5},"m/s","(max)",null,null,"f left/f right",{"$f":"P27/P28","v":0.99979338703896747},"Goal seek",null,0.75,0.9,0.13700000000000001,4.5,0.34300000000000003,0.68600000000000005]
[null,null,null,null,"Qty","K","DP",null,"Reynold number",{"$f":"E15*J29*J27/E18","v":1122687.4393305436},null,null,null,null,"psi/100 ft",{"$f":"0.000336*P26*P12^2/(J27*1000/25.4)^5/P13","v":0.29774358369926945},null,null,1,0.9,0.13700000000000001,4.5,0.34300000000000003,0.68600000000000005]
[null,null,"Elbow 90 LR",{"$f":"C31&$E$27","v":"Elbow 90 LR3"},6,{"$f":"VLOOKUP(D31,'K-value'!$D$4:$E$146,2,FALSE)","v":0.28999999999999998},{"$f":"E31*F31*$J$15^2/(2*9.8)*$E$15*9.8/10^5","v":4.9781959436232624E-3},null,"Pipe DP",{"$f":"P32","v":6.7368898474809813E-2},"bar/100m",null,null,null,"psi/ft",{"$f":"P30/100","v":2.9774358369926944E-3},null,null,1.5,0.9,0.13700000000000001,4.5,0.34300000000000003,0.68600000000000005]
[null,null,"Elbow 45 LR","Elbow 45 LR3",null,{"$f":"VLOOKUP(D32,'K-value'!$D$4:$E$146,2,FALSE)","v":0.28999999999999998},0,null,"Pipe DP acceptance",{"$f":"IF(E48<=49,0.343,0.686)","v":0.34300000000000003},"bar/100m",null,null,null,"bar/100 m",{"$f":"P31*100/14.5/0.3048","v":6.7368898474809813E-2},null,null,2,0.9,0.13700000000000001,4.5,0.34300000000000003,0.68600000000000005]
[null,null,"Tee thru","Tee thru3",null,{"$f":"VLOOKUP(D33,'K-value'!$D$4:$E$146,2,FALSE)","v":0.36},0,null,"Static head",{"$f":"E15*9.8*E49/10^5","v":8.9924800000000013E-2},"bar","note 1",null,null,null,null,null,null,3,1.2,0.13700000000000001,4.5,0.34300000000000003,0.68600000000000005]
[null,null,"Tee branch","Tee branch3",3,{"$f":"VLOOKUP(D34,'K-value'!$D$4:$E$146,2,FALSE)","v":1.08},9.2697441708846952E-3,null,"Line losses",{"$f":"J31*E50/100","v":4.7158228932366868E-2},"bar",null,null,null,null,null,null,null,4,1.2,0.13700000000000001,4.5,0.34300000000000003,0.68600000000000005]
[null,null,"Ball valve","Ball valve3",2,{"$f":"VLOOKUP(D35,'K-value'!$D$4:$E$146,2,FALSE)","v":0.05},2.8610321515076223E-4,null,"Fitting & eqp losses",{"$f":"G69+G71+G72","v":0.73196345119664308},"bar",null,null,null,"NPSHA calculation",null,null,null,6,1.2,0.13700000000000001,4.5,0.34300000000000003,0.68600000000000005]
[null,null,"Butterfly valve","Butterfly valve3",null,{"$f":"VLOOKUP(D36,'K-value'!$D$4:$E$146,2,FALSE)","v":0.81},0,null,"Discharge Pressure",{"$f":"E48+J33+J34+J35","v":8.8690464801290094},"barg",null,null,null,"HA",{"$f":"(E23+1.01)*100000/(E15*9.81)","v":66.876583597506936},"m",null,8,1.5,0.22500000000000001,4.5,0.34300000000000003,0.68600000000000005]
[null,null,"Gate valve","Gate valve3",null,{"$f":"VLOOKUP(D37,'K-value'!$D$4:$E$146,2,FALSE)","v":0.14000000000000001},0,null,"Result",{"$f":"IF(AND(J28<J29,J31<J32),\"OK\",\"NOT OK\")","v":"OK"},null,null,null,null,"HZ",{"$f":"E25","v":2.25},"m",null,10,1.5,0.22500000000000001,4.5,0.34300000000000003,0.68600000000000005]
[null,null,"Globe valve","Globe valve3",null,{"$f":"VLOOKUP(D38,'K-value'!$D$4:$E$146,2,FALSE)","v":6.1},0,null,null,null,null,null,null,null,"HF",{"$f":"SUM(J21:J22)*-1*10^5/(E15*9.8)","v":-1.9392652821856717},"m",null,12,1.5,0.22500000000000001,4.5,0.34300000000000003,0.68600000000000005]
[null,null,"Check valve","Check valve3",null,{"$f":"VLOOKUP(D39,'K-value'!$D$4:$E$146,2,FALSE)","v":1.8},0,null,"Pump Data",null,null,null,null,null,"HV",0,null,null,16,1.5,0.22500000000000001,4.5,0.34300000000000003,0.68600000000000005]
[null,null,"Plug valve","Plug valve3",null,{"$f":"VLOOKUP(D40,'K-value'!$D$4:$E$146,2,FALSE)","v":1.62},0,null,"Suction Pressure",{"$f":"J23","v":2.013971378676255},"barg",null,null,null,"HVP",{"$f":"E19*10^5/(E15*9.8)*-1","v":-22.463213707453335},"m",null,18,1.5,0.22500000000000001,4.5,0.34300000000000003,0.68600000000000005]
[null,null,"Pipe entrance","Pipe entrance3",1,{"$f":"VLOOKUP(D41,'K-value'!$D$4:$E$146,2,FALSE)","v":0.78},2.2316050781759455E-3,null,"Discharge Pressure",{"$f":"J36","v":8.8690464801290094},"barg",null,null,null,"NPSHA",{"$f":"SUM(P36:P40)","v":44.724104607867929},"m",null,20,1.8,0.22500000000000001,6,0.34300000000000003,0.68600000000000005]
[null,null,"Suction strainer","Suction strainer3",1,null,{"$f":"0.05*E42","v":0.05},null,"Selected disc. Pressure",{"$f":"J41","v":8.8690464801290094},"barg"]
[null,null,"Total, barg",null,null,null,{"$f":"SUM(G31:G42)","v":6.6765648407834666E-2},null,"Differential Pressure",{"$f":"J42-J40","v":6.8550751014527549},"bar"]
[null,null,"Contingency",null,null,null,0.2,null,"Differential Head",{"$f":"J43*10^5/(E15*9.8)","v":152.46239305403523},"m"]
[null,null,"Total + Contingency",null,null,null,{"$f":"(1+G44)*G43","v":8.0118778089401599E-2},null,"Hydraulic Power",{"$f":"E15*9.8*J44*E14/3600000","v":4.02164405951895},"kW"]
[null,null,null,null,null,null,null,null,"Pump BHP",{"$f":"J45/E20","v":8.9369867989310006},"kW"]
[null,null,"DISCHARGE",null,null,null,null,null,"Rated Power (calculated)",{"$f":"IF(J46<22,J46*1.25,IF(AND(J46>22,J46<55),J46*1.15,IF(J46>55,J46*1.1,\"ERROR\")))","v":11.171233498663751},"kW"]
[null,null,"Target Pressure ",null,8,"barg",null,null,"Rated Power (selected)",15,"kW"]
[null,null,"Static head",null,2,"m","note 2",null,"NPSHa",{"$f":"P41","v":44.724104607867929},"m"]
[null,null,"Length",null,70,"m","(plot plan)",null,"NPSHr",{"$f":"J49-1","v":43.724104607867929},"m"]
[null,null,"Pipe size",null,3,"in"]
[null,null,"Schedule",null,40,null,null,null,"Shut in Pressure"]
[null,null,"Fittings",null,null,null,null,null,"P shut in",{"$f":"E24+1.3*J43","v":13.911597631888581},"barg"]
[null,null,null,null,"Qty","K","DP"]
[null,null,"Elbow 90 LR",{"$f":"C55&$E$51","v":"Elbow 90 LR3"},5,{"$f":"VLOOKUP(D55,'K-value'!$D$4:$E$146,2,FALSE)","v":0.28999999999999998},{"$f":"E55*F55*$J$15^2/(2*9.8)*$E$15*9.8/10^5","v":4.1484966196860514E-3}]
[null,null,"Elbow 45 LR","Elbow 45 LR3",null,{"$f":"VLOOKUP(D56,'K-value'!$D$4:$E$146,2,FALSE)","v":0.28999999999999998},0]
[null,null,"Tee thru","Tee thru3",null,{"$f":"VLOOKUP(D57,'K-value'!$D$4:$E$146,2,FALSE)","v":0.36},0]
[null,null,"Tee branch","Tee branch3",2,{"$f":"VLOOKUP(D58,'K-value'!$D$4:$E$146,2,FALSE)","v":1.08},6.1798294472564649E-3]
[null,null,"Ball valve","Ball valve3",6,{"$f":"VLOOKUP(D59,'K-value'!$D$4:$E$146,2,FALSE)","v":0.05},8.583096454522867E-4]
[null,null,"Butterfly valve","Butterfly valve3",null,{"$f":"VLOOKUP(D60,'K-value'!$D$4:$E$146,2,FALSE)","v":0.81},0]
[null,null,"Gate valve","Gate valve3",null,{"$f":"VLOOKUP(D61,'K-value'!$D$4:$E$146,2,FALSE)","v":0.14000000000000001},0,null,"Note:"]
[null,null,"Globe valve","Globe valve3",null,{"$f":"VLOOKUP(D62,'K-value'!$D$4:$E$146,2,FALSE)","v":6.1},0]
[null,null,"Check valve","Check valve3",3,{"$f":"VLOOKUP(D63,'K-value'!$D$4:$E$146,2,FALSE)","v":1.8},1.5449573618141163E-2,null,"1. Discharge liquid level is assumed 2 m above grade elevation"]
[null,null,"Plug valve","Plug valve3",null,{"$f":"VLOOKUP(D64,'K-value'!$D$4:$E$146,2,FALSE)","v":1.62},0]
[null,null,"Pipe entrance","Pipe entrance3",null,{"$f":"VLOOKUP(D65,'K-value'!$D$4:$E$146,2,FALSE)","v":0.78},0]
[null,null,"Flow orifice","Flow orifice3",1,null,0.25]
[null,null,"Total, barg",null,null,null,{"$f":"SUM(G55:G66)","v":0.27663620933053595}]
[null,null,"Contingency",null,null,null,0.2]
[null,null,"Total + contingency, barg",null,null,null,{"$f":"G67*(1+G68)","v":0.33196345119664311}]
[null,null,"Pressure Loss due to Equipment"]
[null,null,"Coriolis flow meter at LNG dispenser",null,null,null,0.1]
[null,null,"Control valve",null,null,null,0.3]

{"sheet":"Gresik (HP Pump)","index":28,"n_rows":73,"n_cols":24,"rows_kept":73,"cut":false,"hidden":true,"merged":[[0,5,3,10],[24,18,25,18],[24,19,25,20],[24,21,24,23]]}
[null,null,null,null,null,"PUMP SIZING"]
[]
[]
[]
[null,null,"Project: FEED PROYEK LNG JAWA"]
[]
[null,null,"Tag No:",null,"GRSK-P-003A/B"]
[null,null,"Description:",null,"LNG HP Pump"]
[null,null,"Location:",null,"Gresik",null,null,null,null,null,null,null,null,null,"Pipe roughness",0.05,"mm"]
[null,null,null,null,null,null,null,null,null,null,null,null,null,null,null,{"$f":"P9/1000/3.28","v":1.5243902439024392E-5},"ft"]
[]
[null,null,"DATA",null,null,null,null,null,"RESULTS",null,null,null,null,null,"Mass flow",{"$f":"E14*E15/0.45","v":1098.1462962962962},"lb/hr"]
[null,null,"Flow rate (normal)",null,{"$f":"0.5*47/24","v":0.97916666666666663},"m3/h",null,null,"Suction Hydraulic",null,null,null,null,null,"Rho",{"$f":"E15/16.02","v":28.639200998751562},"lb/ft3"]
[null,null,"Flow rate (rated)",null,{"$f":"1.1*E13","v":1.0770833333333334},"m3/h",null,null,"Pipe ID",{"$f":"VLOOKUP(E27,'Pipe size sch 40'!$A$5:$C$27,3,FALSE)*25.4/1000","v":2.6669999999999999E-2},"m"]
[null,null,"Density",null,458.8,"kg/m3",null,null,"Velocity",{"$f":"E14/(PI()/4*J14^2)/3600","v":0.53556340272456449},"m/s",null,null,null,"Side Calculation (Suction)"]
[null,null,"Flow temperature",null,-158.4,"deg C",null,null,"Velocity acceptance",{"$f":"IF(E27<=2,0.9,IF(OR(E27>=3,E27<=6),1.2,IF(OR(E27>=8,E27<=18),1.5,1.8)))","v":0.9},"m/s","(max)",null,null,"f tebakan",2.5243813926468607E-2]
[null,null,"Viscocity",null,0.1434,"cP",null,null,"Reynold number",{"$f":"E15*J16*J14/E18","v":76796.209205020918},null,null,null,null,"f left",{"$f":"1/(P16)^0.5","v":6.2939387880106432}]
[null,null,null,null,{"$f":"E17*10^-3","v":1.4340000000000002E-4},"Nm2/s",null,null,"Pipe DP",{"$f":"P22","v":6.3317577747366086E-2},"bar/100m",null,null,null,"f right",{"$f":"-2*LOG(P10/(3.7*J14*0.3048)+2.51/(J17*(P16)^0.5))","v":6.2943892250778015}]
[null,null,"Vapor pressure",null,{"$f":"'Pump sizing'!E17","v":1.01},"bara",null,null,"Pipe DP acceptance",{"$f":"IF(E27<=6,0.137,0.225)","v":0.13700000000000001},"bar/100m",null,null,null,"f left/f right",{"$f":"P17/P18","v":0.99992843832005751},"Goal seek"]
[null,null,"Pump efficiency",null,0.45,null,null,null,"Static head",{"$f":"E15*9.8*E25/10^5","v":0.1011654},"bar",null,null,null,"psi/100 ft",{"$f":"0.000336*P16*P12^2/(J14*1000/25.4)^5/P13","v":0.27983836661225914}]
[null,null,null,null,null,null,null,null,"Pipe friction loss",{"$f":"J18*E26/100","v":9.4976366621049128E-3},"bar",null,null,null,"psi/ft",{"$f":"P20/100","v":2.7983836661225913E-3}]
[null,null,"SUCTION",null,null,null,null,null,"Fitting friction loss",{"$f":"G45","v":6.7264141099308006E-2},"bar",null,null,null,"bar/100 m",{"$f":"P21*100/14.5/0.3048","v":6.3317577747366086E-2}]
[null,null,"Pressure at Vessel (min)",null,2,"barg",null,null,"Suction Pressure",{"$f":"E23+J20-SUM(J21:J22)","v":2.0244036222385873},"barg"]
[null,null,"Pressure at Vessel (max)",null,5,"barg",null,null,"Result",{"$f":"IF(AND(J15<J16,J18<J19),\"OK\",\"NOT OK\")","v":"OK"}]
[null,null,"Static head",null,2.25,"m","(vertical tank)",null,null,null,null,null,null,null,"Side Calculation (Discharge)",null,null,null,null,"Suction",null,"Discharge"]
[null,null,"Length",null,15,"m","(plot plan)",null,"Discharge Hydraulic",null,null,null,null,null,"f tebakan",2.5140091881832943E-2,null,null,null,null,null,null,"< 49 barg","> 49 barg"]
[null,null,"Pipe size",null,1,"in",null,null,"Pipe ID",{"$f":"VLOOKUP(E51,'Pipe size sch 40'!$A$5:$C$27,3,FALSE)*25.4/1000","v":2.0827999999999996E-2},"m",null,null,null,"f left",{"$f":"1/(P26)^0.5","v":6.3069090715557135},null,null,null,"Velocity","Pressure","Velocity","Pressure","Pressure"]
[null,null,"Schedule",null,40,null,null,null,"Velocity",{"$f":"E14/(PI()/4*J14^2)/3600","v":0.53556340272456449},"m/s",null,null,null,"f right",{"$f":"-2*LOG(P10/(3.7*J27*0.3048)+2.51/(J30*(P26)^0.5))","v":6.3076086630560315},null,null,0.5,0.9,0.13700000000000001,4.5,0.34300000000000003,0.68600000000000005]
[null,null,"Fittings",null,null,null,null,null,"Velocity acceptance",{"$f":"IF(E49<=18,4.5,6)","v":4.5},"m/s","(max)",null,null,"f left/f right",{"$f":"P27/P28","v":0.99988908768160978},"Goal seek",null,0.75,0.9,0.13700000000000001,4.5,0.34300000000000003,0.68600000000000005]
[null,null,null,null,"Qty","K","DP",null,"Reynold number",{"$f":"E15*J29*J27/E18","v":299870.91213389114},null,null,null,null,"psi/100 ft",{"$f":"0.000336*P26*P12^2/(J27*1000/25.4)^5/P13","v":0.95939263668692532},null,null,1,0.9,0.13700000000000001,4.5,0.34300000000000003,0.68600000000000005]
[null,null,"Elbow 90 LR",{"$f":"C31&$E$27","v":"Elbow 90 LR1"},6,{"$f":"VLOOKUP(D31,'K-value'!$D$4:$E$146,2,FALSE)","v":0.69},{"$f":"E31*F31*$J$15^2/(2*9.8)*$E$15*9.8/10^5","v":2.724052912240503E-3},null,"Pipe DP",{"$f":"P32","v":0.21707680258098588},"bar/100m",null,null,null,"psi/ft",{"$f":"P30/100","v":9.5939263668692529E-3},null,null,1.5,0.9,0.13700000000000001,4.5,0.34300000000000003,0.68600000000000005]
[null,null,"Elbow 45 LR",{"$f":"C32&$E$27","v":"Elbow 45 LR1"},null,{"$f":"VLOOKUP(D32,'K-value'!$D$4:$E$146,2,FALSE)","v":0.37},0,null,"Pipe DP acceptance",{"$f":"IF(E48<=49,0.343,0.686)","v":0.68600000000000005},"bar/100m",null,null,null,"bar/100 m",{"$f":"P31*100/14.5/0.3048","v":0.21707680258098588},null,null,2,0.9,0.13700000000000001,4.5,0.34300000000000003,0.68600000000000005]
[null,null,"Tee thru","Tee thru1",null,{"$f":"VLOOKUP(D33,'K-value'!$D$4:$E$146,2,FALSE)","v":0.46},0,null,"Static head",{"$f":"E15*9.8*E49/10^5","v":8.9924800000000013E-2},"bar","note 1",null,null,null,null,null,null,3,1.2,0.13700000000000001,4.5,0.34300000000000003,0.68600000000000005]
[null,null,"Tee branch","Tee branch1",3,{"$f":"VLOOKUP(D34,'K-value'!$D$4:$E$146,2,FALSE)","v":1.38},2.724052912240503E-3,null,"Line losses",{"$f":"J31*E50/100","v":0.15195376180669012},"bar",null,null,null,null,null,null,null,4,1.2,0.13700000000000001,4.5,0.34300000000000003,0.68600000000000005]
[null,null,"Ball valve","Ball valve1",2,{"$f":"VLOOKUP(D35,'K-value'!$D$4:$E$146,2,FALSE)","v":7.0000000000000007E-2},9.2117731331804468E-5,null,"Fitting & eqp losses",{"$f":"G69+G71+G72+G73","v":2.7118673957307173},"bar",null,null,null,"NPSHA calculation",null,null,null,6,1.2,0.13700000000000001,4.5,0.34300000000000003,0.68600000000000005]
[null,null,"Butterfly valve","Butterfly valve1",null,{"$f":"VLOOKUP(D36,'K-value'!$D$4:$E$146,2,FALSE)","v":0.86},0,null,"Discharge Pressure",{"$f":"E48+J33+J34+J35","v":252.95374595753739},"barg",null,null,null,"HA",{"$f":"(E23+1.01)*100000/(E15*9.81)","v":66.876583597506936},"m",null,8,1.5,0.22500000000000001,4.5,0.34300000000000003,0.68600000000000005]
[null,null,"Gate valve","Gate valve1",null,{"$f":"VLOOKUP(D37,'K-value'!$D$4:$E$146,2,FALSE)","v":0.18},0,null,"Result",{"$f":"IF(AND(J28<J29,J31<J32),\"OK\",\"NOT OK\")","v":"OK"},null,null,null,null,"HZ",{"$f":"E25","v":2.25},"m",null,10,1.5,0.22500000000000001,4.5,0.34300000000000003,0.68600000000000005]
[null,null,"Globe valve","Globe valve1",null,{"$f":"VLOOKUP(D38,'K-value'!$D$4:$E$146,2,FALSE)","v":7.8},0,null,null,null,null,null,null,null,"HF",{"$f":"SUM(J21:J22)*-1*10^5/(E15*9.8)","v":-1.707243780612532},"m",null,12,1.5,0.22500000000000001,4.5,0.34300000000000003,0.68600000000000005]
[null,null,"Check valve","Check valve1",null,{"$f":"VLOOKUP(D39,'K-value'!$D$4:$E$146,2,FALSE)","v":2.2999999999999998},0,null,"Pump Data",null,null,null,null,null,"HV",0,null,null,16,1.5,0.22500000000000001,4.5,0.34300000000000003,0.68600000000000005]
[null,null,"Plug valve","Plug valve1",null,{"$f":"VLOOKUP(D40,'K-value'!$D$4:$E$146,2,FALSE)","v":2.0699999999999998},0,null,"Suction Pressure",{"$f":"J23","v":2.0244036222385873},"barg",null,null,null,"HVP",{"$f":"E19*10^5/(E15*9.8)*-1","v":-22.463213707453335},"m",null,18,1.5,0.22500000000000001,4.5,0.34300000000000003,0.68600000000000005]
[null,null,"Pipe entrance","Pipe entrance1",1,{"$f":"VLOOKUP(D41,'K-value'!$D$4:$E$146,2,FALSE)","v":0.78},5.1322736027719631E-4,null,"Discharge Pressure",{"$f":"J36","v":252.95374595753739},"barg",null,null,null,"NPSHA",{"$f":"SUM(P36:P40)","v":44.956126109441072},"m",null,20,1.8,0.22500000000000001,6,0.34300000000000003,0.68600000000000005]
[null,null,"Suction strainer","Suction strainer1",1,null,{"$f":"0.05*E42","v":0.05},null,"Selected disc. Pressure",{"$f":"J41","v":252.95374595753739},"barg"]
[null,null,"Total, barg",null,null,null,{"$f":"SUM(G31:G42)","v":5.6053450916090007E-2},null,"Differential Pressure",{"$f":"J42-J40","v":250.9293423352988},"bar"]
[null,null,"Contingency",null,null,null,0.2,null,"Differential Head",{"$f":"J43*10^5/(E15*9.8)","v":5580.8707349985489},"m"]
[null,null,"Total + Contingency",null,null,null,{"$f":"(1+G44)*G43","v":6.7264141099308006E-2},null,"Hydraulic Power",{"$f":"E15*9.8*J44*E14/3600000","v":7.5075503464901328},"kW"]
[null,null,null,null,null,null,null,null,"Pump BHP",{"$f":"J45/E20","v":16.683445214422516},"kW"]
[null,null,"DISCHARGE",null,null,null,null,null,"Rated Power (calculated)",{"$f":"IF(J46<22,J46*1.25,IF(AND(J46>22,J46<55),J46*1.15,IF(J46>55,J46*1.1,\"ERROR\")))","v":20.854306518028146},"kW"]
[null,null,"Target Pressure ",null,250,"barg",null,null,"Rated Power (selected)",22,"kW"]
[null,null,"Static head",null,2,"m","note 2",null,"NPSHa",{"$f":"P41","v":44.956126109441072},"m"]
[null,null,"Length",null,70,"m","(plot plan)",null,"NPSHr",{"$f":"J49-1","v":43.956126109441072},"m"]
[null,null,"Pipe size",null,0.75,"in"]
[null,null,"Schedule",null,40,null,null,null,"Shut in Pressure"]
[null,null,"Fittings",null,null,null,null,null,"P shut in","-","barg"]
[null,null,null,null,"Qty","K","DP"]
[null,null,"Elbow 90 LR",{"$f":"C55&$E$51","v":"Elbow 90 LR0.75"},5,{"$f":"VLOOKUP(D55,'K-value'!$D$4:$E$146,2,FALSE)","v":0.81},{"$f":"E55*F55*$J$15^2/(2*9.8)*$E$15*9.8/10^5","v":2.6648343706700585E-3}]
[null,null,"Elbow 45 LR",{"$f":"C56&$E$51","v":"Elbow 45 LR0.75"},null,{"$f":"VLOOKUP(D56,'K-value'!$D$4:$E$146,2,FALSE)","v":0.4},0]
[null,null,"Tee thru","Tee thru0.75",null,{"$f":"VLOOKUP(D57,'K-value'!$D$4:$E$146,2,FALSE)","v":0.5},0]
[null,null,"Tee branch","Tee branch0.75",2,{"$f":"VLOOKUP(D58,'K-value'!$D$4:$E$146,2,FALSE)","v":1.5},1.9739513856815243E-3]
[null,null,"Ball valve","Ball valve0.75",6,{"$f":"VLOOKUP(D59,'K-value'!$D$4:$E$146,2,FALSE)","v":0.08},3.1583222170904386E-4]
[null,null,"Butterfly valve","Butterfly valve0.75",null,{"$f":"VLOOKUP(D60,'K-value'!$D$4:$E$146,2,FALSE)","v":0.86},0]
[null,null,"Gate valve","Gate valve0.75",null,{"$f":"VLOOKUP(D61,'K-value'!$D$4:$E$146,2,FALSE)","v":0.2},0,null,"Note:"]
[null,null,"Globe valve","Globe valve0.75",null,{"$f":"VLOOKUP(D62,'K-value'!$D$4:$E$146,2,FALSE)","v":8.5},0]
[null,null,"Check valve","Check valve0.75",3,{"$f":"VLOOKUP(D63,'K-value'!$D$4:$E$146,2,FALSE)","v":2.5},4.934878464203811E-3,null,"1. Discharge liquid level is assumed 2 m above grade elevation"]
[null,null,"Plug valve","Plug valve0.75",null,{"$f":"VLOOKUP(D64,'K-value'!$D$4:$E$146,2,FALSE)","v":2.25},0]
[null,null,"Pipe entrance","Pipe entrance0.75",null,{"$f":"VLOOKUP(D65,'K-value'!$D$4:$E$146,2,FALSE)","v":0.78},0]
[null,null,"Flow orifice","Flow orifice0.75",1,null,0.25]
[null,null,"Total, barg",null,null,null,{"$f":"SUM(G55:G66)","v":0.25988949644226444}]
[null,null,"Contingency",null,null,null,0.2]
[null,null,"Total + contingency, barg",null,null,null,{"$f":"G67*(1+G68)","v":0.31186739573071731}]
[null,null,"Pressure Loss due to Equipment"]
[null,null,"AAV",null,null,null,2]
[null,null,"Control valve",null,null,null,0.3]
[null,null,"Coriolis flow meter at CNG dispenser",null,null,null,0.1]

{"sheet":"Banyuwangi (LP Pump)","index":29,"n_rows":72,"n_cols":24,"rows_kept":72,"cut":false,"hidden":true,"merged":[[0,5,3,10],[24,18,25,18],[24,19,25,20],[24,21,24,23]]}
[null,null,null,null,null,"PUMP SIZING"]
[]
[]
[]
[null,null,"Project: FEED PROYEK LNG JAWA"]
[]
[null,null,"Tag No:",null,"BYWG-P-002A/B"]
[null,null,"Description:",null,"LNG LP Pump"]
[null,null,"Location:",null,"Banyuwangi",null,null,null,null,null,null,null,null,null,"Pipe roughness",0.05,"mm"]
[null,null,null,null,null,null,null,null,null,null,null,null,null,null,null,{"$f":"P9/1000/3.28","v":1.5243902439024392E-5},"ft"]
[]
[null,null,"DATA",null,null,null,null,null,"RESULTS",null,null,null,null,null,"Mass flow",{"$f":"E13*E15/0.45","v":19575.466666666664},"lb/hr"]
[null,null,"Flow rate (normal)",null,{"$f":"9.6*2","v":19.2},"m3/h",null,null,"Suction Hydraulic",null,null,null,null,null,"Rho",{"$f":"E15/16.02","v":28.639200998751562},"lb/ft3"]
[null,null,"Flow rate (rated)",null,{"$f":"1.1*E13","v":21.12},"m3/h",null,null,"Pipe ID",{"$f":"VLOOKUP(E27,'Pipe size sch 40'!$A$5:$C$27,3,FALSE)*25.4/1000","v":7.7977999999999992E-2},"m"]
[null,null,"Density",null,458.8,"kg/m3",null,null,"Velocity",{"$f":"E13/(PI()/4*J14^2)/3600","v":1.1167723746755849},"m/s",null,null,null,"Side Calculation (Suction)"]
[null,null,"Flow temperature",null,-158.4,"deg C",null,null,"Velocity acceptance",{"$f":"IF(E27<=2,0.9,IF(OR(E27>=3,E27<=6),1.2,IF(OR(E27>=8,E27<=18),1.5,1.8)))","v":1.2},"m/s","(max)",null,null,"f tebakan",1.8967652688417456E-2]
[null,null,"Viscocity",null,0.1434,"cP",null,null,"Reynold number",{"$f":"E15*J16*J14/E18","v":299383.31715481164},null,null,null,null,"f left",{"$f":"1/(P16)^0.5","v":7.2609459783100894}]
[null,null,null,null,{"$f":"E17*10^-3","v":1.4340000000000002E-4},"Nm2/s",null,null,"Pipe DP",{"$f":"P22","v":7.0752432343434618E-2},"bar/100m",null,null,null,"f right",{"$f":"-2*LOG(P10/(3.7*J14*0.3048)+2.51/(J17*(P16)^0.5))","v":7.2607576894757946}]
[null,null,"Vapor pressure",null,{"$f":"'Pump sizing'!E17","v":1.01},"bara",null,null,"Pipe DP acceptance",{"$f":"IF(E27<=6,0.137,0.225)","v":0.13700000000000001},"bar/100m",null,null,null,"f left/f right",{"$f":"P17/P18","v":1.0000259323947096},"Goal seek"]
[null,null,"Pump efficiency",null,0.45,null,null,null,"Static head",{"$f":"E15*9.8*E25/10^5","v":0.1011654},"bar",null,null,null,"psi/100 ft",{"$f":"0.000336*P16*P12^2/(J14*1000/25.4)^5/P13","v":0.31269744998504362}]
[null,null,null,null,null,null,null,null,"Pipe friction loss",{"$f":"J18*E26/100","v":7.0752432343434623E-3},"bar",null,null,null,"psi/ft",{"$f":"P20/100","v":3.126974499850436E-3}]
[null,null,"SUCTION",null,null,null,null,null,"Fitting friction loss",{"$f":"G45","v":8.0118778089401599E-2},"bar",null,null,null,"bar/100 m",{"$f":"P21*100/14.5/0.3048","v":7.0752432343434618E-2}]
[null,null,"Pressure at Vessel (min)",null,2,"barg",null,null,"Suction Pressure",{"$f":"E23+J20-SUM(J21:J22)","v":2.013971378676255},"barg"]
[null,null,"Pressure at Vessel (max)",null,5,"barg",null,null,"Result",{"$f":"IF(AND(J15<J16,J18<J19),\"OK\",\"NOT OK\")","v":"OK"}]
[null,null,"Static head",null,2.25,"m","(vertical tank)",null,null,null,null,null,null,null,"Side Calculation (Discharge)",null,null,null,null,"Suction",null,"Discharge"]
[null,null,"Length",null,10,"m","(plot plan)",null,"Discharge Hydraulic",null,null,null,null,null,"f tebakan",1.8060578639456818E-2,null,null,null,null,null,null,"< 49 barg","> 49 barg"]
[null,null,"Pipe size",null,3,"in",null,null,"Pipe ID",{"$f":"VLOOKUP(E51,'Pipe size sch 40'!$A$5:$C$27,3,FALSE)*25.4/1000","v":7.7977999999999992E-2},"m",null,null,null,"f left",{"$f":"1/(P26)^0.5","v":7.4410490915614833},null,null,null,"Velocity","Pressure","Velocity","Pressure","Pressure"]
[null,null,"Schedule",null,40,null,null,null,"Velocity",{"$f":"E13/(PI()/4*J14^2)/3600","v":1.1167723746755849},"m/s",null,null,null,"f right",{"$f":"-2*LOG(P10/(3.7*J27*0.3048)+2.51/(J30*(P26)^0.5))","v":7.4425868264634403},null,null,0.5,0.9,0.13700000000000001,4.5,0.34300000000000003,0.68600000000000005]
[null,null,"Fittings",null,null,null,null,null,"Velocity acceptance",{"$f":"IF(E49<=18,4.5,6)","v":4.5},"m/s","(max)",null,null,"f left/f right",{"$f":"P27/P28","v":0.99979338703896747},"Goal seek",null,0.75,0.9,0.13700000000000001,4.5,0.34300000000000003,0.68600000000000005]
[null,null,null,null,"Qty","K","DP",null,"Reynold number",{"$f":"E15*J29*J27/E18","v":1122687.4393305436},null,null,null,null,"psi/100 ft",{"$f":"0.000336*P26*P12^2/(J27*1000/25.4)^5/P13","v":0.29774358369926945},null,null,1,0.9,0.13700000000000001,4.5,0.34300000000000003,0.68600000000000005]
[null,null,"Elbow 90 LR",{"$f":"C31&$E$27","v":"Elbow 90 LR3"},6,{"$f":"VLOOKUP(D31,'K-value'!$D$4:$E$146,2,FALSE)","v":0.28999999999999998},{"$f":"E31*F31*$J$15^2/(2*9.8)*$E$15*9.8/10^5","v":4.9781959436232624E-3},null,"Pipe DP",{"$f":"P32","v":6.7368898474809813E-2},"bar/100m",null,null,null,"psi/ft",{"$f":"P30/100","v":2.9774358369926944E-3},null,null,1.5,0.9,0.13700000000000001,4.5,0.34300000000000003,0.68600000000000005]
[null,null,"Elbow 45 LR","Elbow 45 LR3",null,{"$f":"VLOOKUP(D32,'K-value'!$D$4:$E$146,2,FALSE)","v":0.28999999999999998},0,null,"Pipe DP acceptance",{"$f":"IF(E48<=49,0.343,0.686)","v":0.34300000000000003},"bar/100m",null,null,null,"bar/100 m",{"$f":"P31*100/14.5/0.3048","v":6.7368898474809813E-2},null,null,2,0.9,0.13700000000000001,4.5,0.34300000000000003,0.68600000000000005]
[null,null,"Tee thru","Tee thru3",null,{"$f":"VLOOKUP(D33,'K-value'!$D$4:$E$146,2,FALSE)","v":0.36},0,null,"Static head",{"$f":"E15*9.8*E49/10^5","v":8.9924800000000013E-2},"bar","note 1",null,null,null,null,null,null,3,1.2,0.13700000000000001,4.5,0.34300000000000003,0.68600000000000005]
[null,null,"Tee branch","Tee branch3",3,{"$f":"VLOOKUP(D34,'K-value'!$D$4:$E$146,2,FALSE)","v":1.08},9.2697441708846952E-3,null,"Line losses",{"$f":"J31*E50/100","v":4.3789784008626383E-2},"bar",null,null,null,null,null,null,null,4,1.2,0.13700000000000001,4.5,0.34300000000000003,0.68600000000000005]
[null,null,"Ball valve","Ball valve3",2,{"$f":"VLOOKUP(D35,'K-value'!$D$4:$E$146,2,FALSE)","v":0.05},2.8610321515076223E-4,null,"Fitting & eqp losses",{"$f":"G69+G71+G72","v":0.73196345119664308},"bar",null,null,null,"NPSHA calculation",null,null,null,6,1.2,0.13700000000000001,4.5,0.34300000000000003,0.68600000000000005]
[null,null,"Butterfly valve","Butterfly valve3",null,{"$f":"VLOOKUP(D36,'K-value'!$D$4:$E$146,2,FALSE)","v":0.81},0,null,"Discharge Pressure",{"$f":"E48+J33+J34+J35","v":8.8656780352052706},"barg",null,null,null,"HA",{"$f":"(E23+1.01)*100000/(E15*9.81)","v":66.876583597506936},"m",null,8,1.5,0.22500000000000001,4.5,0.34300000000000003,0.68600000000000005]
[null,null,"Gate valve","Gate valve3",null,{"$f":"VLOOKUP(D37,'K-value'!$D$4:$E$146,2,FALSE)","v":0.14000000000000001},0,null,"Result",{"$f":"IF(AND(J28<J29,J31<J32),\"OK\",\"NOT OK\")","v":"OK"},null,null,null,null,"HZ",{"$f":"E25","v":2.25},"m",null,10,1.5,0.22500000000000001,4.5,0.34300000000000003,0.68600000000000005]
[null,null,"Globe valve","Globe valve3",null,{"$f":"VLOOKUP(D38,'K-value'!$D$4:$E$146,2,FALSE)","v":6.1},0,null,null,null,null,null,null,null,"HF",{"$f":"SUM(J21:J22)*-1*10^5/(E15*9.8)","v":-1.9392652821856717},"m",null,12,1.5,0.22500000000000001,4.5,0.34300000000000003,0.68600000000000005]
[null,null,"Check valve","Check valve3",null,{"$f":"VLOOKUP(D39,'K-value'!$D$4:$E$146,2,FALSE)","v":1.8},0,null,"Pump Data",null,null,null,null,null,"HV",0,null,null,16,1.5,0.22500000000000001,4.5,0.34300000000000003,0.68600000000000005]
[null,null,"Plug valve","Plug valve3",null,{"$f":"VLOOKUP(D40,'K-value'!$D$4:$E$146,2,FALSE)","v":1.62},0,null,"Suction Pressure",{"$f":"J23","v":2.013971378676255},"barg",null,null,null,"HVP",{"$f":"E19*10^5/(E15*9.8)*-1","v":-22.463213707453335},"m",null,18,1.5,0.22500000000000001,4.5,0.34300000000000003,0.68600000000000005]
[null,null,"Pipe entrance","Pipe entrance3",1,{"$f":"VLOOKUP(D41,'K-value'!$D$4:$E$146,2,FALSE)","v":0.78},2.2316050781759455E-3,null,"Discharge Pressure",{"$f":"J36","v":8.8656780352052706},"barg",null,null,null,"NPSHA",{"$f":"SUM(P36:P40)","v":44.724104607867929},"m",null,20,1.8,0.22500000000000001,6,0.34300000000000003,0.68600000000000005]
[null,null,"Suction strainer","Suction strainer3",1,null,{"$f":"0.05*E42","v":0.05},null,"Selected disc. Pressure",{"$f":"J41","v":8.8656780352052706},"barg"]
[null,null,"Total, barg",null,null,null,{"$f":"SUM(G31:G42)","v":6.6765648407834666E-2},null,"Differential Pressure",{"$f":"J42-J40","v":6.8517066565290161},"bar"]
[null,null,"Contingency",null,null,null,0.2,null,"Differential Head",{"$f":"J43*10^5/(E15*9.8)","v":152.38747612514047},"m"]
[null,null,"Total + Contingency",null,null,null,{"$f":"(1+G44)*G43","v":8.0118778089401599E-2},null,"Hydraulic Power",{"$f":"E15*9.8*J44*E14/3600000","v":4.0196679051636899},"kW"]
[null,null,null,null,null,null,null,null,"Pump BHP",{"$f":"J45/E20","v":8.9325953448081989},"kW"]
[null,null,"DISCHARGE",null,null,null,null,null,"Rated Power (calculated)",{"$f":"IF(J46<22,J46*1.25,IF(AND(J46>22,J46<55),J46*1.15,IF(J46>55,J46*1.1,\"ERROR\")))","v":11.165744181010249},"kW"]
[null,null,"Target Pressure ",null,8,"barg",null,null,"Rated Power (selected)",15,"kW"]
[null,null,"Static head",null,2,"m","note 2",null,"NPSHa",{"$f":"P41","v":44.724104607867929},"m"]
[null,null,"Length",null,65,"m","(plot plan)",null,"NPSHr",{"$f":"J49-1","v":43.724104607867929},"m"]
[null,null,"Pipe size",null,3,"in"]
[null,null,"Schedule",null,40,null,null,null,"Shut in Pressure"]
[null,null,"Fittings",null,null,null,null,null,"P shut in",{"$f":"E24+1.3*J43","v":13.907218653487721},"barg"]
[null,null,null,null,"Qty","K","DP"]
[null,null,"Elbow 90 LR",{"$f":"C55&$E$51","v":"Elbow 90 LR3"},5,{"$f":"VLOOKUP(D55,'K-value'!$D$4:$E$146,2,FALSE)","v":0.28999999999999998},{"$f":"E55*F55*$J$15^2/(2*9.8)*$E$15*9.8/10^5","v":4.1484966196860514E-3}]
[null,null,"Elbow 45 LR","Elbow 45 LR3",null,{"$f":"VLOOKUP(D56,'K-value'!$D$4:$E$146,2,FALSE)","v":0.28999999999999998},0]
[null,null,"Tee thru","Tee thru3",null,{"$f":"VLOOKUP(D57,'K-value'!$D$4:$E$146,2,FALSE)","v":0.36},0]
[null,null,"Tee branch","Tee branch3",2,{"$f":"VLOOKUP(D58,'K-value'!$D$4:$E$146,2,FALSE)","v":1.08},6.1798294472564649E-3]
[null,null,"Ball valve","Ball valve3",6,{"$f":"VLOOKUP(D59,'K-value'!$D$4:$E$146,2,FALSE)","v":0.05},8.583096454522867E-4]
[null,null,"Butterfly valve","Butterfly valve3",null,{"$f":"VLOOKUP(D60,'K-value'!$D$4:$E$146,2,FALSE)","v":0.81},0]
[null,null,"Gate valve","Gate valve3",null,{"$f":"VLOOKUP(D61,'K-value'!$D$4:$E$146,2,FALSE)","v":0.14000000000000001},0,null,"Note:"]
[null,null,"Globe valve","Globe valve3",null,{"$f":"VLOOKUP(D62,'K-value'!$D$4:$E$146,2,FALSE)","v":6.1},0]
[null,null,"Check valve","Check valve3",3,{"$f":"VLOOKUP(D63,'K-value'!$D$4:$E$146,2,FALSE)","v":1.8},1.5449573618141163E-2,null,"1. Discharge liquid level is assumed 2 m above grade elevation"]
[null,null,"Plug valve","Plug valve3",null,{"$f":"VLOOKUP(D64,'K-value'!$D$4:$E$146,2,FALSE)","v":1.62},0]
[null,null,"Pipe entrance","Pipe entrance3",null,{"$f":"VLOOKUP(D65,'K-value'!$D$4:$E$146,2,FALSE)","v":0.78},0]
[null,null,"Flow orifice","Flow orifice3",1,null,0.25]
[null,null,"Total, barg",null,null,null,{"$f":"SUM(G55:G66)","v":0.27663620933053595}]
[null,null,"Contingency",null,null,null,0.2]
[null,null,"Total + contingency, barg",null,null,null,{"$f":"G67*(1+G68)","v":0.33196345119664311}]
[null,null,"Pressure Loss due to Equipment"]
[null,null,"Coriolis flow meter at LNG dispenser",null,null,null,0.1]
[null,null,"Control valve",null,null,null,0.3]

{"sheet":"Semarang (med feed pump) 0.5 MM","index":30,"n_rows":71,"n_cols":24,"rows_kept":71,"cut":false,"hidden":true,"merged":[[0,5,3,10],[24,18,25,18],[24,19,25,20],[24,21,24,23]]}
[null,null,null,null,null,"PUMP SIZING"]
[]
[]
[]
[null,null,"Project: FEED PROYEK LNG JAWA"]
[]
[null,null,"Tag No:",null,"SMRG-G-003A/B"]
[null,null,"Description:",null,"Medium Pressure Pump"]
[null,null,"Location:",null,"Semarang",null,null,null,null,null,null,null,null,null,"Pipe roughness",0.05,"mm"]
[null,null,null,null,null,null,null,null,null,null,null,null,null,null,null,{"$f":"P9/1000/3.28","v":1.5243902439024392E-5},"ft"]
[]
[null,null,"DATA",null,null,null,null,null,"RESULTS",null,null,null,null,null,"Mass flow",{"$f":"E14*E15/0.45","v":1098.1462962962962},"lb/hr"]
[null,null,"Flow rate (normal)",null,{"$f":"0.5*47/24","v":0.97916666666666663},"m3/h",null,{"$f":"0.6*E13","v":0.58749999999999991},"Suction Hydraulic",null,null,null,null,null,"Rho",{"$f":"E15/16.02","v":28.639200998751562},"lb/ft3"]
[null,null,"Flow rate (rated)",null,{"$f":"1.1*E13","v":1.0770833333333334},"m3/h",null,null,"Pipe ID",{"$f":"VLOOKUP(E27,'Pipe size sch 40'!$A$5:$C$27,3,FALSE)*25.4/1000","v":2.6669999999999999E-2},"m"]
[null,null,"Density",null,458.8,"kg/m3",null,null,"Velocity",{"$f":"E14/(PI()/4*J14^2)/3600","v":0.53556340272456449},"m/s",null,null,null,"Side Calculation (Suction)"]
[null,null,"Flow temperature",null,-158.4,"deg C",null,null,"Velocity acceptance",{"$f":"IF(E27<=2,0.9,IF(OR(E27>=3,E27<=6),1.2,IF(OR(E27>=8,E27<=18),1.5,1.8)))","v":0.9},"m/s","(max)",null,null,"f tebakan",2.5243626500258382E-2]
[null,null,"Viscocity",null,0.1434,"cP",null,null,"Reynold number",{"$f":"E15*J16*J14/E18","v":76796.209205020918},null,null,null,null,"f left",{"$f":"1/(P16)^0.5","v":6.293962153253049}]
[null,null,null,null,{"$f":"E17*10^-3","v":1.4340000000000002E-4},"Nm2/s",null,null,"Pipe DP",{"$f":"P22","v":6.3317107637196821E-2},"bar/100m",null,null,null,"f right",{"$f":"-2*LOG(P10/(3.7*J14*0.3048)+2.51/(J17*(P16)^0.5))","v":6.2943882941566107}]
[null,null,"Vapor pressure",null,{"$f":"'Pump sizing'!E17","v":1.01},"bara",null,null,"Pipe DP acceptance",{"$f":"IF(E27<=6,0.137,0.225)","v":0.13700000000000001},"bar/100m",null,null,null,"f left/f right",{"$f":"P17/P18","v":0.99993229828163643},"Goal seek"]
[null,null,"Pump efficiency",null,0.45,null,null,null,"Static head",{"$f":"E15*9.8*E25/10^5","v":4.4962400000000007E-2},"bar",null,null,null,"psi/100 ft",{"$f":"0.000336*P16*P12^2/(J14*1000/25.4)^5/P13","v":0.2798362889133551}]
[null,null,null,null,null,null,null,null,"Pipe friction loss",{"$f":"J18*E26/100","v":1.2663421527439364E-2},"bar",null,null,null,"psi/ft",{"$f":"P20/100","v":2.7983628891335511E-3}]
[null,null,"SUCTION",null,null,null,null,null,"Fitting friction loss",{"$f":"G45","v":6.7264141099308006E-2},"bar",null,null,null,"bar/100 m",{"$f":"P21*100/14.5/0.3048","v":6.3317107637196821E-2}]
[null,null,"Pressure at Vessel (min)",null,2,"barg",null,null,"Suction Pressure",{"$f":"E23+J20-SUM(J21:J22)","v":1.9650348373732529},"barg"]
[null,null,"Pressure at Vessel (max)",null,5,"barg",null,null,"Result",{"$f":"IF(AND(J15<J16,J18<J19),\"OK\",\"NOT OK\")","v":"OK"}]
[null,null,"Static head",null,1,"m","(vertical tank)",null,null,null,null,null,null,null,"Side Calculation (Discharge)",null,null,null,null,"Suction",null,"Discharge"]
[null,null,"Length",null,20,"m","(plot plan)",null,"Discharge Hydraulic",null,null,null,null,null,"f tebakan",2.5087134453050688E-2,null,null,null,null,null,null,"< 49 barg","> 49 barg"]
[null,null,"Pipe size",null,1,"in",null,null,"Pipe ID",{"$f":"VLOOKUP(E51,'Pipe size sch 40'!$A$5:$C$27,3,FALSE)*25.4/1000","v":2.0827999999999996E-2},"m",null,null,null,"f left",{"$f":"1/(P26)^0.5","v":6.3135623147183599},null,null,null,"Velocity","Pressure","Velocity","Pressure","Pressure"]
[null,null,"Schedule",null,40,null,null,null,"Velocity",{"$f":"E14/(PI()/4*J14^2)/3600","v":0.53556340272456449},"m/s",null,null,null,"f right",{"$f":"-2*LOG(P10/(3.7*J27*0.3048)+2.51/(J30*(P26)^0.5))","v":6.3075397384671446},null,null,0.5,0.9,0.13700000000000001,4.5,0.34300000000000003,0.68600000000000005]
[null,null,"Fittings",null,null,null,null,null,"Velocity acceptance",{"$f":"IF(E49<=18,4.5,6)","v":4.5},"m/s","(max)",null,null,"f left/f right",{"$f":"P27/P28","v":1.000954821769015},"Goal seek",null,0.75,0.9,0.13700000000000001,4.5,0.34300000000000003,0.68600000000000005]
[null,null,null,null,"Qty","K","DP",null,"Reynold number",{"$f":"E15*J29*J27/E18","v":299870.91213389114},null,null,null,null,"psi/100 ft",{"$f":"0.000336*P26*P12^2/(J27*1000/25.4)^5/P13","v":0.95737168276717144},null,null,1,0.9,0.13700000000000001,4.5,0.34300000000000003,0.68600000000000005]
[null,null,"Elbow 90 LR",{"$f":"C31&$E$27","v":"Elbow 90 LR1"},6,{"$f":"VLOOKUP(D31,'K-value'!$D$4:$E$146,2,FALSE)","v":0.69},{"$f":"E31*F31*$J$15^2/(2*9.8)*$E$15*9.8/10^5","v":2.724052912240503E-3},null,"Pipe DP",{"$f":"P32","v":0.21661953180540575},"bar/100m",null,null,null,"psi/ft",{"$f":"P30/100","v":9.5737168276717136E-3},null,null,1.5,0.9,0.13700000000000001,4.5,0.34300000000000003,0.68600000000000005]
[null,null,"Elbow 45 LR","Elbow 45 LR1",null,{"$f":"VLOOKUP(D32,'K-value'!$D$4:$E$146,2,FALSE)","v":0.37},0,null,"Pipe DP acceptance",{"$f":"IF(E48<=49,0.343,0.686)","v":0.34300000000000003},"bar/100m",null,null,null,"bar/100 m",{"$f":"P31*100/14.5/0.3048","v":0.21661953180540575},null,null,2,0.9,0.13700000000000001,4.5,0.34300000000000003,0.68600000000000005]
[null,null,"Tee thru","Tee thru1",null,{"$f":"VLOOKUP(D33,'K-value'!$D$4:$E$146,2,FALSE)","v":0.46},0,null,"Static head",{"$f":"E15*9.8*E49/10^5","v":8.9924800000000013E-2},"bar","note 1",null,null,null,null,null,null,3,1.2,0.13700000000000001,4.5,0.34300000000000003,0.68600000000000005]
[null,null,"Tee branch","Tee branch1",3,{"$f":"VLOOKUP(D34,'K-value'!$D$4:$E$146,2,FALSE)","v":1.38},2.724052912240503E-3,null,"Line losses",{"$f":"J31*E50/100","v":0.15163367226378402},"bar",null,null,null,null,null,null,null,4,1.2,0.13700000000000001,4.5,0.34300000000000003,0.68600000000000005]
[null,null,"Ball valve","Ball valve1",2,{"$f":"VLOOKUP(D35,'K-value'!$D$4:$E$146,2,FALSE)","v":7.0000000000000007E-2},9.2117731331804468E-5,null,"Fitting & eqp losses",{"$f":"G69+G71+G72","v":0.81186739573071731},"bar",null,null,null,"NPSHA calculation",null,null,null,6,1.2,0.13700000000000001,4.5,0.34300000000000003,0.68600000000000005]
[null,null,"Butterfly valve","Butterfly valve1",null,{"$f":"VLOOKUP(D36,'K-value'!$D$4:$E$146,2,FALSE)","v":0.86},0,null,"Discharge Pressure",{"$f":"E48+J33+J34+J35","v":16.053425867994502},"barg",null,null,null,"HA",{"$f":"(E23+1.01)*100000/(E15*9.81)","v":66.876583597506936},"m",null,8,1.5,0.22500000000000001,4.5,0.34300000000000003,0.68600000000000005]
[null,null,"Gate valve","Gate valve1",null,{"$f":"VLOOKUP(D37,'K-value'!$D$4:$E$146,2,FALSE)","v":0.18},0,null,"Result",{"$f":"IF(AND(J28<J29,J31<J32),\"OK\",\"NOT OK\")","v":"OK"},null,null,null,null,"HZ",{"$f":"E25","v":1},"m",null,10,1.5,0.22500000000000001,4.5,0.34300000000000003,0.68600000000000005]
[null,null,"Globe valve","Globe valve1",null,{"$f":"VLOOKUP(D38,'K-value'!$D$4:$E$146,2,FALSE)","v":7.8},0,null,null,null,null,null,null,null,"HF",{"$f":"SUM(J21:J22)*-1*10^5/(E15*9.8)","v":-1.7776533865351349},"m",null,12,1.5,0.22500000000000001,4.5,0.34300000000000003,0.68600000000000005]
[null,null,"Check valve","Check valve1",null,{"$f":"VLOOKUP(D39,'K-value'!$D$4:$E$146,2,FALSE)","v":2.2999999999999998},0,null,"Pump Data",null,null,null,null,null,"HV",0,null,null,16,1.5,0.22500000000000001,4.5,0.34300000000000003,0.68600000000000005]
[null,null,"Plug valve","Plug valve1",null,{"$f":"VLOOKUP(D40,'K-value'!$D$4:$E$146,2,FALSE)","v":2.0699999999999998},0,null,"Suction Pressure",{"$f":"J23","v":1.9650348373732529},"barg",null,null,null,"HVP",{"$f":"E19*10^5/(E15*9.8)*-1","v":-22.463213707453335},"m",null,18,1.5,0.22500000000000001,4.5,0.34300000000000003,0.68600000000000005]
[null,null,"Pipe entrance","Pipe entrance1",1,{"$f":"VLOOKUP(D41,'K-value'!$D$4:$E$146,2,FALSE)","v":0.78},5.1322736027719631E-4,null,"Discharge Pressure",{"$f":"J36","v":16.053425867994502},"barg",null,null,null,"NPSHA",{"$f":"SUM(P36:P40)","v":43.635716503518466},"m",null,20,1.8,0.22500000000000001,6,0.34300000000000003,0.68600000000000005]
[null,null,"Suction strainer","Suction strainer1",1,null,{"$f":"0.05*E42","v":0.05},null,"Selected disc. Pressure",17,"barg"]
[null,null,"Total, barg",null,null,null,{"$f":"SUM(G31:G42)","v":5.6053450916090007E-2},null,"Differential Pressure",{"$f":"J42-J40","v":15.034965162626747},"bar"]
[null,null,"Contingency",null,null,null,0.2,null,"Differential Head",{"$f":"J43*10^5/(E15*9.8)","v":334.38973815069357},"m"]
[null,null,"Total + Contingency",null,null,null,{"$f":"(1+G44)*G43","v":6.7264141099308006E-2},null,"Hydraulic Power",{"$f":"E15*9.8*J44*E14/3600000","v":0.44983084427534886},"kW"]
[null,null,null,null,null,null,null,null,"Pump BHP",{"$f":"J45/E20","v":0.99962409838966415},"kW"]
[null,null,"DISCHARGE",null,null,null,null,null,"Rated Power (calculated)",{"$f":"IF(J46<22,J46*1.25,IF(AND(J46>22,J46<55),J46*1.15,IF(J46>55,J46*1.1,\"ERROR\")))","v":1.2495301229870801},"kW"]
[null,null,"Target Pressure ",null,15,"barg",null,null,"Rated Power (selected)",1.5,"kW"]
[null,null,"Static head",null,2,"m","note 2",null,"NPSHa",{"$f":"P41","v":43.635716503518466},"m"]
[null,null,"Length",null,70,"m","(plot plan)",null,"NPSHr",{"$f":"J49-1","v":42.635716503518466},"m"]
[null,null,"Pipe size",null,0.75,"in"]
[null,null,"Schedule",null,40,null,null,null,"Shut in Pressure"]
[null,null,"Fittings",null,null,null,null,null,"P shut in",{"$f":"E24+1.3*J43","v":24.545454711414774},"barg"]
[null,null,null,null,"Qty","K","DP"]
[null,null,"Elbow 90 LR",{"$f":"C55&$E$51","v":"Elbow 90 LR0.75"},5,{"$f":"VLOOKUP(D55,'K-value'!$D$4:$E$146,2,FALSE)","v":0.81},{"$f":"E55*F55*$J$15^2/(2*9.8)*$E$15*9.8/10^5","v":2.6648343706700585E-3}]
[null,null,"Elbow 45 LR","Elbow 45 LR0.75",null,{"$f":"VLOOKUP(D56,'K-value'!$D$4:$E$146,2,FALSE)","v":0.4},0]
[null,null,"Tee thru","Tee thru0.75",null,{"$f":"VLOOKUP(D57,'K-value'!$D$4:$E$146,2,FALSE)","v":0.5},0]
[null,null,"Tee branch","Tee branch0.75",2,{"$f":"VLOOKUP(D58,'K-value'!$D$4:$E$146,2,FALSE)","v":1.5},1.9739513856815243E-3]
[null,null,"Ball valve","Ball valve0.75",6,{"$f":"VLOOKUP(D59,'K-value'!$D$4:$E$146,2,FALSE)","v":0.08},3.1583222170904386E-4]
[null,null,"Butterfly valve","Butterfly valve0.75",null,{"$f":"VLOOKUP(D60,'K-value'!$D$4:$E$146,2,FALSE)","v":0.86},0]
[null,null,"Gate valve","Gate valve0.75",null,{"$f":"VLOOKUP(D61,'K-value'!$D$4:$E$146,2,FALSE)","v":0.2},0,null,"Note:"]
[null,null,"Globe valve","Globe valve0.75",null,{"$f":"VLOOKUP(D62,'K-value'!$D$4:$E$146,2,FALSE)","v":8.5},0]
[null,null,"Check valve","Check valve0.75",3,{"$f":"VLOOKUP(D63,'K-value'!$D$4:$E$146,2,FALSE)","v":2.5},4.934878464203811E-3,null,"1. Discharge liquid level is assumed 2 m above grade elevation"]
[null,null,"Plug valve","Plug valve0.75",null,{"$f":"VLOOKUP(D64,'K-value'!$D$4:$E$146,2,FALSE)","v":2.25},0]
[null,null,"Pipe entrance","Pipe entrance0.75",null,{"$f":"VLOOKUP(D65,'K-value'!$D$4:$E$146,2,FALSE)","v":0.78},0]
[null,null,"Flow orifice","Flow orifice0.75",1,null,0.25]
[null,null,"Total, barg",null,null,null,{"$f":"SUM(G55:G66)","v":0.25988949644226444}]
[null,null,"Contingency",null,null,null,0.2]
[null,null,"Total + contingency, barg",null,null,null,{"$f":"G67*(1+G68)","v":0.31186739573071731}]
[null,null,"Pressure Loss due to Equipment"]
[null,null,"Truck loading arm",null,null,null,0.5]

{"sheet":"recirculation","index":31,"n_rows":71,"n_cols":24,"rows_kept":71,"cut":false,"hidden":true,"merged":[[0,5,3,10],[26,18,27,18],[26,19,27,20],[26,21,26,23]]}
[null,null,null,null,null,"PUMP SIZING"]
[]
[]
[]
[null,null,"Project: LNG Receiving and Regasification Facility for PLTG Gorontalo"]
[]
[null,null,"Equipment Design Group",null,"-"]
[null,null,"Equipment Design",null,"-"]
[null,null,"Tag No:",null,"GTO-G-002 A/B"]
[null,null,"Description:",null,"LNG Recirculation Pump"]
[null,null,"Location:",null,"Gorontalo",null,null,null,null,null,null,null,null,null,"Pipe roughness",0.05,"mm"]
[null,null,null,null,null,null,null,null,null,null,null,null,null,null,null,{"$f":"P11/1000/3.28","v":1.5243902439024392E-5},"ft"]
[]
[null,null,"DATA",null,null,null,null,null,"RESULTS",null,null,null,null,null,"Mass flow",{"$f":"E15*E16/0.45","v":3057.7777777777778},"lb/hr"]
[null,null,"Flow rate",null,{"$f":"3","v":3},"m3/h",null,null,"Suction Hydraulic",null,null,null,null,null,"Rho",{"$f":"E16/16.02","v":28.630878069080318},"lb/ft3"]
[null,null,"Density",null,{"$f":"1376/E15","v":458.66666666666669},"kg/m3",null,null,"Pipe ID",{"$f":"VLOOKUP(E28,'Pipe size sch 40'!$A$5:$C$27,3,FALSE)*25.4/1000","v":5.2577999999999993E-2},"m"]
[null,null,"Flow temperature",null,-158.4,"deg C",null,null,"Velocity",{"$f":"E15/(PI()/4*J16^2)/3600","v":0.38381394380848755},"m/s",null,null,null,"Side Calculation (Suction)"]
[null,null,"Viscocity",null,0.14299999999999999,"cP",null,null,"Velocity acceptance",{"$f":"IF(E28<=2,0.9,IF(OR(E28>=3,E28<=6),1.2,IF(OR(E28>=8,E28<=18),1.5,1.8)))","v":0.9},"m/s","(max)",null,null,"f tebakan",2.3083845523870678E-2]
[null,null,null,null,{"$f":"E18*10^-3","v":1.4299999999999998E-4},"Nm2/s",null,null,"Reynold number",{"$f":"E16*J17*J16/E19","v":64727.070591343174},null,null,null,null,"f left",{"$f":"1/(P18)^0.5","v":6.5818187770864842}]
[null,null,"Vapor pressure",null,{"$f":"VLOOKUP(E11,'Data pompa'!$B$5:$R$24,15,FALSE)","v":{"$error":"#N/A"}},"bara",null,null,"Pipe DP",{"$f":"P24","v":1.5079603324700125E-2},"bar/100m",null,null,null,"f right",{"$f":"-2*LOG(P12/(3.7*J16*0.3048)+2.51/(J19*(P18)^0.5))","v":6.5809252254277961}]
[null,null,"Pump efficiency",null,0.45,null,null,null,"Pipe DP acceptance",{"$f":"IF(E28<=6,0.137,0.225)","v":0.13700000000000001},"bar/100m",null,null,null,"f left/f right",{"$f":"P19/P20","v":1.0001357790322911},"Goal seek"]
[null,null,null,null,null,null,null,null,"Static head",{"$f":"E16*9.8*E26/10^5","v":{"$error":"#N/A"}},"bar",null,null,null,"psi/100 ft",{"$f":"0.000336*P18*P14^2/(J16*1000/25.4)^5/P15","v":6.6645814853844673E-2}]
[null,null,"SUCTION",null,null,null,null,null,"Pipe friction loss",{"$f":"J20*E27/100","v":4.5238809974100375E-2},"bar",null,null,null,"psi/ft",{"$f":"P22/100","v":6.6645814853844671E-4}]
[null,null,"Pressure at Vessel (min)",null,2,"barg",null,null,"Fitting friction loss",{"$f":"G46","v":6.3259462397287816E-2},"bar",null,null,null,"bar/100 m",{"$f":"P23*100/14.5/0.3048","v":1.5079603324700125E-2}]
[null,null,"Pressure at Vessel (max)",null,5,"barg",null,null,"Suction Pressure",{"$f":"E24+J22-SUM(J23:J24)","v":{"$error":"#N/A"}},"barg"]
[null,null,"Static head",null,{"$f":"VLOOKUP(E11,'Data pompa'!$B$5:$S$27,18,FALSE)/1000","v":{"$error":"#N/A"}},"m",null,null,"Result",{"$f":"IF(AND(J17<J18,J20<J21),\"OK\",\"NOT OK\")","v":"OK"}]
[null,null,"Length",null,300,"m","assumption",null,null,null,null,null,null,null,"Side Calculation (Discharge)",null,null,null,null,"Suction",null,"Discharge"]
[null,null,"Pipe size",null,2,"in",null,null,"Discharge Hydraulic",null,null,null,null,null,"f tebakan",2.4591377610059261E-2,null,null,null,null,null,null,"< 49 barg","> 49 barg"]
[null,null,"Schedule",null,40,null,null,null,"Pipe ID",{"$f":"VLOOKUP(E52,'Pipe size sch 40'!$A$5:$C$27,3,FALSE)*25.4/1000","v":4.0894E-2},"m",null,null,null,"f left",{"$f":"1/(P28)^0.5","v":6.376884789294504},null,null,null,"Velocity","Pressure","Velocity","Pressure","Pressure"]
[null,null,"Fittings",null,null,null,null,null,"Velocity",{"$f":"E15/(PI()/4*J16^2)/3600","v":0.38381394380848755},"m/s",null,null,null,"f right",{"$f":"-2*LOG(P12/(3.7*J29*0.3048)+2.51/(J32*(P28)^0.5))","v":6.3762153249925362},null,null,0.5,0.9,0.13700000000000001,4.5,0.34300000000000003,0.68600000000000005]
[null,null,null,null,"Qty","K","DP",null,"Velocity acceptance",{"$f":"IF(E50<=18,4.5,6)","v":4.5},"m/s","(max)",null,null,"f left/f right",{"$f":"P29/P30","v":1.0001049939921796},"Goal seek",null,0.75,0.9,0.13700000000000001,4.5,0.34300000000000003,0.68600000000000005]
[null,null,"Elbow 90 LR",{"$f":"C32&$E$28","v":"Elbow 90 LR2"},20,{"$f":"VLOOKUP(D32,'K-value'!$D$48:$E$124,2,FALSE)","v":0.3},{"$f":"E32*F32*$J$17^2/(2*9.8)*$E$16*9.8/10^5","v":2.0270288540347094E-3},null,"Reynold number",{"$f":"E16*J30*J29/E19","v":50343.277126600253},null,null,null,null,"psi/100 ft",{"$f":"0.000336*P28*P14^2/(J29*1000/25.4)^5/P15","v":0.24944220026661026},null,null,1,0.9,0.13700000000000001,4.5,0.34300000000000003,0.68600000000000005]
[null,null,"Elbow 45 LR","Elbow 45 LR2",null,{"$f":"VLOOKUP(D33,'K-value'!$D$48:$E$124,2,FALSE)","v":0.3},0,null,"Pipe DP",{"$f":"P34","v":5.6439994629968834E-2},"bar/100m",null,null,null,"psi/ft",{"$f":"P32/100","v":2.4944220026661026E-3},null,null,1.5,0.9,0.13700000000000001,4.5,0.34300000000000003,0.68600000000000005]
[null,null,"Tee thru","Tee thru2",null,{"$f":"VLOOKUP(D34,'K-value'!$D$48:$E$124,2,FALSE)","v":0.38},0,null,"Pipe DP acceptance",{"$f":"IF(E49<=49,0.343,0.686)","v":0.34300000000000003},"bar/100m",null,null,null,"bar/100 m",{"$f":"P33*100/14.5/0.3048","v":5.6439994629968834E-2},null,null,2,0.9,0.13700000000000001,4.5,0.34300000000000003,0.68600000000000005]
[null,null,"Tee branch","Tee branch2",1,{"$f":"VLOOKUP(D35,'K-value'!$D$48:$E$124,2,FALSE)","v":1.1399999999999999},3.8513548226659481E-4,null,"Static head",{"$f":"E16*9.8*E50/10^5","v":0.134848},"bar","note 1",null,null,null,null,null,null,3,1.2,0.13700000000000001,4.5,0.34300000000000003,0.68600000000000005]
[null,null,"Ball valve","Ball valve2",2,{"$f":"VLOOKUP(D36,'K-value'!$D$48:$E$124,2,FALSE)","v":0.06},4.0540577080694193E-5,null,"Line losses",{"$f":"J33*E51/100","v":0.16931998388990649},"bar",null,null,null,null,null,null,null,4,1.2,0.13700000000000001,4.5,0.34300000000000003,0.68600000000000005]
[null,null,"Butterfly valve","Butterfly valve2",null,{"$f":"VLOOKUP(D37,'K-value'!$D$48:$E$124,2,FALSE)","v":0.86},0,null,"Fitting & eqp losses",{"$f":"G70+G72+G73","v":0.30413513886223081},"bar",null,null,null,"NPSHA calculation",null,null,null,6,1.2,0.13700000000000001,4.5,0.34300000000000003,0.68600000000000005]
[null,null,"Gate valve","Gate valve2",null,{"$f":"VLOOKUP(D38,'K-value'!$D$48:$E$124,2,FALSE)","v":0.15},0,null,"Discharge Pressure",{"$f":"E49+J35+J36+J37","v":2.908303122752137},"barg",null,null,null,"HA",{"$f":"(E24+1.01)*100000/(E16*9.81)","v":66.896024464831797},"m",null,8,1.5,0.22500000000000001,4.5,0.34300000000000003,0.68600000000000005]
[null,null,"Globe valve","Globe valve2",null,{"$f":"VLOOKUP(D39,'K-value'!$D$48:$E$124,2,FALSE)","v":6.5},0,null,"Result",{"$f":"IF(AND(J30<J31,J33<J34),\"OK\",\"NOT OK\")","v":"OK"},null,null,null,null,"HZ",{"$f":"E26","v":{"$error":"#N/A"}},"m",null,10,1.5,0.22500000000000001,4.5,0.34300000000000003,0.68600000000000005]
[null,null,"Check valve","Check valve2",null,{"$f":"VLOOKUP(D40,'K-value'!$D$48:$E$124,2,FALSE)","v":1.9},0,null,null,null,null,null,null,null,"HF",{"$f":"SUM(J23:J24)*-1*10^5/(E16*9.8)","v":-2.4137904686325684},"m",null,12,1.5,0.22500000000000001,4.5,0.34300000000000003,0.68600000000000005]
[null,null,"Plug valve","Plug valve2",null,{"$f":"VLOOKUP(D41,'K-value'!$D$48:$E$124,2,FALSE)","v":1.71},0,null,"Pump Data",null,null,null,null,null,"HV",0,null,null,16,1.5,0.22500000000000001,4.5,0.34300000000000003,0.68600000000000005]
[null,null,"Pipe entrance","Pipe entrance2",1,{"$f":"VLOOKUP(D42,'K-value'!$D$48:$E$124,2,FALSE)","v":0.78},2.6351375102451232E-4,null,"Suction Pressure",{"$f":"J25","v":{"$error":"#N/A"}},"barg",null,null,null,"HVP",{"$f":"E20*10^5/(E16*9.8)*-1","v":{"$error":"#N/A"}},"m",null,18,1.5,0.22500000000000001,4.5,0.34300000000000003,0.68600000000000005]
[null,null,"Suction strainer","Suction strainer2",1,null,{"$f":"0.05*E43","v":0.05},null,"Discharge Pressure",{"$f":"J38","v":2.908303122752137},"barg",null,null,null,"NPSHA",{"$f":"SUM(P38:P42)","v":{"$error":"#N/A"}},"m",null,20,1.8,0.22500000000000001,6,0.34300000000000003,0.68600000000000005]
[null,null,"Total, barg",null,null,null,{"$f":"SUM(G32:G43)","v":5.2716218664406511E-2},null,"Selected disc. Pressure",3,"barg"]
[null,null,"Contingency",null,null,null,0.2,null,"Differential Pressure",{"$f":"J44-J42","v":{"$error":"#N/A"}},"bar"]
[null,null,"Total + Contingency",null,null,null,{"$f":"(1+G45)*G44","v":6.3259462397287816E-2},null,"Differential Head",{"$f":"J45*10^5/(E16*9.8)","v":{"$error":"#N/A"}},"m"]
[null,null,null,null,null,null,null,null,"Hydraulic Power",{"$f":"E16*9.8*J46*E15/3600000","v":{"$error":"#N/A"}},"kW"]
[null,null,"DISCHARGE",null,null,null,null,null,"Pump BHP",{"$f":"J47/E21","v":{"$error":"#N/A"}},"kW"]
[null,null,"Target Pressure ",null,2.2999999999999998,"barg",null,null,"Rated Power (calculated)",{"$f":"IF(J48<22,J48*1.25,IF(AND(J48>22,J48<55),J48*1.15,IF(J48>55,J48*1.1,\"ERROR\")))","v":{"$error":"#N/A"}},"kW"]
[null,null,"Static head",null,3,"m","note 2",null,"Rated Power (selected)",0.75,"kW"]
[null,null,"Length",null,300,"m",null,null,"NPSHa",{"$f":"P43","v":{"$error":"#N/A"}},"m"]
[null,null,"Pipe size",null,1.5,"in",null,null,"NPSHr",{"$f":"J51-1","v":{"$error":"#N/A"}},"m"]
[null,null,"Schedule",null,40]
[null,null,"Fittings",null,null,null,null,null,"Shut in Pressure"]
[null,null,null,null,"Qty","K","DP",null,"P shut in",{"$f":"E25+1.3*J45","v":{"$error":"#N/A"}},"barg"]
[null,null,"Elbow 90 LR",{"$f":"C56&$E$52","v":"Elbow 90 LR1.5"},3,{"$f":"VLOOKUP(D56,'K-value'!$D$48:$E$124,2,FALSE)","v":0.34},{"$f":"E56*F56*$J$17^2/(2*9.8)*$E$16*9.8/10^5","v":3.4459490518590067E-4}]
[null,null,"Elbow 45 LR","Elbow 45 LR1.5",null,{"$f":"VLOOKUP(D57,'K-value'!$D$48:$E$124,2,FALSE)","v":0.34},0]
[null,null,"Tee thru","Tee thru1.5",null,{"$f":"VLOOKUP(D58,'K-value'!$D$48:$E$124,2,FALSE)","v":0.42},0]
[null,null,"Tee branch","Tee branch1.5",2,{"$f":"VLOOKUP(D59,'K-value'!$D$48:$E$124,2,FALSE)","v":1.26},8.5135211869457824E-4]
[null,null,"Ball valve","Ball valve1.5",6,{"$f":"VLOOKUP(D60,'K-value'!$D$48:$E$124,2,FALSE)","v":0.06},1.2162173124208259E-4]
[null,null,"Butterfly valve","Butterfly valve1.5",null,{"$f":"VLOOKUP(D61,'K-value'!$D$48:$E$124,2,FALSE)","v":0.86},0]
[null,null,"Gate valve","Gate valve1.5",null,{"$f":"VLOOKUP(D62,'K-value'!$D$48:$E$124,2,FALSE)","v":0.15},0]
[null,null,"Globe valve","Globe valve1.5",null,{"$f":"VLOOKUP(D63,'K-value'!$D$48:$E$124,2,FALSE)","v":7.1},0,null,"Note:"]
[null,null,"Check valve","Check valve1.5",3,{"$f":"VLOOKUP(D64,'K-value'!$D$48:$E$124,2,FALSE)","v":2.1},2.1283802967364453E-3]
[null,null,"Plug valve","Plug valve1.5",null,{"$f":"VLOOKUP(D65,'K-value'!$D$48:$E$124,2,FALSE)","v":1.89},0,null,"1. Discharge liquid level is assumed 3 m above grade elevation"]
[null,null,"Pipe entrance","Pipe entrance1.5",null,{"$f":"VLOOKUP(D66,'K-value'!$D$48:$E$124,2,FALSE)","v":0.78},0]
[null,null,"Flow orifice","Flow orifice1.5",1,null,0.25]
[null,null,"Total, barg",null,null,null,{"$f":"SUM(G56:G67)","v":0.25344594905185902}]
[null,null,"Contingency",null,null,null,0.2]
[null,null,"Total + contingency, barg",null,null,null,{"$f":"G68*(1+G69)","v":0.30413513886223081}]
[null,null,"Pressure Loss due to Equipment"]

{"sheet":"Kalsel (LP)","index":32,"n_rows":72,"n_cols":24,"rows_kept":72,"cut":false,"hidden":true,"merged":[[0,5,3,10],[26,21,26,23],[26,19,27,20],[26,18,27,18]]}
[null,null,null,null,null,"PUMP SIZING"]
[]
[]
[]
[null,null,"Project: LNG Regasification in Central Region of Indonesia"]
[]
[null,null,"Equipment Design Group",null,33.6,"MMSCFD"]
[null,null,"Equipment Design",null,33.6,"MMSCFD"]
[null,null,"Tag No:",null,"KPK-G-001A/B"]
[null,null,"Description:",null,"LNG LP Pump"]
[null,null,"Location:",null,"Kalsel Peaker-1 (LP)",null,null,null,null,null,null,null,null,null,"Pipe roughness",0.05,"mm"]
[null,null,null,null,null,null,null,null,null,null,null,null,null,null,null,{"$f":"P11/1000/3.28","v":1.5243902439024392E-5},"ft"]
[]
[null,null,"DATA",null,null,null,null,null,"RESULTS",null,null,null,null,null,"Mass flow",{"$f":"E15*E16/0.45","v":62602.088888888888},"lb/hr"]
[null,null,"Flow rate",null,{"$f":"'Data pompa'!I22","v":64.91},"m3/h",null,null,"Suction Hydraulic",null,null,null,null,null,"Rho",{"$f":"E16/16.02","v":27.091136079900124},"lb/ft3"]
[null,null,"Density",null,{"$f":"'Data pompa'!N22","v":434},"kg/m3",null,null,"Pipe ID",{"$f":"VLOOKUP(E28,'Pipe size sch 40'!$A$5:$C$27,3,FALSE)*25.4/1000","v":0.20269200000000001},"m"]
[null,null,"Flow temperature",null,{"$f":"'Data pompa'!M22","v":-159.53},"deg C",null,null,"Velocity",{"$f":"E15/(PI()/4*J16^2)/3600","v":0.55878663615764523},"m/s",null,null,null,"Side Calculation (Suction)"]
[null,null,"Viscocity",null,{"$f":"'Data pompa'!O22","v":0.119081029581106},"cP",null,null,"Velocity acceptance",{"$f":"IF(E28<=2,0.9,IF(OR(E28>=3,E28<=6),1.2,IF(OR(E28>=8,E28<=18),1.5,1.8)))","v":1.2},"m/s","(max)",null,null,"f tebakan",1.525838481138298E-2]
[null,null,null,null,{"$f":"E18*10^-3","v":1.19081029581106E-4},"Nm2/s",null,null,"Reynold number",{"$f":"E16*J18*J16/E19","v":886471.9592309352},null,null,null,null,"f left",{"$f":"1/(P18)^0.5","v":8.0955380482909565}]
[null,null,"Vapor pressure",null,{"$f":"'Data pompa'!P22","v":1.1600340494815491},"bara",{"$f":"E20-1","v":0.16003404948154909},null,"Pipe DP",{"$f":"P24","v":5.1856219400515441E-3},"bar/100m",null,null,null,"f right",{"$f":"-2*LOG(P12/(3.7*J16*0.3048)+2.51/(J19*(P18)^0.5))","v":8.09529324306558}]
[null,null,"Pump efficiency",null,0.6,null,null,null,"Pipe DP acceptance",{"$f":"IF(E28<=6,0.137,0.225)","v":0.22500000000000001},"bar/100m",null,null,null,"f left/f right",{"$f":"P19/P20","v":1.0000302404394783},"Goal seek"]
[null,null,null,null,null,null,null,null,"Static head",{"$f":"E16*9.8*E26/10^5","v":0.11483640000000003},"bar",null,null,null,"psi/100 ft",{"$f":"0.000336*P18*P14^2/(J16*1000/25.4)^5/P15","v":2.2918374726251807E-2}]
[null,null,"SUCTION",null,null,null,null,null,"Pipe friction loss",{"$f":"J20*E27/100","v":5.1856219400515432E-3},"bar",null,null,null,"psi/ft",{"$f":"P22/100","v":2.2918374726251808E-4}]
[null,null,"Pressure at Vessel (min)",null,{"$f":"'Data pompa'!K22","v":0.15},"barg",null,null,"Fitting friction loss",{"$f":"G46","v":5.204625003061801E-2},"bar",null,null,null,"bar/100 m",{"$f":"P23*100/14.5/0.3048","v":5.1856219400515441E-3}]
[null,null,"Pressure at Vessel (max)",null,0.2,"barg",null,null,"Suction Pressure",{"$f":"E24+J22-SUM(J23:J24)","v":0.20760452802933047},"barg"]
[null,null,"Static head",null,{"$f":"VLOOKUP(E11,'Data pompa'!$B$5:$S$27,18,FALSE)/1000+1.8","v":2.7},"m",null,null,"Result",{"$f":"IF(AND(J17<J18,J20<J21),\"OK\",\"NOT OK\")","v":"OK"}]
[null,null,"Length",null,100,"m","assumption",null,null,null,null,null,null,null,"Side Calculation (Discharge)",null,null,null,null,"Suction",null,"Discharge"]
[null,null,"Pipe size",null,{"$f":"'Data pompa'!Q22","v":8},"in",null,null,"Discharge Hydraulic",null,null,null,null,null,"f tebakan",1.701963942821012E-2,null,null,null,null,null,null,"< 49 barg","> 49 barg"]
[null,null,"Schedule",null,40,null,null,null,"Pipe ID",{"$f":"VLOOKUP(E52,'Pipe size sch 40'!$A$5:$C$27,3,FALSE)*25.4/1000","v":0.10236199999999999},"m",null,null,null,"f left",{"$f":"1/(P28)^0.5","v":7.6652235016099626},null,null,null,"Velocity","Pressure","Velocity","Pressure","Pressure"]
[null,null,"Fittings",null,null,null,null,null,"Velocity",{"$f":"E15/(PI()/4*J16^2)/3600","v":0.55878663615764523},"m/s",null,null,null,"f right",{"$f":"-2*LOG(P12/(3.7*J29*0.3048)+2.51/(J32*(P28)^0.5))","v":7.6862289524464158},null,null,0.5,0.9,0.13700000000000001,4.5,0.34300000000000003,0.68600000000000005]
[null,null,null,null,"Qty","K","DP",null,"Velocity acceptance",{"$f":"IF(E50<=18,4.5,6)","v":4.5},"m/s","(max)",null,null,"f left/f right",{"$f":"P29/P30","v":0.997267131779913},"Goal seek",null,0.75,0.9,0.13700000000000001,4.5,0.34300000000000003,0.68600000000000005]
[null,null,"Elbow 90 LR",{"$f":"C32&$E$28","v":"Elbow 90 LR8"},10,{"$f":"VLOOKUP(D32,'K-value'!$D$48:$E$124,2,FALSE)","v":0.22},{"$f":"E32*F32*$J$17^2/(2*9.8)*$E$16*9.8/10^5","v":1.4906457176687498E-3},null,"Reynold number",{"$f":"E16*J31*J29/E19","v":1678797.9303104647},null,null,null,null,"psi/100 ft",{"$f":"0.000336*P28*P14^2/(J29*1000/25.4)^5/P15","v":0.77824230228205804},null,null,1,0.9,0.13700000000000001,4.5,0.34300000000000003,0.68600000000000005]
[null,null,"Elbow 45 LR","Elbow 45 LR8",null,{"$f":"VLOOKUP(D33,'K-value'!$D$48:$E$124,2,FALSE)","v":0.22},0,null,"Pipe DP",{"$f":"P34","v":0.17608885471129923},"bar/100m",null,null,null,"psi/ft",{"$f":"P32/100","v":7.7824230228205806E-3},null,null,1.5,0.9,0.13700000000000001,4.5,0.34300000000000003,0.68600000000000005]
[null,null,"Tee thru","Tee thru8",null,{"$f":"VLOOKUP(D34,'K-value'!$D$48:$E$124,2,FALSE)","v":0.28000000000000003},0,null,"Pipe DP acceptance",{"$f":"IF(E49<=49,0.343,0.686)","v":0.34300000000000003},"bar/100m",null,null,null,"bar/100 m",{"$f":"P33*100/14.5/0.3048","v":0.17608885471129923},null,null,2,0.9,0.13700000000000001,4.5,0.34300000000000003,0.68600000000000005]
[null,null,"Tee branch","Tee branch8",null,{"$f":"VLOOKUP(D35,'K-value'!$D$48:$E$124,2,FALSE)","v":0.84},0,null,"Static head",{"$f":"E15*9.8*E50/10^5","v":1.9083540000000003E-2},"bar","note 1",null,null,null,null,null,null,3,1.2,0.13700000000000001,4.5,0.34300000000000003,0.68600000000000005]
[null,null,"Ball valve","Ball valve8",1,{"$f":"VLOOKUP(D36,'K-value'!$D$48:$E$124,2,FALSE)","v":0.04},2.7102649412159091E-5,null,"Line losses",{"$f":"J33*E51/100","v":5.2826656413389773E-2},"bar",null,null,null,null,null,null,null,4,1.2,0.13700000000000001,4.5,0.34300000000000003,0.68600000000000005]
[null,null,"Butterfly valve","Butterfly valve8",null,{"$f":"VLOOKUP(D37,'K-value'!$D$48:$E$124,2,FALSE)","v":0.63},0,null,"Fitting & eqp losses",{"$f":"G70+G72","v":0.3036182036965232},"bar",null,null,null,"NPSHA calculation",null,null,null,6,1.2,0.13700000000000001,4.5,0.34300000000000003,0.68600000000000005]
[null,null,"Gate valve","Gate valve8",null,{"$f":"VLOOKUP(D38,'K-value'!$D$48:$E$124,2,FALSE)","v":0.11},0,null,"Discharge Pressure",{"$f":"E49+J35+J36+J37","v":3.8255284001099135},"barg",null,null,null,"HA",{"$f":"(E24+1.01)*100000/(E16*9.81)","v":27.245780427195044},"m",null,8,1.5,0.22500000000000001,4.5,0.34300000000000003,0.68600000000000005]
[null,null,"Globe valve","Globe valve8",null,{"$f":"VLOOKUP(D39,'K-value'!$D$48:$E$124,2,FALSE)","v":4.8},0,null,"Result",{"$f":"IF(AND(J30<J31,J33<J34),\"OK\",\"NOT OK\")","v":"OK"},null,null,null,null,"HZ",{"$f":"E26","v":2.7},"m",null,10,1.5,0.22500000000000001,4.5,0.34300000000000003,0.68600000000000005]
[null,null,"Check valve","Check valve8",null,{"$f":"VLOOKUP(D40,'K-value'!$D$48:$E$124,2,FALSE)","v":1.4},0,null,null,null,null,null,null,null,"HF",{"$f":"SUM(J23:J24)*-1","v":-5.7231871970669555E-2},null,null,12,1.5,0.22500000000000001,4.5,0.34300000000000003,0.68600000000000005]
[null,null,"Plug valve","Plug valve8",null,{"$f":"VLOOKUP(D41,'K-value'!$D$48:$E$124,2,FALSE)","v":1.26},0,null,"Pump Data",null,null,null,null,null,"HV",0,null,null,16,1.5,0.22500000000000001,4.5,0.34300000000000003,0.68600000000000005]
[null,null,"Pipe entrance","Pipe entrance8",1,{"$f":"VLOOKUP(D42,'K-value'!$D$48:$E$124,2,FALSE)","v":0.78},5.2850166353710223E-4,null,"Suction Pressure",{"$f":"J25","v":0.20760452802933047},"barg",null,null,null,"HVP",{"$f":"E20*10^5/(E16*9.8)*-1","v":-27.274382805453516},"m",null,18,1.5,0.22500000000000001,4.5,0.34300000000000003,0.68600000000000005]
[null,null,"Suction strainer","Suction strainer8",1,null,{"$f":"0.05*E43","v":0.05},null,"Discharge Pressure",{"$f":"J38","v":3.8255284001099135},"barg",null,null,null,"NPSHA",{"$f":"SUM(P38:P42)","v":2.6141657497708586},"m",null,20,1.8,0.22500000000000001,6,0.34300000000000003,0.68600000000000005]
[null,null,"Total, barg",null,null,null,{"$f":"SUM(G32:G43)","v":5.204625003061801E-2},null,"Selected disc. Pressure",{"$f":"J43","v":3.8255284001099135},"barg"]
[null,null,"Contingency",null,null,null,0,null,"Differential Pressure",{"$f":"J44-J42","v":3.6179238720805831},"bar"]
[null,null,"Total + Contingency",null,null,null,{"$f":"(1+G45)*G44","v":5.204625003061801E-2},null,"Differential Head",{"$f":"J45*10^5/(E16*9.8)","v":85.063572653074928},"m"]
[null,null,null,null,null,null,null,null,"Hydraulic Power",{"$f":"E16*9.8*J46*E15/3600000","v":6.5233177371319622},"kW"]
[null,null,"DISCHARGE",null,null,null,null,null,"Pump BHP",{"$f":"J47/E21","v":10.872196228553271},"kW"]
[null,null,"Target Pressure ",null,{"$f":"'Data pompa'!L22","v":3.45},"barg",null,null,"NPSHa",{"$f":"P43","v":2.6141657497708586},"m"]
[null,null,"Static head",null,3,"m","note 2",null,"NPSHr",{"$f":"J49-1","v":1.6141657497708586},"m"]
[null,null,"Length",null,30,"m"]
[null,null,"Pipe size",null,{"$f":"'Data pompa'!R22","v":4},"in",null,null,"Shut in Pressure"]
[null,null,"Schedule",null,40,null,null,null,"P shut in",{"$f":"E25+1.3*J45","v":4.903301033704758},"barg"]
[null,null,"Fittings"]
[null,null,null,null,"Qty","K","DP"]
[null,null,"Elbow 90 LR",{"$f":"C56&$E$52","v":"Elbow 90 LR4"},10,{"$f":"VLOOKUP(D56,'K-value'!$D$48:$E$124,2,FALSE)","v":0.27},{"$f":"E56*F56*$J$17^2/(2*9.8)*$E$16*9.8/10^5","v":1.8294288353207387E-3}]
[null,null,"Elbow 45 LR","Elbow 45 LR4",null,{"$f":"VLOOKUP(D57,'K-value'!$D$48:$E$124,2,FALSE)","v":0.27},0]
[null,null,"Tee thru","Tee thru4",null,{"$f":"VLOOKUP(D58,'K-value'!$D$48:$E$124,2,FALSE)","v":0.34},0]
[null,null,"Tee branch","Tee branch4",null,{"$f":"VLOOKUP(D59,'K-value'!$D$48:$E$124,2,FALSE)","v":1.02},0]
[null,null,"Ball valve","Ball valve4",1,{"$f":"VLOOKUP(D60,'K-value'!$D$48:$E$124,2,FALSE)","v":0.05},3.3878311765198865E-5]
[null,null,"Butterfly valve","Butterfly valve4",null,{"$f":"VLOOKUP(D61,'K-value'!$D$48:$E$124,2,FALSE)","v":0.77},0]
[null,null,"Gate valve","Gate valve4",null,{"$f":"VLOOKUP(D62,'K-value'!$D$48:$E$124,2,FALSE)","v":0.14000000000000001},0]
[null,null,"Globe valve","Globe valve4",null,{"$f":"VLOOKUP(D63,'K-value'!$D$48:$E$124,2,FALSE)","v":5.8},0,null,"Note:"]
[null,null,"Check valve","Check valve4",1,{"$f":"VLOOKUP(D64,'K-value'!$D$48:$E$124,2,FALSE)","v":1.7},1.1518626000167611E-3]
[null,null,"Plug valve","Plug valve4",null,{"$f":"VLOOKUP(D65,'K-value'!$D$48:$E$124,2,FALSE)","v":1.53},0,null,"1. Discharge liquid level is assumed 3 m above grade elevation"]
[null,null,"Pipe entrance","Pipe entrance4",null,{"$f":"VLOOKUP(D66,'K-value'!$D$48:$E$124,2,FALSE)","v":0.78},0]
[null,null,"Flow orifice","Flow orifice4",1,null,0.25]
[null,null,"Total, barg",null,null,null,{"$f":"SUM(G56:G67)","v":0.2530151697471027}]
[null,null,"Contingency",null,null,null,0.2]
[null,null,"Total + contingency, barg",null,null,null,{"$f":"G68*(1+G69)","v":0.3036182036965232}]
[null,null,"Pressure Loss due to Equipment"]
[null,null,"AAV",null,null,null,0]

{"sheet":"Kalsel (HP)","index":33,"n_rows":72,"n_cols":24,"rows_kept":72,"cut":false,"hidden":true,"merged":[[0,5,3,10],[26,21,26,23],[26,19,27,20],[26,18,27,18]]}
[null,null,null,null,null,"PUMP SIZING"]
[]
[]
[]
[null,null,"Project: LNG Regasification in Central Region of Indonesia"]
[]
[null,null,"Equipment Design Group",null,33.6,"MMSCFD"]
[null,null,"Equipment Design",null,33.6,"MMSCFD"]
[null,null,"Tag No:",null,"KPK-G-002A/B"]
[null,null,"Description:",null,"LNG HP Pump"]
[null,null,"Location:",null,"Kalsel Peaker-1 (HP)",null,null,null,null,null,null,null,null,null,"Pipe roughness",0.05,"mm"]
[null,null,null,null,null,null,null,null,null,null,null,null,null,null,null,{"$f":"P11/1000/3.28","v":1.5243902439024392E-5},"ft"]
[]
[null,null,"DATA",null,null,null,null,null,"RESULTS",null,null,null,null,null,"Mass flow",{"$f":"E15*E16/0.45","v":62606.948888888888},"lb/hr"]
[null,null,"Flow rate",null,{"$f":"VLOOKUP(E11,'Data pompa'!$B$5:$R$24,8,FALSE)","v":64.930000000000007},"m3/h",null,{"$f":"E15*1.1","v":71.423000000000016},"Suction Hydraulic",null,null,null,null,null,"Rho",{"$f":"E16/16.02","v":27.084893882646689},"lb/ft3"]
[null,null,"Density",null,{"$f":"VLOOKUP(E11,'Data pompa'!$B$5:$R$24,13,FALSE)","v":433.9},"kg/m3",null,null,"Pipe ID",{"$f":"VLOOKUP(E28,'Pipe size sch 40'!$A$5:$C$27,3,FALSE)*25.4/1000","v":0.15417800000000001},"m"]
[null,null,"Flow temperature",null,{"$f":"VLOOKUP(E11,'Data pompa'!$B$5:$R$24,12,FALSE)","v":-158.80000000000001},"deg C",null,null,"Velocity",{"$f":"E15/(PI()/4*J16^2)/3600","v":0.96606913125811567},"m/s",null,null,null,"Side Calculation (Suction)"]
[null,null,"Viscocity",null,{"$f":"VLOOKUP(E11,'Data pompa'!$B$5:$R$24,14,FALSE)","v":8.516E-2},"cP",null,null,"Velocity acceptance",{"$f":"IF(E28<=2,0.9,IF(OR(E28>=3,E28<=6),1.2,IF(OR(E28>=8,E28<=18),1.5,1.8)))","v":1.2},"m/s","(max)",null,null,"f tebakan",1.5987782676224579E-2]
[null,null,null,null,{"$f":"E18*10^-3","v":8.5160000000000005E-5},"Nm2/s",null,null,"Reynold number",{"$f":"E16*J18*J16/E19","v":942665.58290277119},null,null,null,null,"f left",{"$f":"1/(P18)^0.5","v":7.9087142058622284}]
[null,null,"Vapor pressure",null,{"$f":"'Data pompa'!P23","v":3.8879999999999999},"bara",null,null,"Pipe DP",{"$f":"P24","v":2.1346124269091774E-2},"bar/100m",null,null,null,"f right",{"$f":"-2*LOG(P12/(3.7*J16*0.3048)+2.51/(J19*(P18)^0.5))","v":7.9273055577382481}]
[null,null,"Pump efficiency",null,0.6,null,null,null,"Pipe DP acceptance",{"$f":"IF(E28<=6,0.137,0.225)","v":0.13700000000000001},"bar/100m",null,null,null,"f left/f right",{"$f":"P19/P20","v":0.99765477037051109},"Goal seek"]
[null,null,null,null,null,null,null,null,"Static head",{"$f":"E16*9.8*E26/10^5","v":4.2522200000000003E-2},"bar",null,null,null,"psi/100 ft",{"$f":"0.000336*P18*P14^2/(J16*1000/25.4)^5/P15","v":9.4341330819678007E-2}]
[null,null,"SUCTION",null,null,null,null,null,"Pipe friction loss",{"$f":"J20*E27/100","v":6.4038372807275323E-3},"bar",null,null,null,"psi/ft",{"$f":"P22/100","v":9.434133081967801E-4}]
[null,null,"Pressure at Vessel (min)",null,{"$f":"'Data pompa'!K23","v":2.9},"barg",null,null,"Fitting friction loss",{"$f":"G46","v":5.6540012636992952E-2},"bar",null,null,null,"bar/100 m",{"$f":"P23*100/14.5/0.3048","v":2.1346124269091774E-2}]
[null,null,"Pressure at Vessel (max)",null,{"$f":"1.5*E24","v":4.3499999999999996},"barg",null,null,"Suction Pressure",{"$f":"E24+J22-SUM(J23:J24)","v":2.8795783500822796},"barg"]
[null,null,"Static head",null,{"$f":"VLOOKUP(E11,'Data pompa'!$B$5:$S$27,18,FALSE)/1000","v":1},"m",null,null,"Result",{"$f":"IF(AND(J17<J18,J20<J21),\"OK\",\"NOT OK\")","v":"OK"}]
[null,null,"Length",null,30,"m","assumption",null,null,null,null,null,null,null,"Side Calculation (Discharge)",null,null,null,null,"Suction",null,"Discharge"]
[null,null,"Pipe size",null,{"$f":"VLOOKUP(E11,'Data pompa'!$B$5:$R$24,16,FALSE)","v":6},"in",null,null,"Discharge Hydraulic",null,null,null,null,null,"f tebakan",1.686428423951656E-2,null,null,null,null,null,null,"< 49 barg","> 49 barg"]
[null,null,"Schedule",null,40,null,null,null,"Pipe ID",{"$f":"VLOOKUP(E52,'Pipe size sch 40'!$A$5:$C$27,3,FALSE)*25.4/1000","v":0.10236199999999999},"m",null,null,null,"f left",{"$f":"1/(P28)^0.5","v":7.700448900892928},null,null,null,"Velocity","Pressure","Velocity","Pressure","Pressure"]
[null,null,"Fittings",null,null,null,null,null,"Velocity",{"$f":"E15/(PI()/4*J16^2)/3600","v":0.96606913125811567},"m/s",null,null,null,"f right",{"$f":"-2*LOG(P12/(3.7*J29*0.3048)+2.51/(J32*(P28)^0.5))","v":7.7059707342285453},null,null,0.5,0.9,0.13700000000000001,4.5,0.34300000000000003,0.68600000000000005]
[null,null,null,null,"Qty","K","DP",null,"Velocity acceptance",{"$f":"IF(E50<=18,4.5,6)","v":4.5},"m/s","(max)",null,null,"f left/f right",{"$f":"P29/P30","v":0.99928343442688017},"Goal seek",null,0.75,0.9,0.13700000000000001,4.5,0.34300000000000003,0.68600000000000005]
[null,null,"Elbow 90 LR",{"$f":"C32&$E$28","v":"Elbow 90 LR6"},10,{"$f":"VLOOKUP(D32,'K-value'!$D$48:$E$124,2,FALSE)","v":0.24},{"$f":"E32*F32*$J$17^2/(2*9.8)*$E$16*9.8/10^5","v":4.8594521141743273E-3},null,"Reynold number",{"$f":"E16*J31*J29/E19","v":2346957.7630342878},null,null,null,null,"psi/100 ft",{"$f":"0.000336*P28*P14^2/(J29*1000/25.4)^5/P15","v":0.77143599697092591},null,null,1,0.9,0.13700000000000001,4.5,0.34300000000000003,0.68600000000000005]
[null,null,"Elbow 45 LR","Elbow 45 LR6",null,{"$f":"VLOOKUP(D33,'K-value'!$D$48:$E$124,2,FALSE)","v":0.24},0,null,"Pipe DP",{"$f":"P34","v":0.1745488272628577},"bar/100m",null,null,null,"psi/ft",{"$f":"P32/100","v":7.7143599697092587E-3},null,null,1.5,0.9,0.13700000000000001,4.5,0.34300000000000003,0.68600000000000005]
[null,null,"Tee thru","Tee thru6",null,{"$f":"VLOOKUP(D34,'K-value'!$D$48:$E$124,2,FALSE)","v":0.3},0,null,"Pipe DP acceptance",{"$f":"IF(E49<=49,0.343,0.686)","v":0.68600000000000005},"bar/100m",null,null,null,"bar/100 m",{"$f":"P33*100/14.5/0.3048","v":0.1745488272628577},null,null,2,0.9,0.13700000000000001,4.5,0.34300000000000003,0.68600000000000005]
[null,null,"Tee branch","Tee branch6",null,{"$f":"VLOOKUP(D35,'K-value'!$D$48:$E$124,2,FALSE)","v":0.9},0,null,"Static head",{"$f":"E15*9.8*E50/10^5","v":1.9089420000000003E-2},"bar","note 1",null,null,null,null,null,null,3,1.2,0.13700000000000001,4.5,0.34300000000000003,0.68600000000000005]
[null,null,"Ball valve","Ball valve6",1,{"$f":"VLOOKUP(D36,'K-value'!$D$48:$E$124,2,FALSE)","v":0.05},1.0123858571196518E-4,null,"Line losses",{"$f":"J33*E51/100","v":5.2364648178857304E-2},"bar",null,null,null,null,null,null,null,4,1.2,0.13700000000000001,4.5,0.34300000000000003,0.68600000000000005]
[null,null,"Butterfly valve","Butterfly valve6",null,{"$f":"VLOOKUP(D37,'K-value'!$D$48:$E$124,2,FALSE)","v":0.68},0,null,"Fitting & eqp losses",{"$f":"G70+G72","v":1.0195592947595515},"bar",null,null,null,"NPSHA calculation",null,null,null,6,1.2,0.13700000000000001,4.5,0.34300000000000003,0.68600000000000005]
[null,null,"Gate valve","Gate valve6",null,{"$f":"VLOOKUP(D38,'K-value'!$D$48:$E$124,2,FALSE)","v":0.12},0,null,"Discharge Pressure",{"$f":"E49+J35+J36+J37","v":51.091013362938412},"barg",null,null,null,"HA",{"$f":"(E24+1.01)*100000/(E16*9.81)","v":91.858235725147935},"m",null,8,1.5,0.22500000000000001,4.5,0.34300000000000003,0.68600000000000005]
[null,null,"Globe valve","Globe valve6",null,{"$f":"VLOOKUP(D39,'K-value'!$D$48:$E$124,2,FALSE)","v":5.0999999999999996},0,null,"Result",{"$f":"IF(AND(J30<J31,J33<J34),\"OK\",\"NOT OK\")","v":"OK"},null,null,null,null,"HZ",{"$f":"E26","v":1},"m",null,10,1.5,0.22500000000000001,4.5,0.34300000000000003,0.68600000000000005]
[null,null,"Check valve","Check valve6",null,{"$f":"VLOOKUP(D40,'K-value'!$D$48:$E$124,2,FALSE)","v":1.5},0,null,null,null,null,null,null,null,"HF",{"$f":"SUM(J23:J24)*-1","v":-6.2943849917720479E-2},null,null,12,1.5,0.22500000000000001,4.5,0.34300000000000003,0.68600000000000005]
[null,null,"Plug valve","Plug valve6",null,{"$f":"VLOOKUP(D41,'K-value'!$D$48:$E$124,2,FALSE)","v":1.35},0,null,"Pump Data",null,null,null,null,null,"HV",0,null,null,16,1.5,0.22500000000000001,4.5,0.34300000000000003,0.68600000000000005]
[null,null,"Pipe entrance","Pipe entrance6",1,{"$f":"VLOOKUP(D42,'K-value'!$D$48:$E$124,2,FALSE)","v":0.78},1.5793219371066564E-3,null,"Suction Pressure",{"$f":"J25","v":2.8795783500822796},"barg",null,null,null,"HVP",{"$f":"E20*10^5/(E16*9.8)*-1","v":-91.434591813217565},"m",null,18,1.5,0.22500000000000001,4.5,0.34300000000000003,0.68600000000000005]
[null,null,"Suction strainer","Suction strainer6",1,null,{"$f":"0.05*E43","v":0.05},null,"Discharge Pressure",{"$f":"J38","v":51.091013362938412},"barg",null,null,null,"NPSHA",{"$f":"SUM(P38:P42)","v":1.3607000620126541},"m",null,20,1.8,0.22500000000000001,6,0.34300000000000003,0.68600000000000005]
[null,null,"Total, barg",null,null,null,{"$f":"SUM(G32:G43)","v":5.6540012636992952E-2},null,"Selected disc. Pressure",52,"barg"]
[null,null,"Contingency",null,null,null,0,null,"Differential Pressure",{"$f":"J44-J42","v":49.120421649917724},"bar"]
[null,null,"Total + Contingency",null,null,null,{"$f":"(1+G45)*G44","v":5.6540012636992952E-2},null,"Differential Head",{"$f":"J45*10^5/(E16*9.8)","v":1155.1712199725725},"m"]
[null,null,null,null,null,null,null,null,"Hydraulic Power",{"$f":"E16*9.8*J46*E15/3600000","v":88.594138270254405},"kW"]
[null,null,"DISCHARGE",null,null,null,null,null,"Pump BHP",{"$f":"J47/E21","v":147.65689711709069},"kW"]
[null,null,"Target Pressure ",null,50,"barg",null,null,"NPSHa",{"$f":"P43","v":1.3607000620126541},"m"]
[null,null,"Static head",null,3,"m","note 2",null,"NPSHr",{"$f":"J49-1","v":0.36070006201265414},"m"]
[null,null,"Length",null,30,"m"]
[null,null,"Pipe size",null,{"$f":"VLOOKUP(E11,'Data pompa'!$B$5:$R$24,17,FALSE)","v":4},"in",null,null,"Shut in Pressure"]
[null,null,"Schedule",null,40,null,null,null,"P shut in",{"$f":"E25+1.3*J45","v":68.206548144893034},"barg"]
[null,null,"Fittings"]
[null,null,null,null,"Qty","K","DP"]
[null,null,"Elbow 90 LR",{"$f":"C56&$E$52","v":"Elbow 90 LR4"},10,{"$f":"VLOOKUP(D56,'K-value'!$D$48:$E$124,2,FALSE)","v":0.27},{"$f":"E56*F56*$J$17^2/(2*9.8)*$E$16*9.8/10^5","v":5.4668836284461194E-3}]
[null,null,"Elbow 45 LR","Elbow 45 LR4",null,{"$f":"VLOOKUP(D57,'K-value'!$D$48:$E$124,2,FALSE)","v":0.27},0]
[null,null,"Tee thru","Tee thru4",null,{"$f":"VLOOKUP(D58,'K-value'!$D$48:$E$124,2,FALSE)","v":0.34},0]
[null,null,"Tee branch","Tee branch4",null,{"$f":"VLOOKUP(D59,'K-value'!$D$48:$E$124,2,FALSE)","v":1.02},0]
[null,null,"Ball valve","Ball valve4",5,{"$f":"VLOOKUP(D60,'K-value'!$D$48:$E$124,2,FALSE)","v":0.05},5.0619292855982575E-4]
[null,null,"Butterfly valve","Butterfly valve4",null,{"$f":"VLOOKUP(D61,'K-value'!$D$48:$E$124,2,FALSE)","v":0.77},0]
[null,null,"Gate valve","Gate valve4",null,{"$f":"VLOOKUP(D62,'K-value'!$D$48:$E$124,2,FALSE)","v":0.14000000000000001},0]
[null,null,"Globe valve","Globe valve4",null,{"$f":"VLOOKUP(D63,'K-value'!$D$48:$E$124,2,FALSE)","v":5.8},0,null,"Note:"]
[null,null,"Check valve","Check valve4",3,{"$f":"VLOOKUP(D64,'K-value'!$D$48:$E$124,2,FALSE)","v":1.7},1.0326335742620447E-2]
[null,null,"Plug valve","Plug valve4",null,{"$f":"VLOOKUP(D65,'K-value'!$D$48:$E$124,2,FALSE)","v":1.53},0,null,"1. Discharge liquid level is assumed 3 m above grade elevation"]
[null,null,"Pipe entrance","Pipe entrance4",null,{"$f":"VLOOKUP(D66,'K-value'!$D$48:$E$124,2,FALSE)","v":0.78},0]
[null,null,"Flow orifice","Flow orifice4",1,null,0.25]
[null,null,"Total, barg",null,null,null,{"$f":"SUM(G56:G67)","v":0.26629941229962639}]
[null,null,"Contingency",null,null,null,0.2]
[null,null,"Total + contingency, barg",null,null,null,{"$f":"G68*(1+G69)","v":0.31955929475955164}]
[null,null,"Pressure Loss due to Equipment"]
[null,null,"AAV",null,1,null,0.7]

{"sheet":"Kalsel","index":34,"n_rows":72,"n_cols":24,"rows_kept":72,"cut":false,"hidden":true,"merged":[[0,5,3,10],[26,21,26,23],[26,19,27,20],[26,18,27,18]]}
[null,null,null,null,null,"PUMP SIZING"]
[]
[]
[]
[null,null,"Project: LNG Regasification in Central Region of Indonesia"]
[]
[null,null,"Equipment Design Group",null,33.6,"MMSCFD"]
[null,null,"Equipment Design",null,33.6,"MMSCFD"]
[null,null,"Tag No:",null,"KPK-G-001A/B"]
[null,null,"Description:",null,"LNG Pump"]
[null,null,"Location:",null,"Kalsel Peaker-1",null,null,null,null,null,null,null,null,null,"Pipe roughness",0.05,"mm"]
[null,null,null,null,null,null,null,null,null,null,null,null,null,null,null,{"$f":"P11/1000/3.28","v":1.5243902439024392E-5},"ft"]
[]
[null,null,"DATA",null,null,null,null,null,"RESULTS",null,null,null,null,null,"Mass flow",{"$f":"E15*E16/0.45","v":62606.948888888888},"lb/hr"]
[null,null,"Flow rate",null,{"$f":"'Data pompa'!I27","v":64.930000000000007},"m3/h",null,null,"Suction Hydraulic",null,null,null,null,null,"Rho",{"$f":"E16/16.02","v":27.084893882646689},"lb/ft3"]
[null,null,"Density",null,{"$f":"'Data pompa'!N27","v":433.9},"kg/m3",null,null,"Pipe ID",{"$f":"VLOOKUP(E28,'Pipe size sch 40'!$A$5:$C$27,3,FALSE)*25.4/1000","v":0.15417800000000001},"m"]
[null,null,"Flow temperature",null,{"$f":"'Data pompa'!M27","v":-159.54},"deg C",null,null,"Velocity",{"$f":"E15/(PI()/4*J16^2)/3600","v":0.96606913125811567},"m/s",null,null,null,"Side Calculation (Suction)"]
[null,null,"Viscocity",null,{"$f":"'Data pompa'!O27","v":0.1191},"cP",null,null,"Velocity acceptance",{"$f":"IF(E28<=2,0.9,IF(OR(E28>=3,E28<=6),1.2,IF(OR(E28>=8,E28<=18),1.5,1.8)))","v":1.2},"m/s","(max)",null,null,"f tebakan",1.6169238102063308E-2]
[null,null,null,null,{"$f":"E18*10^-3","v":1.1909999999999999E-4},"Nm2/s",null,null,"Reynold number",{"$f":"E16*J18*J16/E19","v":674033.59395466},null,null,null,null,"f left",{"$f":"1/(P18)^0.5","v":7.8642121688866951}]
[null,null,"Vapor pressure",null,{"$f":"'Data pompa'!P27","v":1.1604000000000001},"bara",null,null,"Pipe DP",{"$f":"P24","v":2.1588394892085326E-2},"bar/100m",null,null,null,"f right",{"$f":"-2*LOG(P12/(3.7*J16*0.3048)+2.51/(J19*(P18)^0.5))","v":7.8639522407758378}]
[null,null,"Pump efficiency",null,0.6,null,null,null,"Pipe DP acceptance",{"$f":"IF(E28<=6,0.137,0.225)","v":0.13700000000000001},"bar/100m",null,null,null,"f left/f right",{"$f":"P19/P20","v":1.0000330531141211},"Goal seek"]
[null,null,null,null,null,null,null,null,"Static head",{"$f":"E16*9.8*E26/10^5","v":0.11480994},"bar",null,null,null,"psi/100 ft",{"$f":"0.000336*P18*P14^2/(J16*1000/25.4)^5/P15","v":9.541207006506032E-2}]
[null,null,"SUCTION",null,null,null,null,null,"Pipe friction loss",{"$f":"J20*E27/100","v":6.4765184676255985E-3},"bar",null,null,null,"psi/ft",{"$f":"P22/100","v":9.5412070065060322E-4}]
[null,null,"Pressure at Vessel (min)",null,0.15,"barg",null,null,"Fitting friction loss",{"$f":"G46","v":5.6540012636992952E-2},"bar",null,null,null,"bar/100 m",{"$f":"P23*100/14.5/0.3048","v":2.1588394892085326E-2}]
[null,null,"Pressure at Vessel (max)",null,{"$f":"1.5*E24","v":0.22499999999999998},"barg",null,null,"Suction Pressure",{"$f":"E24+J22-SUM(J23:J24)","v":0.20179340889538147},"barg"]
[null,null,"Static head",null,{"$f":"0.9+1.8","v":2.7},"m",null,null,"Result",{"$f":"IF(AND(J17<J18,J20<J21),\"OK\",\"NOT OK\")","v":"OK"}]
[null,null,"Length",null,30,"m","assumption",null,null,null,null,null,null,null,"Side Calculation (Discharge)",null,null,null,null,"Suction",null,"Discharge"]
[null,null,"Pipe size",null,6,"in",null,null,"Discharge Hydraulic",null,null,null,null,null,"f tebakan",1.7038614169636476E-2,null,null,null,null,null,null,"< 49 barg","> 49 barg"]
[null,null,"Schedule",null,40,null,null,null,"Pipe ID",{"$f":"VLOOKUP(E52,'Pipe size sch 40'!$A$5:$C$27,3,FALSE)*25.4/1000","v":0.10236199999999999},"m",null,null,null,"f left",{"$f":"1/(P28)^0.5","v":7.6609541946037956},null,null,null,"Velocity","Pressure","Velocity","Pressure","Pressure"]
[null,null,"Fittings",null,null,null,null,null,"Velocity",{"$f":"E15/(PI()/4*J16^2)/3600","v":0.96606913125811567},"m/s",null,null,null,"f right",{"$f":"-2*LOG(P12/(3.7*J29*0.3048)+2.51/(J32*(P28)^0.5))","v":7.6862405623026602},null,null,0.5,0.9,0.13700000000000001,4.5,0.34300000000000003,0.68600000000000005]
[null,null,null,null,"Qty","K","DP",null,"Velocity acceptance",{"$f":"IF(E50<=18,4.5,6)","v":4.5},"m/s","(max)",null,null,"f left/f right",{"$f":"P29/P30","v":0.99671017742758639},"Goal seek",null,0.75,0.9,0.13700000000000001,4.5,0.34300000000000003,0.68600000000000005]
[null,null,"Elbow 90 LR",{"$f":"C32&$E$28","v":"Elbow 90 LR6"},10,{"$f":"VLOOKUP(D32,'K-value'!$D$48:$E$124,2,FALSE)","v":0.24},{"$f":"E32*F32*$J$17^2/(2*9.8)*$E$16*9.8/10^5","v":4.8594521141743273E-3},null,"Reynold number",{"$f":"E16*J31*J29/E19","v":1678143.7707808563},null,null,null,null,"psi/100 ft",{"$f":"0.000336*P28*P14^2/(J29*1000/25.4)^5/P15","v":0.77941050579287774},null,null,1,0.9,0.13700000000000001,4.5,0.34300000000000003,0.68600000000000005]
[null,null,"Elbow 45 LR","Elbow 45 LR6",null,{"$f":"VLOOKUP(D33,'K-value'!$D$48:$E$124,2,FALSE)","v":0.24},0,null,"Pipe DP",{"$f":"P34","v":0.17635317806880207},"bar/100m",null,null,null,"psi/ft",{"$f":"P32/100","v":7.7941050579287772E-3},null,null,1.5,0.9,0.13700000000000001,4.5,0.34300000000000003,0.68600000000000005]
[null,null,"Tee thru","Tee thru6",null,{"$f":"VLOOKUP(D34,'K-value'!$D$48:$E$124,2,FALSE)","v":0.3},0,null,"Pipe DP acceptance",{"$f":"IF(E49<=49,0.343,0.686)","v":0.68600000000000005},"bar/100m",null,null,null,"bar/100 m",{"$f":"P33*100/14.5/0.3048","v":0.17635317806880207},null,null,2,0.9,0.13700000000000001,4.5,0.34300000000000003,0.68600000000000005]
[null,null,"Tee branch","Tee branch6",null,{"$f":"VLOOKUP(D35,'K-value'!$D$48:$E$124,2,FALSE)","v":0.9},0,null,"Static head",{"$f":"E15*9.8*E50/10^5","v":1.9089420000000003E-2},"bar","note 1",null,null,null,null,null,null,3,1.2,0.13700000000000001,4.5,0.34300000000000003,0.68600000000000005]
[null,null,"Ball valve","Ball valve6",1,{"$f":"VLOOKUP(D36,'K-value'!$D$48:$E$124,2,FALSE)","v":0.05},1.0123858571196518E-4,null,"Line losses",{"$f":"J33*E51/100","v":5.2905953420640618E-2},"bar",null,null,null,null,null,null,null,4,1.2,0.13700000000000001,4.5,0.34300000000000003,0.68600000000000005]
[null,null,"Butterfly valve","Butterfly valve6",null,{"$f":"VLOOKUP(D37,'K-value'!$D$48:$E$124,2,FALSE)","v":0.68},0,null,"Fitting & eqp losses",{"$f":"G70+G72","v":0.31968078106240605},"bar",null,null,null,"NPSHA calculation",null,null,null,6,1.2,0.13700000000000001,4.5,0.34300000000000003,0.68600000000000005]
[null,null,"Gate valve","Gate valve6",null,{"$f":"VLOOKUP(D38,'K-value'!$D$48:$E$124,2,FALSE)","v":0.12},0,null,"Discharge Pressure",{"$f":"E49+J35+J36+J37","v":50.391676154483051},"barg",null,null,null,"HA",{"$f":"(E24+1.01)*100000/(E16*9.81)","v":27.25205970362445},"m",null,8,1.5,0.22500000000000001,4.5,0.34300000000000003,0.68600000000000005]
[null,null,"Globe valve","Globe valve6",null,{"$f":"VLOOKUP(D39,'K-value'!$D$48:$E$124,2,FALSE)","v":5.0999999999999996},0,null,"Result",{"$f":"IF(AND(J30<J31,J33<J34),\"OK\",\"NOT OK\")","v":"OK"},null,null,null,null,"HZ",{"$f":"E26","v":2.7},"m",null,10,1.5,0.22500000000000001,4.5,0.34300000000000003,0.68600000000000005]
[null,null,"Check valve","Check valve6",null,{"$f":"VLOOKUP(D40,'K-value'!$D$48:$E$124,2,FALSE)","v":1.5},0,null,null,null,null,null,null,null,"HF",{"$f":"SUM(J23:J24)*-1","v":-6.3016531104618551E-2},null,null,12,1.5,0.22500000000000001,4.5,0.34300000000000003,0.68600000000000005]
[null,null,"Plug valve","Plug valve6",null,{"$f":"VLOOKUP(D41,'K-value'!$D$48:$E$124,2,FALSE)","v":1.35},0,null,"Pump Data",null,null,null,null,null,"HV",0,null,null,16,1.5,0.22500000000000001,4.5,0.34300000000000003,0.68600000000000005]
[null,null,"Pipe entrance","Pipe entrance6",1,{"$f":"VLOOKUP(D42,'K-value'!$D$48:$E$124,2,FALSE)","v":0.78},1.5793219371066564E-3,null,"Suction Pressure",{"$f":"J25","v":0.20179340889538147},"barg",null,null,null,"HVP",{"$f":"E20*10^5/(E16*9.8)*-1","v":-27.289274778821419},"m",null,18,1.5,0.22500000000000001,4.5,0.34300000000000003,0.68600000000000005]
[null,null,"Suction strainer","Suction strainer6",1,null,{"$f":"0.05*E43","v":0.05},null,"Discharge Pressure",{"$f":"J38","v":50.391676154483051},"barg",null,null,null,"NPSHA",{"$f":"SUM(P38:P42)","v":2.5997683936984117},"m",null,20,1.8,0.22500000000000001,6,0.34300000000000003,0.68600000000000005]
[null,null,"Total, barg",null,null,null,{"$f":"SUM(G32:G43)","v":5.6540012636992952E-2},null,"Selected disc. Pressure",52,"barg"]
[null,null,"Contingency",null,null,null,0,null,"Differential Pressure",{"$f":"J44-J42","v":51.798206591104616},"bar"]
[null,null,"Total + Contingency",null,null,null,{"$f":"(1+G45)*G44","v":5.6540012636992952E-2},null,"Differential Head",{"$f":"J45*10^5/(E16*9.8)","v":1218.1450299162464},"m"]
[null,null,null,null,null,null,null,null,"Hydraulic Power",{"$f":"E16*9.8*J46*E15/3600000","v":93.423820943345078},"kW"]
[null,null,"DISCHARGE",null,null,null,null,null,"Pump BHP",{"$f":"J47/E21","v":155.70636823890848},"kW"]
[null,null,"Target Pressure ",null,50,"barg",null,null,"NPSHa",{"$f":"P43","v":2.5997683936984117},"m"]
[null,null,"Static head",null,3,"m","note 2",null,"NPSHr",{"$f":"J49-1","v":1.5997683936984117},"m"]
[null,null,"Length",null,30,"m"]
[null,null,"Pipe size",null,4,"in",null,null,"Shut in Pressure"]
[null,null,"Schedule",null,40,null,null,null,"P shut in",{"$f":"E25+1.3*J45","v":67.562668568435996},"barg"]
[null,null,"Fittings"]
[null,null,null,null,"Qty","K","DP"]
[null,null,"Elbow 90 LR",{"$f":"C56&$E$52","v":"Elbow 90 LR4"},10,{"$f":"VLOOKUP(D56,'K-value'!$D$48:$E$124,2,FALSE)","v":0.27},{"$f":"E56*F56*$J$17^2/(2*9.8)*$E$16*9.8/10^5","v":5.4668836284461194E-3}]
[null,null,"Elbow 45 LR","Elbow 45 LR4",null,{"$f":"VLOOKUP(D57,'K-value'!$D$48:$E$124,2,FALSE)","v":0.27},0]
[null,null,"Tee thru","Tee thru4",null,{"$f":"VLOOKUP(D58,'K-value'!$D$48:$E$124,2,FALSE)","v":0.34},0]
[null,null,"Tee branch","Tee branch4",null,{"$f":"VLOOKUP(D59,'K-value'!$D$48:$E$124,2,FALSE)","v":1.02},0]
[null,null,"Ball valve","Ball valve4",6,{"$f":"VLOOKUP(D60,'K-value'!$D$48:$E$124,2,FALSE)","v":0.05},6.0743151427179102E-4]
[null,null,"Butterfly valve","Butterfly valve4",null,{"$f":"VLOOKUP(D61,'K-value'!$D$48:$E$124,2,FALSE)","v":0.77},0]
[null,null,"Gate valve","Gate valve4",null,{"$f":"VLOOKUP(D62,'K-value'!$D$48:$E$124,2,FALSE)","v":0.14000000000000001},0]
[null,null,"Globe valve","Globe valve4",null,{"$f":"VLOOKUP(D63,'K-value'!$D$48:$E$124,2,FALSE)","v":5.8},0,null,"Note:"]
[null,null,"Check valve","Check valve4",3,{"$f":"VLOOKUP(D64,'K-value'!$D$48:$E$124,2,FALSE)","v":1.7},1.0326335742620447E-2]
[null,null,"Plug valve","Plug valve4",null,{"$f":"VLOOKUP(D65,'K-value'!$D$48:$E$124,2,FALSE)","v":1.53},0,null,"1. Discharge liquid level is assumed 3 m above grade elevation"]
[null,null,"Pipe entrance","Pipe entrance4",null,{"$f":"VLOOKUP(D66,'K-value'!$D$48:$E$124,2,FALSE)","v":0.78},0]
[null,null,"Flow orifice","Flow orifice4",1,null,0.25]
[null,null,"Total, barg",null,null,null,{"$f":"SUM(G56:G67)","v":0.26640065088533837}]
[null,null,"Contingency",null,null,null,0.2]
[null,null,"Total + contingency, barg",null,null,null,{"$f":"G68*(1+G69)","v":0.31968078106240605}]
[null,null,"Pressure Loss due to Equipment"]
[null,null,"AAV",null,null,null,0]

{"sheet":"Minahasa (LP)","index":35,"n_rows":72,"n_cols":24,"rows_kept":72,"cut":false,"hidden":true,"merged":[[0,5,3,10],[26,21,26,23],[26,19,27,20],[26,18,27,18]]}
[null,null,null,null,null,"PUMP SIZING"]
[]
[]
[]
[null,null,"Project: LNG Regasification in Central Region of Indonesia"]
[]
[null,null,"Equipment Design Group",null,36,"MMSCFD"]
[null,null,"Equipment Design",null,36,"MMSCFD"]
[null,null,"Tag No:",null,"MHP-G-001A/B"]
[null,null,"Description:",null,"LNG LP Pump"]
[null,null,"Location:",null,"Minahasa Peaker (LP)",null,null,null,null,null,null,null,null,null,"Pipe roughness",0.05,"mm"]
[null,null,null,null,null,null,null,null,null,null,null,null,null,null,null,{"$f":"P11/1000/3.28","v":1.5243902439024392E-5},"ft"]
[]
[null,null,"DATA",null,null,null,null,null,"RESULTS",null,null,null,null,null,"Mass flow",{"$f":"E15*E16/0.45","v":67096.399999999994},"lb/hr"]
[null,null,"Flow rate",null,{"$f":"'Data pompa'!I24","v":69.569999999999993},"m3/h",null,null,"Suction Hydraulic",null,null,null,null,null,"Rho",{"$f":"E16/16.02","v":27.091136079900124},"lb/ft3"]
[null,null,"Density",null,{"$f":"'Data pompa'!N24","v":434},"kg/m3",null,null,"Pipe ID",{"$f":"VLOOKUP(E28,'Pipe size sch 40'!$A$5:$C$27,3,FALSE)*25.4/1000","v":0.20269200000000001},"m"]
[null,null,"Flow temperature",null,{"$f":"VLOOKUP(E11,'Data pompa'!$B$5:$R$24,12,FALSE)","v":-159.54},"deg C",null,null,"Velocity",{"$f":"E15/(PI()/4*J16^2)/3600","v":0.59890288518698775},"m/s",null,null,null,"Side Calculation (Suction)"]
[null,null,"Viscocity",null,{"$f":"'Data pompa'!O24","v":0.1191},"cP",null,null,"Velocity acceptance",{"$f":"IF(E28<=2,0.9,IF(OR(E28>=3,E28<=6),1.2,IF(OR(E28>=8,E28<=18),1.5,1.8)))","v":1.2},"m/s","(max)",null,null,"f tebakan",1.5258514331834575E-2]
[null,null,null,null,{"$f":"E18*10^-3","v":1.1909999999999999E-4},"Nm2/s",null,null,"Reynold number",{"$f":"E16*J18*J16/E19","v":886330.76070528966},null,null,null,null,"f left",{"$f":"1/(P18)^0.5","v":8.0955036891146221}]
[null,null,"Vapor pressure",null,{"$f":"'Data pompa'!P24","v":1.1604000000000001},"bara",null,null,"Pipe DP",{"$f":"P24","v":5.9569688088027982E-3},"bar/100m",null,null,null,"f right",{"$f":"-2*LOG(P12/(3.7*J16*0.3048)+2.51/(J19*(P18)^0.5))","v":8.095258791265783}]
[null,null,"Pump efficiency",null,0.6,null,null,null,"Pipe DP acceptance",{"$f":"IF(E28<=6,0.137,0.225)","v":0.22500000000000001},"bar/100m",null,null,null,"f left/f right",{"$f":"P19/P20","v":1.0000302520098683},"Goal seek"]
[null,null,null,null,null,null,null,null,"Static head",{"$f":"E16*9.8*E26/10^5","v":0.12759600000000001},"bar",null,null,null,"psi/100 ft",{"$f":"0.000336*P18*P14^2/(J16*1000/25.4)^5/P15","v":2.6327419347384848E-2}]
[null,null,"SUCTION",null,null,null,null,null,"Pipe friction loss",{"$f":"J20*E27/100","v":5.9569688088027982E-3},"bar",null,null,null,"psi/ft",{"$f":"P22/100","v":2.6327419347384846E-4}]
[null,null,"Pressure at Vessel (min)",null,0.15,"barg",null,null,"Fitting friction loss",{"$f":"G46","v":5.2350604089412715E-2},"bar",null,null,null,"bar/100 m",{"$f":"P23*100/14.5/0.3048","v":5.9569688088027982E-3}]
[null,null,"Pressure at Vessel (max)",null,0.2,"barg",null,null,"Suction Pressure",{"$f":"E24+J22-SUM(J23:J24)","v":0.21928842710178451},"barg"]
[null,null,"Static head",null,{"$f":"VLOOKUP(E11,'Data pompa'!$B$5:$S$27,18,FALSE)/1000+1.8","v":3},"m",null,null,"Result",{"$f":"IF(AND(J17<J18,J20<J21),\"OK\",\"NOT OK\")","v":"OK"}]
[null,null,"Length",null,100,"m","assumption",null,null,null,null,null,null,null,"Side Calculation (Discharge)",null,null,null,null,"Suction",null,"Discharge"]
[null,null,"Pipe size",null,{"$f":"VLOOKUP(E11,'Data pompa'!$B$5:$R$24,16,FALSE)","v":8},"in",null,null,"Discharge Hydraulic",null,null,null,null,null,"f tebakan",1.5559293749480984E-2,null,null,null,null,null,null,"< 49 barg","> 49 barg"]
[null,null,"Schedule",null,40,null,null,null,"Pipe ID",{"$f":"VLOOKUP(E52,'Pipe size sch 40'!$A$5:$C$27,3,FALSE)*25.4/1000","v":0.15417800000000001},"m",null,null,null,"f left",{"$f":"1/(P28)^0.5","v":8.0168740378503021},null,null,null,"Velocity","Pressure","Velocity","Pressure","Pressure"]
[null,null,"Fittings",null,null,null,null,null,"Velocity",{"$f":"E15/(PI()/4*J16^2)/3600","v":0.59890288518698775},"m/s",null,null,null,"f right",{"$f":"-2*LOG(P12/(3.7*J29*0.3048)+2.51/(J32*(P28)^0.5))","v":8.0388084310360579},null,null,0.5,0.9,0.13700000000000001,4.5,0.34300000000000003,0.68600000000000005]
[null,null,null,null,"Qty","K","DP",null,"Velocity acceptance",{"$f":"IF(E50<=18,4.5,6)","v":4.5},"m/s","(max)",null,null,"f left/f right",{"$f":"P29/P30","v":0.99727143725666212},"Goal seek",null,0.75,0.9,0.13700000000000001,4.5,0.34300000000000003,0.68600000000000005]
[null,null,"Elbow 90 LR",{"$f":"C32&$E$28","v":"Elbow 90 LR8"},10,{"$f":"VLOOKUP(D32,'K-value'!$D$48:$E$124,2,FALSE)","v":0.22},{"$f":"E32*F32*$J$17^2/(2*9.8)*$E$16*9.8/10^5","v":1.7123605949364142E-3},null,"Reynold number",{"$f":"E16*J31*J29/E19","v":2528208.5138539048},null,null,null,null,"psi/100 ft",{"$f":"0.000336*P28*P14^2/(J29*1000/25.4)^5/P15","v":0.10542823173966387},null,null,1,0.9,0.13700000000000001,4.5,0.34300000000000003,0.68600000000000005]
[null,null,"Elbow 45 LR","Elbow 45 LR8",null,{"$f":"VLOOKUP(D33,'K-value'!$D$48:$E$124,2,FALSE)","v":0.22},0,null,"Pipe DP",{"$f":"P34","v":2.3854699913943313E-2},"bar/100m",null,null,null,"psi/ft",{"$f":"P32/100","v":1.0542823173966386E-3},null,null,1.5,0.9,0.13700000000000001,4.5,0.34300000000000003,0.68600000000000005]
[null,null,"Tee thru","Tee thru8",null,{"$f":"VLOOKUP(D34,'K-value'!$D$48:$E$124,2,FALSE)","v":0.28000000000000003},0,null,"Pipe DP acceptance",{"$f":"IF(E49<=49,0.343,0.686)","v":0.34300000000000003},"bar/100m",null,null,null,"bar/100 m",{"$f":"P33*100/14.5/0.3048","v":2.3854699913943313E-2},null,null,2,0.9,0.13700000000000001,4.5,0.34300000000000003,0.68600000000000005]
[null,null,"Tee branch","Tee branch8",null,{"$f":"VLOOKUP(D35,'K-value'!$D$48:$E$124,2,FALSE)","v":0.84},0,null,"Static head",{"$f":"E15*9.8*E50/10^5","v":2.0453579999999996E-2},"bar","note 1",null,null,null,null,null,null,3,1.2,0.13700000000000001,4.5,0.34300000000000003,0.68600000000000005]
[null,null,"Ball valve","Ball valve8",1,{"$f":"VLOOKUP(D36,'K-value'!$D$48:$E$124,2,FALSE)","v":0.04},3.1133828998843884E-5,null,"Line losses",{"$f":"J33*E51/100","v":7.1564099741829946E-3},"bar",null,null,null,null,null,null,null,4,1.2,0.13700000000000001,4.5,0.34300000000000003,0.68600000000000005]
[null,null,"Butterfly valve","Butterfly valve8",null,{"$f":"VLOOKUP(D37,'K-value'!$D$48:$E$124,2,FALSE)","v":0.63},0,null,"Fitting & eqp losses",{"$f":"G70+G72","v":0.30368935873636299},"bar",null,null,null,"NPSHA calculation",null,null,null,6,1.2,0.13700000000000001,4.5,0.34300000000000003,0.68600000000000005]
[null,null,"Gate valve","Gate valve8",null,{"$f":"VLOOKUP(D38,'K-value'!$D$48:$E$124,2,FALSE)","v":0.11},0,null,"Discharge Pressure",{"$f":"E49+J35+J36+J37","v":4.7812993487105455},"barg",null,null,null,"HA",{"$f":"(E24+1.01)*100000/(E16*9.81)","v":27.245780427195044},"m",null,8,1.5,0.22500000000000001,4.5,0.34300000000000003,0.68600000000000005]
[null,null,"Globe valve","Globe valve8",null,{"$f":"VLOOKUP(D39,'K-value'!$D$48:$E$124,2,FALSE)","v":4.8},0,null,"Result",{"$f":"IF(AND(J30<J31,J33<J34),\"OK\",\"NOT OK\")","v":"OK"},null,null,null,null,"HZ",{"$f":"E26","v":3},"m",null,10,1.5,0.22500000000000001,4.5,0.34300000000000003,0.68600000000000005]
[null,null,"Check valve","Check valve8",null,{"$f":"VLOOKUP(D40,'K-value'!$D$48:$E$124,2,FALSE)","v":1.4},0,null,null,null,null,null,null,null,"HF",{"$f":"SUM(J23:J24)*-1","v":-5.8307572898215511E-2},null,null,12,1.5,0.22500000000000001,4.5,0.34300000000000003,0.68600000000000005]
[null,null,"Plug valve","Plug valve8",null,{"$f":"VLOOKUP(D41,'K-value'!$D$48:$E$124,2,FALSE)","v":1.26},0,null,"Pump Data",null,null,null,null,null,"HV",0,null,null,16,1.5,0.22500000000000001,4.5,0.34300000000000003,0.68600000000000005]
[null,null,"Pipe entrance","Pipe entrance8",1,{"$f":"VLOOKUP(D42,'K-value'!$D$48:$E$124,2,FALSE)","v":0.78},6.071096654774559E-4,null,"Suction Pressure",{"$f":"J25","v":0.21928842710178451},"barg",null,null,null,"HVP",{"$f":"E20*10^5/(E16*9.8)*-1","v":-27.28298692748989},"m",null,18,1.5,0.22500000000000001,4.5,0.34300000000000003,0.68600000000000005]
[null,null,"Suction strainer","Suction strainer8",1,null,{"$f":"0.05*E43","v":0.05},null,"Discharge Pressure",{"$f":"J38","v":4.7812993487105455},"barg",null,null,null,"NPSHA",{"$f":"SUM(P38:P42)","v":2.9044859268069381},"m",null,20,1.8,0.22500000000000001,6,0.34300000000000003,0.68600000000000005]
[null,null,"Total, barg",null,null,null,{"$f":"SUM(G32:G43)","v":5.2350604089412715E-2},null,"Selected disc. Pressure",{"$f":"J43","v":4.7812993487105455},"barg"]
[null,null,"Contingency",null,null,null,0,null,"Differential Pressure",{"$f":"J44-J42","v":4.5620109216087608},"bar"]
[null,null,"Total + Contingency",null,null,null,{"$f":"(1+G45)*G44","v":5.2350604089412715E-2},null,"Differential Head",{"$f":"J45*10^5/(E16*9.8)","v":107.26067247269727},"m"]
[null,null,null,null,null,null,null,null,"Hydraulic Power",{"$f":"E16*9.8*J46*E15/3600000","v":8.8160861060089299},"kW"]
[null,null,"DISCHARGE",null,null,null,null,null,"Pump BHP",{"$f":"J47/E21","v":14.693476843348217},"kW"]
[null,null,"Target Pressure ",null,{"$f":"'Data pompa'!L24","v":4.45},"barg",null,null,"NPSHa",{"$f":"P43","v":2.9044859268069381},"m"]
[null,null,"Static head",null,3,"m","note 2",null,"NPSHr",{"$f":"J49-1","v":1.9044859268069381},"m"]
[null,null,"Length",null,30,"m"]
[null,null,"Pipe size",null,{"$f":"VLOOKUP(E11,'Data pompa'!$B$5:$R$24,17,FALSE)","v":6},"in",null,null,"Shut in Pressure"]
[null,null,"Schedule",null,40,null,null,null,"P shut in",{"$f":"E25+1.3*J45","v":6.1306141980913891},"barg"]
[null,null,"Fittings"]
[null,null,null,null,"Qty","K","DP"]
[null,null,"Elbow 90 LR",{"$f":"C56&$E$52","v":"Elbow 90 LR6"},10,{"$f":"VLOOKUP(D56,'K-value'!$D$48:$E$124,2,FALSE)","v":0.24},{"$f":"E56*F56*$J$17^2/(2*9.8)*$E$16*9.8/10^5","v":1.8680297399306333E-3}]
[null,null,"Elbow 45 LR","Elbow 45 LR6",null,{"$f":"VLOOKUP(D57,'K-value'!$D$48:$E$124,2,FALSE)","v":0.24},0]
[null,null,"Tee thru","Tee thru6",null,{"$f":"VLOOKUP(D58,'K-value'!$D$48:$E$124,2,FALSE)","v":0.3},0]
[null,null,"Tee branch","Tee branch6",null,{"$f":"VLOOKUP(D59,'K-value'!$D$48:$E$124,2,FALSE)","v":0.9},0]
[null,null,"Ball valve","Ball valve6",1,{"$f":"VLOOKUP(D60,'K-value'!$D$48:$E$124,2,FALSE)","v":0.05},3.8917286248554855E-5]
[null,null,"Butterfly valve","Butterfly valve6",null,{"$f":"VLOOKUP(D61,'K-value'!$D$48:$E$124,2,FALSE)","v":0.68},0]
[null,null,"Gate valve","Gate valve6",null,{"$f":"VLOOKUP(D62,'K-value'!$D$48:$E$124,2,FALSE)","v":0.12},0]
[null,null,"Globe valve","Globe valve6",null,{"$f":"VLOOKUP(D63,'K-value'!$D$48:$E$124,2,FALSE)","v":5.0999999999999996},0,null,"Note:"]
[null,null,"Check valve","Check valve6",1,{"$f":"VLOOKUP(D64,'K-value'!$D$48:$E$124,2,FALSE)","v":1.5},1.1675185874566458E-3]
[null,null,"Plug valve","Plug valve6",null,{"$f":"VLOOKUP(D65,'K-value'!$D$48:$E$124,2,FALSE)","v":1.35},0,null,"1. Discharge liquid level is assumed 3 m above grade elevation"]
[null,null,"Pipe entrance","Pipe entrance6",null,{"$f":"VLOOKUP(D66,'K-value'!$D$48:$E$124,2,FALSE)","v":0.78},0]
[null,null,"Flow orifice","Flow orifice6",1,null,0.25]
[null,null,"Total, barg",null,null,null,{"$f":"SUM(G56:G67)","v":0.25307446561363584}]
[null,null,"Contingency",null,null,null,0.2]
[null,null,"Total + contingency, barg",null,null,null,{"$f":"G68*(1+G69)","v":0.30368935873636299}]
[null,null,"Pressure Loss due to Equipment"]
[null,null,"AAV",null,null,null,0]

{"sheet":"Minahasa (HP)","index":36,"n_rows":72,"n_cols":24,"rows_kept":72,"cut":false,"hidden":true,"merged":[[0,5,3,10],[26,21,26,23],[26,19,27,20],[26,18,27,18]]}
[null,null,null,null,null,"PUMP SIZING"]
[]
[]
[]
[null,null,"Project: LNG Regasification in Central Region of Indonesia"]
[]
[null,null,"Equipment Design Group",null,36,"MMSCFD"]
[null,null,"Equipment Design",null,36,"MMSCFD"]
[null,null,"Tag No:",null,"MHP-G-002A/B"]
[null,null,"Description:",null,"LNG HP Pump"]
[null,null,"Location:",null,"Minahasa Peaker (HP)",null,null,null,null,null,null,null,null,null,"Pipe roughness",0.05,"mm"]
[null,null,null,null,null,null,null,null,null,null,null,null,null,null,null,{"$f":"P11/1000/3.28","v":1.5243902439024392E-5},"ft"]
[]
[null,null,"DATA",null,null,null,null,null,"RESULTS",null,null,null,null,null,"Mass flow",{"$f":"E15*E16/0.45","v":67099.5},"lb/hr"]
[null,null,"Flow rate",null,{"$f":"'Data pompa'!I25","v":69.75},"m3/h",null,{"$f":"E15*1.1","v":76.725000000000009},"Suction Hydraulic",null,null,null,null,null,"Rho",{"$f":"E16/16.02","v":27.022471910112358},"lb/ft3"]
[null,null,"Density",null,{"$f":"'Data pompa'!N25","v":432.9},"kg/m3",null,null,"Pipe ID",{"$f":"VLOOKUP(E28,'Pipe size sch 40'!$A$5:$C$27,3,FALSE)*25.4/1000","v":0.15417800000000001},"m"]
[null,null,"Flow temperature",null,-137.68,"deg C",null,null,"Velocity",{"$f":"E15/(PI()/4*J16^2)/3600","v":1.0377841045010558},"m/s",null,null,null,"Side Calculation (Suction)"]
[null,null,"Viscocity",null,7.9279999999999993E-3,"cP",null,null,"Velocity acceptance",{"$f":"IF(E28<=2,0.9,IF(OR(E28>=3,E28<=6),1.2,IF(OR(E28>=8,E28<=18),1.5,1.8)))","v":1.2},"m/s","(max)",null,null,"f tebakan",1.5248322404264722E-2]
[null,null,null,null,{"$f":"E18*10^-3","v":7.9279999999999993E-6},"Nm2/s",null,null,"Reynold number",{"$f":"E16*J18*J16/E19","v":10102470.665993946},null,null,null,null,"f left",{"$f":"1/(P18)^0.5","v":8.0982087409396808}]
[null,null,"Vapor pressure",null,{"$f":"0.1499+0.98","v":1.1298999999999999},"bara",null,null,"Pipe DP",{"$f":"P24","v":2.3439503975642744E-2},"bar/100m",null,null,null,"f right",{"$f":"-2*LOG(P12/(3.7*J16*0.3048)+2.51/(J19*(P18)^0.5))","v":8.0945772635994722}]
[null,null,"Pump efficiency",null,0.6,null,null,null,"Pipe DP acceptance",{"$f":"IF(E28<=6,0.137,0.225)","v":0.13700000000000001},"bar/100m",null,null,null,"f left/f right",{"$f":"P19/P20","v":1.0004486308823735},"Goal seek"]
[null,null,null,null,null,null,null,null,"Static head",{"$f":"E16*9.8*E26/10^5","v":4.2424200000000002E-2},"bar",null,null,null,"psi/100 ft",{"$f":"0.000336*P18*P14^2/(J16*1000/25.4)^5/P15","v":0.10359323177075069}]
[null,null,"SUCTION",null,null,null,null,null,"Pipe friction loss",{"$f":"J20*E27/100","v":7.0318511926928231E-3},"bar",null,null,null,"psi/ft",{"$f":"P22/100","v":1.0359323177075068E-3}]
[null,null,"Pressure at Vessel (min)",null,3.9,"barg",null,null,"Fitting friction loss",{"$f":"G46","v":6.9035566516639613E-2},"bar",null,null,null,"bar/100 m",{"$f":"P23*100/14.5/0.3048","v":2.3439503975642744E-2}]
[null,null,"Pressure at Vessel (max)",null,{"$f":"1.5*E24","v":5.85},"barg",null,null,"Suction Pressure",{"$f":"E24+J22-SUM(J23:J24)","v":3.8663567822906675},"barg"]
[null,null,"Static head",null,{"$f":"VLOOKUP(E11,'Data pompa'!$B$5:$S$27,18,FALSE)/1000","v":1},"m",null,null,"Result",{"$f":"IF(AND(J17<J18,J20<J21),\"OK\",\"NOT OK\")","v":"OK"}]
[null,null,"Length",null,30,"m","assumption",null,null,null,null,null,null,null,"Side Calculation (Discharge)",null,null,null,null,"Suction",null,"Discharge"]
[null,null,"Pipe size",null,{"$f":"VLOOKUP(E11,'Data pompa'!$B$5:$R$25,16,FALSE)","v":6},"in",null,null,"Discharge Hydraulic",null,null,null,null,null,"f tebakan",1.5212479697305329E-2,null,null,null,null,null,null,"< 49 barg","> 49 barg"]
[null,null,"Schedule",null,40,null,null,null,"Pipe ID",{"$f":"VLOOKUP(E52,'Pipe size sch 40'!$A$5:$C$27,3,FALSE)*25.4/1000","v":0.15417800000000001},"m",null,null,null,"f left",{"$f":"1/(P28)^0.5","v":8.1077433781421},null,null,null,"Velocity","Pressure","Velocity","Pressure","Pressure"]
[null,null,"Fittings",null,null,null,null,null,"Velocity",{"$f":"E15/(PI()/4*J16^2)/3600","v":1.0377841045010558},"m/s",null,null,null,"f right",{"$f":"-2*LOG(P12/(3.7*J29*0.3048)+2.51/(J32*(P28)^0.5))","v":8.1089801395929211},null,null,0.5,0.9,0.13700000000000001,4.5,0.34300000000000003,0.68600000000000005]
[null,null,null,null,"Qty","K","DP",null,"Velocity acceptance",{"$f":"IF(E50<=18,4.5,6)","v":4.5},"m/s","(max)",null,null,"f left/f right",{"$f":"P29/P30","v":0.99984748249107402},"Goal seek",null,0.75,0.9,0.13700000000000001,4.5,0.34300000000000003,0.68600000000000005]
[null,null,"Elbow 90 LR",{"$f":"C32&$E$28","v":"Elbow 90 LR6"},10,{"$f":"VLOOKUP(D32,'K-value'!$D$48:$E$124,2,FALSE)","v":0.24},{"$f":"E32*F32*$J$17^2/(2*9.8)*$E$16*9.8/10^5","v":5.5947780288790171E-3},null,"Reynold number",{"$f":"E16*J31*J29/E19","v":37884264.9974773},null,null,null,null,"psi/100 ft",{"$f":"0.000336*P28*P14^2/(J29*1000/25.4)^5/P15","v":0.10334972551800403},null,null,1,0.9,0.13700000000000001,4.5,0.34300000000000003,0.68600000000000005]
[null,null,"Elbow 45 LR","Elbow 45 LR6",null,{"$f":"VLOOKUP(D33,'K-value'!$D$48:$E$124,2,FALSE)","v":0.24},0,null,"Pipe DP",{"$f":"P34","v":2.3384407077111962E-2},"bar/100m",null,null,null,"psi/ft",{"$f":"P32/100","v":1.0334972551800403E-3},null,null,1.5,0.9,0.13700000000000001,4.5,0.34300000000000003,0.68600000000000005]
[null,null,"Tee thru","Tee thru6",null,{"$f":"VLOOKUP(D34,'K-value'!$D$48:$E$124,2,FALSE)","v":0.3},0,null,"Pipe DP acceptance",{"$f":"IF(E49<=49,0.343,0.686)","v":0.68600000000000005},"bar/100m",null,null,null,"bar/100 m",{"$f":"P33*100/14.5/0.3048","v":2.3384407077111962E-2},null,null,2,0.9,0.13700000000000001,4.5,0.34300000000000003,0.68600000000000005]
[null,null,"Tee branch","Tee branch6",null,{"$f":"VLOOKUP(D35,'K-value'!$D$48:$E$124,2,FALSE)","v":0.9},0,null,"Static head",{"$f":"E15*9.8*E50/10^5","v":2.05065E-2},"bar","note 1",null,null,null,null,null,null,3,1.2,0.13700000000000001,4.5,0.34300000000000003,0.68600000000000005]
[null,null,"Ball valve","Ball valve6",1,{"$f":"VLOOKUP(D36,'K-value'!$D$48:$E$124,2,FALSE)","v":0.05},1.165578756016462E-4,null,"Line losses",{"$f":"J33*E51/100","v":7.0153221231335884E-3},"bar",null,null,null,null,null,null,null,4,1.2,0.13700000000000001,4.5,0.34300000000000003,0.68600000000000005]
[null,null,"Butterfly valve","Butterfly valve6",null,{"$f":"VLOOKUP(D37,'K-value'!$D$48:$E$124,2,FALSE)","v":0.68},0,null,"Fitting & eqp losses",{"$f":"G70+G72","v":0.3200013314532425},"bar",null,null,null,"NPSHA calculation",null,null,null,6,1.2,0.13700000000000001,4.5,0.34300000000000003,0.68600000000000005]
[null,null,"Gate valve","Gate valve6",null,{"$f":"VLOOKUP(D38,'K-value'!$D$48:$E$124,2,FALSE)","v":0.12},0,null,"Discharge Pressure",{"$f":"E49+J35+J36+J37","v":50.347523153576375},"barg",null,null,null,"HA",{"$f":"(E24+1.01)*100000/(E16*9.81)","v":115.61785262091072},"m",null,8,1.5,0.22500000000000001,4.5,0.34300000000000003,0.68600000000000005]
[null,null,"Globe valve","Globe valve6",null,{"$f":"VLOOKUP(D39,'K-value'!$D$48:$E$124,2,FALSE)","v":5.0999999999999996},0,null,"Result",{"$f":"IF(AND(J30<J31,J33<J34),\"OK\",\"NOT OK\")","v":"OK"},null,null,null,null,"HZ",{"$f":"E26","v":1},"m",null,10,1.5,0.22500000000000001,4.5,0.34300000000000003,0.68600000000000005]
[null,null,"Check valve","Check valve6",null,{"$f":"VLOOKUP(D40,'K-value'!$D$48:$E$124,2,FALSE)","v":1.5},0,null,null,null,null,null,null,null,"HF",{"$f":"SUM(J23:J24)*-1","v":-7.6067417709332438E-2},null,null,12,1.5,0.22500000000000001,4.5,0.34300000000000003,0.68600000000000005]
[null,null,"Plug valve","Plug valve6",null,{"$f":"VLOOKUP(D41,'K-value'!$D$48:$E$124,2,FALSE)","v":1.35},0,null,"Pump Data",null,null,null,null,null,"HV",0,null,null,16,1.5,0.22500000000000001,4.5,0.34300000000000003,0.68600000000000005]
[null,null,"Pipe entrance","Pipe entrance6",1,{"$f":"VLOOKUP(D42,'K-value'!$D$48:$E$124,2,FALSE)","v":0.78},1.818302859385681E-3,null,"Suction Pressure",{"$f":"J25","v":3.8663567822906675},"barg",null,null,null,"HVP",{"$f":"E20*10^5/(E16*9.8)*-1","v":-26.633383776240915},"m",null,18,1.5,0.22500000000000001,4.5,0.34300000000000003,0.68600000000000005]
[null,null,"Suction strainer","Suction strainer6",1,null,{"$f":"0.05*E43","v":0.05},null,"Discharge Pressure",{"$f":"J38","v":50.347523153576375},"barg",null,null,null,"NPSHA",{"$f":"SUM(P38:P42)","v":89.908401426960467},"m",null,20,1.8,0.22500000000000001,6,0.34300000000000003,0.68600000000000005]
[null,null,"Total, barg",null,null,null,{"$f":"SUM(G32:G43)","v":5.7529638763866346E-2},null,"Selected disc. Pressure",52,"barg"]
[null,null,"Contingency",null,null,null,0.2,null,"Differential Pressure",{"$f":"J44-J42","v":48.133643217709334},"bar"]
[null,null,"Total + Contingency",null,null,null,{"$f":"(1+G45)*G44","v":6.9035566516639613E-2},null,"Differential Head",{"$f":"J45*10^5/(E16*9.8)","v":1134.5798675687304},"m"]
[null,null,null,null,null,null,null,null,"Hydraulic Power",{"$f":"E16*9.8*J46*E15/3600000","v":93.258933734311839},"kW"]
[null,null,"DISCHARGE",null,null,null,null,null,"Pump BHP",{"$f":"J47/E21","v":155.43155622385308},"kW"]
[null,null,"Target Pressure ",null,50,"barg",null,null,"NPSHa",{"$f":"P43","v":89.908401426960467},"m"]
[null,null,"Static head",null,3,"m","note 2",null,"NPSHr",{"$f":"J49-1","v":88.908401426960467},"m"]
[null,null,"Length",null,30,"m"]
[null,null,"Pipe size",null,{"$f":"VLOOKUP(E11,'Data pompa'!$B$5:$R$25,17,FALSE)","v":6},"in",null,null,"Shut in Pressure"]
[null,null,"Schedule",null,40,null,null,null,"P shut in",{"$f":"E25+1.3*J45","v":68.423736183022129},"barg"]
[null,null,"Fittings"]
[null,null,null,null,"Qty","K","DP"]
[null,null,"Elbow 90 LR",{"$f":"C56&$E$52","v":"Elbow 90 LR6"},10,{"$f":"VLOOKUP(D56,'K-value'!$D$48:$E$124,2,FALSE)","v":0.24},{"$f":"E56*F56*$J$17^2/(2*9.8)*$E$16*9.8/10^5","v":5.5947780288790171E-3}]
[null,null,"Elbow 45 LR","Elbow 45 LR6",null,{"$f":"VLOOKUP(D57,'K-value'!$D$48:$E$124,2,FALSE)","v":0.24},0]
[null,null,"Tee thru","Tee thru6",null,{"$f":"VLOOKUP(D58,'K-value'!$D$48:$E$124,2,FALSE)","v":0.3},0]
[null,null,"Tee branch","Tee branch6",null,{"$f":"VLOOKUP(D59,'K-value'!$D$48:$E$124,2,FALSE)","v":0.9},0]
[null,null,"Ball valve","Ball valve6",5,{"$f":"VLOOKUP(D60,'K-value'!$D$48:$E$124,2,FALSE)","v":0.05},5.8278937800823106E-4]
[null,null,"Butterfly valve","Butterfly valve6",null,{"$f":"VLOOKUP(D61,'K-value'!$D$48:$E$124,2,FALSE)","v":0.68},0]
[null,null,"Gate valve","Gate valve6",null,{"$f":"VLOOKUP(D62,'K-value'!$D$48:$E$124,2,FALSE)","v":0.12},0]
[null,null,"Globe valve","Globe valve6",null,{"$f":"VLOOKUP(D63,'K-value'!$D$48:$E$124,2,FALSE)","v":5.0999999999999996},0,null,"Note:"]
[null,null,"Check valve","Check valve6",3,{"$f":"VLOOKUP(D64,'K-value'!$D$48:$E$124,2,FALSE)","v":1.5},1.0490208804148159E-2]
[null,null,"Plug valve","Plug valve6",null,{"$f":"VLOOKUP(D65,'K-value'!$D$48:$E$124,2,FALSE)","v":1.35},0,null,"1. Discharge liquid level is assumed 3 m above grade elevation"]
[null,null,"Pipe entrance","Pipe entrance6",null,{"$f":"VLOOKUP(D66,'K-value'!$D$48:$E$124,2,FALSE)","v":0.78},0]
[null,null,"Flow orifice","Flow orifice6",1,null,0.25]
[null,null,"Total, barg",null,null,null,{"$f":"SUM(G56:G67)","v":0.26666777621103543}]
[null,null,"Contingency",null,null,null,0.2]
[null,null,"Total + contingency, barg",null,null,null,{"$f":"G68*(1+G69)","v":0.3200013314532425}]
[null,null,"Pressure Loss due to Equipment"]
[null,null,"AAV",null,null,null,0]

{"sheet":"Minahasa","index":37,"n_rows":72,"n_cols":24,"rows_kept":72,"cut":false,"hidden":true,"merged":[[0,5,3,10],[26,21,26,23],[26,19,27,20],[26,18,27,18]]}
[null,null,null,null,null,"PUMP SIZING"]
[]
[]
[]
[null,null,"Project: LNG Regasification in Central Region of Indonesia"]
[]
[null,null,"Equipment Design Group",null,36,"MMSCFD"]
[null,null,"Equipment Design",null,36,"MMSCFD"]
[null,null,"Tag No:",null,"MHP-G-001A/B"]
[null,null,"Description:",null,"LNG PUMP"]
[null,null,"Location:",null,"Minahasa Peaker (HP)",null,null,null,null,null,null,null,null,null,"Pipe roughness",0.05,"mm"]
[null,null,null,null,null,null,null,null,null,null,null,null,null,null,null,{"$f":"P11/1000/3.28","v":1.5243902439024392E-5},"ft"]
[]
[null,null,"DATA",null,null,null,null,null,"RESULTS",null,null,null,null,null,"Mass flow",{"$f":"E15*E16/0.45","v":66849.526666666658},"lb/hr"]
[null,null,"Flow rate",null,{"$f":"'Data pompa'!I26","v":69.33},"m3/h",null,null,"Suction Hydraulic",null,null,null,null,null,"Rho",{"$f":"E16/16.02","v":27.084893882646689},"lb/ft3"]
[null,null,"Density",null,{"$f":"'Data pompa'!N26","v":433.9},"kg/m3",null,null,"Pipe ID",{"$f":"VLOOKUP(E28,'Pipe size sch 40'!$A$5:$C$27,3,FALSE)*25.4/1000","v":0.15417800000000001},"m"]
[null,null,"Flow temperature",null,{"$f":"'Data pompa'!M26","v":-159.54},"deg C",null,null,"Velocity",{"$f":"E15/(PI()/4*J16^2)/3600","v":1.0315350819363183},"m/s",null,null,null,"Side Calculation (Suction)"]
[null,null,"Viscocity",null,{"$f":"'Data pompa'!O26","v":0.1191},"cP",null,null,"Velocity acceptance",{"$f":"IF(E28<=2,0.9,IF(OR(E28>=3,E28<=6),1.2,IF(OR(E28>=8,E28<=18),1.5,1.8)))","v":1.2},"m/s","(max)",null,null,"f tebakan",1.6169316341677512E-2]
[null,null,null,null,{"$f":"E18*10^-3","v":1.1909999999999999E-4},"Nm2/s",null,null,"Reynold number",{"$f":"E16*J18*J16/E19","v":674033.59395466},null,null,null,null,"f left",{"$f":"1/(P18)^0.5","v":7.8641931423039546}]
[null,null,"Vapor pressure",null,{"$f":"'Data pompa'!P26","v":1.1604000000000001},"bara",null,null,"Pipe DP",{"$f":"P24","v":2.4613538287354388E-2},"bar/100m",null,null,null,"f right",{"$f":"-2*LOG(P12/(3.7*J16*0.3048)+2.51/(J19*(P18)^0.5))","v":7.8639527669669791}]
[null,null,"Pump efficiency",null,0.6,null,null,null,"Pipe DP acceptance",{"$f":"IF(E28<=6,0.137,0.225)","v":0.13700000000000001},"bar/100m",null,null,null,"f left/f right",{"$f":"P19/P20","v":1.0000305667320364},"Goal seek"]
[null,null,null,null,null,null,null,null,"Static head",{"$f":"E16*9.8*E26/10^5","v":0.1275666},"bar",null,null,null,"psi/100 ft",{"$f":"0.000336*P18*P14^2/(J16*1000/25.4)^5/P15","v":0.10878199381479144}]
[null,null,"SUCTION",null,null,null,null,null,"Pipe friction loss",{"$f":"J20*E27/100","v":7.3840614862063156E-3},"bar",null,null,null,"psi/ft",{"$f":"P22/100","v":1.0878199381479145E-3}]
[null,null,"Pressure at Vessel (min)",null,0.15,"barg",null,null,"Fitting friction loss",{"$f":"G46","v":6.8947700280693219E-2},"bar",null,null,null,"bar/100 m",{"$f":"P23*100/14.5/0.3048","v":2.4613538287354388E-2}]
[null,null,"Pressure at Vessel (max)",null,0.15,"barg",null,null,"Suction Pressure",{"$f":"E24+J22-SUM(J23:J24)","v":0.20123483823310045},"barg"]
[null,null,"Static head",null,{"$f":"1.2+1.8","v":3},"m",null,null,"Result",{"$f":"IF(AND(J17<J18,J20<J21),\"OK\",\"NOT OK\")","v":"OK"}]
[null,null,"Length",null,30,"m","assumption",null,null,null,null,null,null,null,"Side Calculation (Discharge)",null,null,null,null,"Suction",null,"Discharge"]
[null,null,"Pipe size",null,{"$f":"VLOOKUP(E11,'Data pompa'!$B$5:$R$25,16,FALSE)","v":6},"in",null,null,"Discharge Hydraulic",null,null,null,null,null,"f tebakan",1.5570829558407115E-2,null,null,null,null,null,null,"< 49 barg","> 49 barg"]
[null,null,"Schedule",null,40,null,null,null,"Pipe ID",{"$f":"VLOOKUP(E52,'Pipe size sch 40'!$A$5:$C$27,3,FALSE)*25.4/1000","v":0.15417800000000001},"m",null,null,null,"f left",{"$f":"1/(P28)^0.5","v":8.0139037958993313},null,null,null,"Velocity","Pressure","Velocity","Pressure","Pressure"]
[null,null,"Fittings",null,null,null,null,null,"Velocity",{"$f":"E15/(PI()/4*J16^2)/3600","v":1.0315350819363183},"m/s",null,null,null,"f right",{"$f":"-2*LOG(P12/(3.7*J29*0.3048)+2.51/(J32*(P28)^0.5))","v":8.0388185602472362},null,null,0.5,0.9,0.13700000000000001,4.5,0.34300000000000003,0.68600000000000005]
[null,null,null,null,"Qty","K","DP",null,"Velocity acceptance",{"$f":"IF(E50<=18,4.5,6)","v":4.5},"m/s","(max)",null,null,"f left/f right",{"$f":"P29/P30","v":0.99690069328456909},"Goal seek",null,0.75,0.9,0.13700000000000001,4.5,0.34300000000000003,0.68600000000000005]
[null,null,"Elbow 90 LR",{"$f":"C32&$E$28","v":"Elbow 90 LR6"},10,{"$f":"VLOOKUP(D32,'K-value'!$D$48:$E$124,2,FALSE)","v":0.24},{"$f":"E32*F32*$J$17^2/(2*9.8)*$E$16*9.8/10^5","v":5.5403716908317118E-3},null,"Reynold number",{"$f":"E16*J31*J29/E19","v":2527625.9773299755},null,null,null,null,"psi/100 ft",{"$f":"0.000336*P28*P14^2/(J29*1000/25.4)^5/P15","v":0.10475556596959283},null,null,1,0.9,0.13700000000000001,4.5,0.34300000000000003,0.68600000000000005]
[null,null,"Elbow 45 LR","Elbow 45 LR6",null,{"$f":"VLOOKUP(D33,'K-value'!$D$48:$E$124,2,FALSE)","v":0.24},0,null,"Pipe DP",{"$f":"P34","v":2.3702499314325463E-2},"bar/100m",null,null,null,"psi/ft",{"$f":"P32/100","v":1.0475556596959282E-3},null,null,1.5,0.9,0.13700000000000001,4.5,0.34300000000000003,0.68600000000000005]
[null,null,"Tee thru","Tee thru6",null,{"$f":"VLOOKUP(D34,'K-value'!$D$48:$E$124,2,FALSE)","v":0.3},0,null,"Pipe DP acceptance",{"$f":"IF(E49<=49,0.343,0.686)","v":0.68600000000000005},"bar/100m",null,null,null,"bar/100 m",{"$f":"P33*100/14.5/0.3048","v":2.3702499314325463E-2},null,null,2,0.9,0.13700000000000001,4.5,0.34300000000000003,0.68600000000000005]
[null,null,"Tee branch","Tee branch6",null,{"$f":"VLOOKUP(D35,'K-value'!$D$48:$E$124,2,FALSE)","v":0.9},0,null,"Static head",{"$f":"E15*9.8*E50/10^5","v":2.0383020000000002E-2},"bar","note 1",null,null,null,null,null,null,3,1.2,0.13700000000000001,4.5,0.34300000000000003,0.68600000000000005]
[null,null,"Ball valve","Ball valve6",1,{"$f":"VLOOKUP(D36,'K-value'!$D$48:$E$124,2,FALSE)","v":0.05},1.1542441022566068E-4,null,"Line losses",{"$f":"J33*E51/100","v":7.1107497942976394E-3},"bar",null,null,null,null,null,null,null,4,1.2,0.13700000000000001,4.5,0.34300000000000003,0.68600000000000005]
[null,null,"Butterfly valve","Butterfly valve6",null,{"$f":"VLOOKUP(D37,'K-value'!$D$48:$E$124,2,FALSE)","v":0.68},0,null,"Fitting & eqp losses",{"$f":"G70+G72","v":0.31994533808699416},"bar",null,null,null,"NPSHA calculation",null,null,null,6,1.2,0.13700000000000001,4.5,0.34300000000000003,0.68600000000000005]
[null,null,"Gate valve","Gate valve6",null,{"$f":"VLOOKUP(D38,'K-value'!$D$48:$E$124,2,FALSE)","v":0.12},0,null,"Discharge Pressure",{"$f":"E49+J35+J36+J37","v":50.347439107881293},"barg",null,null,null,"HA",{"$f":"(E24+1.01)*100000/(E16*9.81)","v":27.25205970362445},"m",null,8,1.5,0.22500000000000001,4.5,0.34300000000000003,0.68600000000000005]
[null,null,"Globe valve","Globe valve6",null,{"$f":"VLOOKUP(D39,'K-value'!$D$48:$E$124,2,FALSE)","v":5.0999999999999996},0,null,"Result",{"$f":"IF(AND(J30<J31,J33<J34),\"OK\",\"NOT OK\")","v":"OK"},null,null,null,null,"HZ",{"$f":"E26","v":3},"m",null,10,1.5,0.22500000000000001,4.5,0.34300000000000003,0.68600000000000005]
[null,null,"Check valve","Check valve6",null,{"$f":"VLOOKUP(D40,'K-value'!$D$48:$E$124,2,FALSE)","v":1.5},0,null,null,null,null,null,null,null,"HF",{"$f":"SUM(J23:J24)*-1","v":-7.6331761766899542E-2},null,null,12,1.5,0.22500000000000001,4.5,0.34300000000000003,0.68600000000000005]
[null,null,"Plug valve","Plug valve6",null,{"$f":"VLOOKUP(D41,'K-value'!$D$48:$E$124,2,FALSE)","v":1.35},0,null,"Pump Data",null,null,null,null,null,"HV",0,null,null,16,1.5,0.22500000000000001,4.5,0.34300000000000003,0.68600000000000005]
[null,null,"Pipe entrance","Pipe entrance6",1,{"$f":"VLOOKUP(D42,'K-value'!$D$48:$E$124,2,FALSE)","v":0.78},1.8006207995203067E-3,null,"Suction Pressure",{"$f":"J25","v":0.20123483823310045},"barg",null,null,null,"HVP",{"$f":"E20*10^5/(E16*9.8)*-1","v":-27.289274778821419},"m",null,18,1.5,0.22500000000000001,4.5,0.34300000000000003,0.68600000000000005]
[null,null,"Suction strainer","Suction strainer6",1,null,{"$f":"0.05*E43","v":0.05},null,"Discharge Pressure",{"$f":"J38","v":50.347439107881293},"barg",null,null,null,"NPSHA",{"$f":"SUM(P38:P42)","v":2.8864531630361334},"m",null,20,1.8,0.22500000000000001,6,0.34300000000000003,0.68600000000000005]
[null,null,"Total, barg",null,null,null,{"$f":"SUM(G32:G43)","v":5.7456416900577685E-2},null,"Selected disc. Pressure",52,"barg"]
[null,null,"Contingency",null,null,null,0.2,null,"Differential Pressure",{"$f":"J44-J42","v":51.798765161766902},"bar"]
[null,null,"Total + Contingency",null,null,null,{"$f":"(1+G45)*G44","v":6.8947700280693219E-2},null,"Differential Head",{"$f":"J45*10^5/(E16*9.8)","v":1218.1581658937425},"m"]
[null,null,null,null,null,null,null,null,"Hydraulic Power",{"$f":"E16*9.8*J46*E15/3600000","v":99.755788574036089},"kW"]
[null,null,"DISCHARGE",null,null,null,null,null,"Pump BHP",{"$f":"J47/E21","v":166.25964762339348},"kW"]
[null,null,"Target Pressure ",null,50,"barg",null,null,"NPSHa",{"$f":"P43","v":2.8864531630361334},"m"]
[null,null,"Static head",null,3,"m","note 2",null,"NPSHr",{"$f":"J49-1","v":1.8864531630361334},"m"]
[null,null,"Length",null,30,"m"]
[null,null,"Pipe size",null,{"$f":"VLOOKUP(E11,'Data pompa'!$B$5:$R$25,17,FALSE)","v":6},"in",null,null,"Shut in Pressure"]
[null,null,"Schedule",null,40,null,null,null,"P shut in",{"$f":"E25+1.3*J45","v":67.488394710296987},"barg"]
[null,null,"Fittings"]
[null,null,null,null,"Qty","K","DP"]
[null,null,"Elbow 90 LR",{"$f":"C56&$E$52","v":"Elbow 90 LR6"},10,{"$f":"VLOOKUP(D56,'K-value'!$D$48:$E$124,2,FALSE)","v":0.24},{"$f":"E56*F56*$J$17^2/(2*9.8)*$E$16*9.8/10^5","v":5.5403716908317118E-3}]
[null,null,"Elbow 45 LR","Elbow 45 LR6",null,{"$f":"VLOOKUP(D57,'K-value'!$D$48:$E$124,2,FALSE)","v":0.24},0]
[null,null,"Tee thru","Tee thru6",null,{"$f":"VLOOKUP(D58,'K-value'!$D$48:$E$124,2,FALSE)","v":0.3},0]
[null,null,"Tee branch","Tee branch6",null,{"$f":"VLOOKUP(D59,'K-value'!$D$48:$E$124,2,FALSE)","v":0.9},0]
[null,null,"Ball valve","Ball valve6",6,{"$f":"VLOOKUP(D60,'K-value'!$D$48:$E$124,2,FALSE)","v":0.05},6.9254646135396398E-4]
[null,null,"Butterfly valve","Butterfly valve6",null,{"$f":"VLOOKUP(D61,'K-value'!$D$48:$E$124,2,FALSE)","v":0.68},0]
[null,null,"Gate valve","Gate valve6",null,{"$f":"VLOOKUP(D62,'K-value'!$D$48:$E$124,2,FALSE)","v":0.12},0]
[null,null,"Globe valve","Globe valve6",null,{"$f":"VLOOKUP(D63,'K-value'!$D$48:$E$124,2,FALSE)","v":5.0999999999999996},0,null,"Note:"]
[null,null,"Check valve","Check valve6",3,{"$f":"VLOOKUP(D64,'K-value'!$D$48:$E$124,2,FALSE)","v":1.5},1.0388196920309461E-2]
[null,null,"Plug valve","Plug valve6",null,{"$f":"VLOOKUP(D65,'K-value'!$D$48:$E$124,2,FALSE)","v":1.35},0,null,"1. Discharge liquid level is assumed 3 m above grade elevation"]
[null,null,"Pipe entrance","Pipe entrance6",null,{"$f":"VLOOKUP(D66,'K-value'!$D$48:$E$124,2,FALSE)","v":0.78},0]
[null,null,"Flow orifice","Flow orifice6",1,null,0.25]
[null,null,"Total, barg",null,null,null,{"$f":"SUM(G56:G67)","v":0.26662111507249514}]
[null,null,"Contingency",null,null,null,0.2]
[null,null,"Total + contingency, barg",null,null,null,{"$f":"G68*(1+G69)","v":0.31994533808699416}]
[null,null,"Pressure Loss due to Equipment"]
[null,null,"AAV",null,null,null,0]

{"sheet":"Pipe size sch 40","index":38,"n_rows":27,"n_cols":4,"rows_kept":27,"cut":false,"hidden":true,"merged":[[1,1,1,2],[2,1,3,1],[2,2,3,2],[0,1,0,2]]}
["Size ","Diameter",null,"Nominal Thickness "]
["(in)","(in)",null,"(in)"]
[null,"External","Internal"]
[]
[{"$f":"1/8","v":0.125},0.41,0.27,7.0000000000000007E-2]
[0.25,0.54,0.36,0.09]
[{"$f":"3/8","v":0.375},0.68,0.49,0.09]
[0.5,0.84,0.62,0.11]
[0.75,1.05,0.82,0.11]
[1,1.32,1.05,0.13]
[1.25,1.66,1.38,0.14000000000000001]
[1.5,1.9,1.61,0.15]
[2,2.38,2.0699999999999998,0.15]
[2.5,2.88,2.4700000000000002,0.2]
[3,3.5,3.07,0.22]
[3.5,4,3.55,0.23]
[4,4.5,4.03,0.24]
[5,5.56,5.05,0.26]
[6,6.63,6.07,0.28000000000000003]
[8,8.6300000000000008,7.98,0.32]
[10,10.75,10.02,0.37]
[12,12.75,11.94,0.41]
[14,14,13.13,0.44]
[16,16,15,0.5]
[18,18,16.88,0.56000000000000005]
[20,20,18.809999999999999,0.59]
[24,24,22.63,0.69]

{"sheet":"12 - BOOSTER (G-2AB)","index":39,"n_rows":64,"n_cols":23,"rows_kept":64,"cut":false,"hidden":true,"merged":[[0,5,3,10],[27,18,29,18],[27,19,28,20],[27,21,27,22],[28,21,28,22]]}
[null,null,null,null,null,"PUMP SIZING"]
[]
[]
[]
[null,null,"Project: LNG Regasification in Central Region of Indonesia"]
[]
[null,null,"Equipment Design Group",null,"12","MMscfd"]
[null,null,"Equipment Design",null,12,"MMscfd"]
[null,null,null,null,"Booster compressor scheme"]
[null,null,"Tag No:",null,"MPP-G-002A/B"]
[null,null,"Description:",null,"LNG HP Pump"]
[null,null,"Location:",null,"Mobile PP Sultra (Kendari)",null,null,null,null,null,null,null,null,null,"Pipe roughness",0.05,"mm"]
[null,null,null,null,null,null,null,null,null,null,null,null,null,null,null,{"$f":"P12/1000/3.28","v":1.5243902439024392E-5},"ft"]
[]
[null,null,"DATA",null,null,null,null,null,"RESULTS",null,null,null,null,null,"Mass flow",{"$f":"E16*E17/0.45","v":30098.449312563658},"lb/hr"]
[null,null,"Flow rate",null,31.220421989602201,"m3/h",null,null,"Suction Hydraulic",null,null,null,null,null,"Rho",{"$f":"E17/16.02","v":27.08041741470543},"lb/ft3"]
[null,null,"Density",null,433.82828698358099,"kg/m3",null,null,"Pipe ID",{"$f":"VLOOKUP(E28,'Pipe size sch 40'!$A$5:$C$27,3,FALSE)*25.4/1000","v":0.15417800000000001},"m"]
[null,null,"Flow temperature",null,-160.01270435108,"deg C",null,null,"Velocity",{"$f":"E16/(PI()/4*J17^2)/3600","v":0.46451695593726727},"m/s",null,null,null,"Side Calculation (Suction)"]
[null,null,"Viscocity",null,0.120874358247577,"cP",null,null,"Velocity acceptance",{"$f":"IF(E28<4,0.9,IF(E28=4,1.4,IF(E28=6,1.5,IF(E28=8,1.8,1.8))))","v":1.5},"m/s","(max)",null,null,"f tebakan",1.6009855886261967E-2]
[null,null,null,null,{"$f":"E19*10^-3","v":1.20874358247577E-4},"Nm2/s",null,null,"Reynold number",{"$f":"E17*J19*J17/E20","v":830036.80764396547},null,null,null,null,"f left",{"$f":"1/(P19)^0.5","v":7.9032603490674829}]
[null,null,"Vapor pressure",null,{"$f":"0.099774825478024+1.01","v":1.109774825478024},"bara",null,null,"Pipe DP",{"$f":"P25","v":4.9412083617128445E-3},"bar/100m",null,null,null,"f right",{"$f":"-2*LOG(P13/(3.7*J17*0.3048)+2.51/(J20*(P19)^0.5))","v":7.9049021407400515}]
[null,null,"Pump efficiency",null,0.45,null,null,null,"Pipe DP acceptance",0.54,"bar/100m",null,null,null,"f left/f right",{"$f":"P20/P21","v":0.9997923071477246},"Goal seek"]
[null,null,null,null,null,null,null,null,"Static head",{"$f":"E17*9.8*E26/10^5","v":2.1257586062195469E-2},"bar",null,null,null,"psi/100 ft",{"$f":"0.000336*P19*P15^2/(J17*1000/25.4)^5/P16","v":2.1838164475426088E-2}]
[null,null,"SUCTION",null,null,null,null,null,"Pipe friction loss",{"$f":"J21*E27/100","v":7.4118125425692665E-4},"bar",null,null,null,"psi/ft",{"$f":"P23/100","v":2.1838164475426088E-4}]
[null,null,"Pressure",null,0.1,"barg",null,null,"Fitting friction loss",{"$f":"G43","v":2.34024333682662E-5},"bar",null,null,null,"bar/100 m",{"$f":"P24*100/14.5/0.3048","v":4.9412083617128445E-3}]
[null,null,"Static head",null,0.5,"m","note 1",null,"Suction Pressure",{"$f":"E25+J23-SUM(J24:J25)","v":0.12049300237457028},"bara"]
[null,null,"Length",null,15,"m","assumption",null,"Result",{"$f":"IF(AND(J18<J19,J21<J22),\"OK\",\"NOT OK\")","v":"OK"}]
[null,null,"Pipe size",null,6,"in",null,null,null,null,null,null,null,null,"Side Calculation (Discharge)",null,null,null,"Pipe Nominal Diameter (in)","Maximum velocity (m/s)",null,"Allowable Pressure Drop "]
[null,null,"Schedule",null,40,null,null,null,"Discharge Hydraulic",null,null,null,null,null,"f tebakan",1.8175147939102545E-2,null,null,null,null,null,"(bar/100 m)"]
[null,null,"Fittings",null,null,null,null,null,"Pipe ID",{"$f":"VLOOKUP(E49,'Pipe size sch 40'!$A$5:$C$27,3,FALSE)*25.4/1000","v":7.7977999999999992E-2},"m",null,null,null,"f left",{"$f":"1/(P29)^0.5","v":7.4175592272196171},null,null,null,"Pump Suction","Pump Discharge","Pump Suction","Pump Discharge"]
[null,null,null,null,"Qty","K","DP",null,"Velocity",{"$f":"E16/(PI()/4*J17^2)/3600","v":0.46451695593726727},"m/s",null,null,null,"f right",{"$f":"-2*LOG(P13/(3.7*J30*0.3048)+2.51/(J33*(P29)^0.5))","v":7.4176259466052041},null,null,"< 4",0.9,1.8,"0.23 to 0.54","0.34 to 0.68"]
[null,null,"Elbow 90 LR",{"$f":"C32&$E$28","v":"Elbow 90 LR6"},null,{"$f":"VLOOKUP(D32,'K-value'!$D$48:$E$124,2,FALSE)","v":0.24},{"$f":"E32*F32*$J$18^2/(2*9.8)*$E$17*9.8/10^5","v":0},null,"Velocity acceptance",{"$f":"IF(E28<4,1.8,IF(E28=4,2.4,IF(E28=6,3,IF(E28=8,4.3,5))))","v":3},"m/s","(max)",null,null,"f left/f right",{"$f":"P30/P31","v":0.99999100529117169},"Goal seek",null,4,1.4,2.4,"0.23 to 0.54","0.34 to 0.68"]
[null,null,"Elbow 45 LR","Elbow 45 LR6",null,{"$f":"VLOOKUP(D33,'K-value'!$D$48:$E$124,2,FALSE)","v":0.24},0,null,"Reynold number",{"$f":"E17*J32*J30/E20","v":839608.89603524667},null,null,null,null,"psi/100 ft",{"$f":"0.000336*P29*P15^2/(J30*1000/25.4)^5/P16","v":0.74913181659398387},null,null,6,1.5,3,"0.23 to 0.54","0.34 to 0.68"]
[null,null,"Tee thru","Tee thru6",null,{"$f":"VLOOKUP(D34,'K-value'!$D$48:$E$124,2,FALSE)","v":0.3},0,null,"Pipe DP",{"$f":"P35","v":0.16950217589691011},"bar/100m",null,null,null,"psi/ft",{"$f":"P33/100","v":7.4913181659398385E-3},null,null,8,1.8,4.3,"0.23 to 0.54","0.34 to 0.68"]
[null,null,"Tee branch","Tee branch6",null,{"$f":"VLOOKUP(D35,'K-value'!$D$48:$E$124,2,FALSE)","v":0.9},0,null,"Pipe DP acceptance",0.54,"bar/100m",null,null,null,"bar/100 m",{"$f":"P34*100/14.5/0.3048","v":0.16950217589691011},null,null,">8",1.8,5,"0.23 to 0.54","0.34 to 0.68"]
[null,null,"Ball valve","Ball valve6",1,{"$f":"VLOOKUP(D36,'K-value'!$D$48:$E$124,2,FALSE)","v":0.05},2.34024333682662E-5,null,"Static head",{"$f":"E16*9.8*E47/10^5","v":9.1788040649430462E-3},"bar","note 2"]
[null,null,"Butterfly valve","Butterfly valve6",null,{"$f":"VLOOKUP(D37,'K-value'!$D$48:$E$124,2,FALSE)","v":0.68},0,null,"Line losses",{"$f":"J34*E48/100","v":2.5425326384536519E-2},"bar"]
[null,null,"Gate valve","Gate valve6",null,{"$f":"VLOOKUP(D38,'K-value'!$D$48:$E$124,2,FALSE)","v":0.12},0,null,"Fitting & eqp losses",{"$f":"G64","v":8.658900346258493E-4},"bar",null,null,null,"NPSHA calculation"]
[null,null,"Globe valve","Globe valve6",null,{"$f":"VLOOKUP(D39,'K-value'!$D$48:$E$124,2,FALSE)","v":5.0999999999999996},0,null,"Discharge Pressure",{"$f":"E46+J36+J37+J38","v":36.035470020484105},"barg",null,null,null,"HA",{"$f":"(E25+1.01)*100000/(E17*9.81)","v":26.08171262448905},"m"]
[null,null,"Check valve","Check valve6",null,{"$f":"VLOOKUP(D40,'K-value'!$D$48:$E$124,2,FALSE)","v":1.5},0,null,"Result",{"$f":"IF(AND(J31<J32,J34<J35),\"OK\",\"NOT OK\")","v":"OK"},null,null,null,null,"HZ",{"$f":"E26","v":0.5},"m"]
[null,null,"Plug valve","Plug valve6",null,{"$f":"VLOOKUP(D41,'K-value'!$D$48:$E$124,2,FALSE)","v":1.35},0,null,null,null,null,null,null,null,"HF",{"$f":"SUM(J24:J25)*-1","v":-7.6458368762519289E-4}]
[null,null,"Pipe entrance","Pipe entrance6",null,{"$f":"VLOOKUP(D42,'K-value'!$D$48:$E$124,2,FALSE)","v":0.78},0,null,"Pump Data",null,null,null,null,null,"HV",0]
[null,null,"Total, barg",null,null,null,{"$f":"SUM(G32:G42)","v":2.34024333682662E-5},null,"Suction Pressure",{"$f":"J26","v":0.12049300237457028},"barg",null,null,null,"HVP",{"$f":"E21*10^5/(E17*9.8)*-1","v":-26.103030283660704},"m"]
[null,null,null,null,null,null,null,null,"Discharge Pressure",{"$f":"J39","v":36.035470020484105},"barg",null,null,null,"NPSHA",{"$f":"SUM(P39:P43)","v":0.4779177571407196},"m"]
[null,null,"DISCHARGE",null,null,null,null,null,"Differential Pressure",{"$f":"J44-J43","v":35.914977018109532},"bar"]
[null,null,"Source pressure",null,36,"barg",null,null,"Differential Head",{"$f":"J45*10^5/(E17*9.8)","v":844.75671209867039},"m"]
[null,null,"Static head",null,3,"m","note 2",null,"Hydraulic Power",{"$f":"E17*9.8*J46*E16/3600000","v":31.14668717367346},"kW"]
[null,null,"Length",null,15,"m",null,null,"Pump BHP",{"$f":"J47/E22","v":69.214860385941023},"kW"]
[null,null,"Pipe size",null,3,"in",null,null,"NPSHa",{"$f":"P44","v":0.4779177571407196},"m","note 3"]
[null,null,"Schedule",null,40]
[null,null,"Fittings",null,null,null,null,null,"Note:"]
[null,null,null,null,"Qty","K","DP",null,"1. The minimum height of tank is assumed 0,5 m (LLLL)"]
[null,null,"Elbow 90 LR",{"$f":"C53&$E$49","v":"Elbow 90 LR3"},null,{"$f":"VLOOKUP(D53,'K-value'!$D$48:$E$124,2,FALSE)","v":0.28999999999999998},{"$f":"E53*F53*$J$18^2/(2*9.8)*$E$17*9.8/10^5","v":0},null,"2. Discharge liquid level is assumed 3 m above grade elevation"]
[null,null,"Elbow 45 LR","Elbow 45 LR3",null,{"$f":"VLOOKUP(D54,'K-value'!$D$48:$E$124,2,FALSE)","v":0.28999999999999998},0,null,"3. Calculated NPSHA is without margin"]
[null,null,"Tee thru","Tee thru3",null,{"$f":"VLOOKUP(D55,'K-value'!$D$48:$E$124,2,FALSE)","v":0.36},0]
[null,null,"Tee branch","Tee branch3",null,{"$f":"VLOOKUP(D56,'K-value'!$D$48:$E$124,2,FALSE)","v":1.08},0]
[null,null,"Ball valve","Ball valve3",1,{"$f":"VLOOKUP(D57,'K-value'!$D$48:$E$124,2,FALSE)","v":0.05},2.34024333682662E-5]
[null,null,"Butterfly valve","Butterfly valve3",null,{"$f":"VLOOKUP(D58,'K-value'!$D$48:$E$124,2,FALSE)","v":0.81},0]
[null,null,"Gate valve","Gate valve3",null,{"$f":"VLOOKUP(D59,'K-value'!$D$48:$E$124,2,FALSE)","v":0.14000000000000001},0]
[null,null,"Globe valve","Globe valve3",null,{"$f":"VLOOKUP(D60,'K-value'!$D$48:$E$124,2,FALSE)","v":6.1},0]
[null,null,"Check valve","Check valve3",1,{"$f":"VLOOKUP(D61,'K-value'!$D$48:$E$124,2,FALSE)","v":1.8},8.4248760125758305E-4]
[null,null,"Plug valve","Plug valve3",null,{"$f":"VLOOKUP(D62,'K-value'!$D$48:$E$124,2,FALSE)","v":1.62},0]
[null,null,"Pipe entrance","Pipe entrance3",null,{"$f":"VLOOKUP(D63,'K-value'!$D$48:$E$124,2,FALSE)","v":0.78},0]
[null,null,"Total, barg",null,null,null,{"$f":"SUM(G53:G63)","v":8.658900346258493E-4}]

{"sheet":"12 - BOOSTER (G-1AB)","index":40,"n_rows":64,"n_cols":23,"rows_kept":64,"cut":false,"hidden":true,"merged":[[0,5,3,10],[27,18,29,18],[27,19,28,20],[27,21,27,22],[28,21,28,22]]}
[null,null,null,null,null,"PUMP SIZING"]
[]
[]
[]
[null,null,"Project: LNG Regasification in Central Region of Indonesia"]
[]
[null,null,"Equipment Design Group",null,"12","MMscfd"]
[null,null,"Equipment Design",null,12,"MMscfd"]
[null,null,null,null,"Booster compressor scheme"]
[null,null,"Tag No:",null,"MPP-G-001A/B"]
[null,null,"Description:",null,"LNG Recirculation Pump"]
[null,null,"Location:",null,"Mobile PP Sultra (Kendari)",null,null,null,null,null,null,null,null,null,"Pipe roughness",0.05,"mm"]
[null,null,null,null,null,null,null,null,null,null,null,null,null,null,null,{"$f":"P12/1000/3.28","v":1.5243902439024392E-5},"ft"]
[]
[null,null,"DATA",null,null,null,null,null,"RESULTS",null,null,null,null,null,"Mass flow",{"$f":"E16*E17/0.45","v":7506.9033533527299},"lb/hr"]
[null,null,"Flow rate",null,7.8051054974005503,"m3/h",null,null,"Suction Hydraulic",null,null,null,null,null,"Rho",{"$f":"E17/16.02","v":27.016684373275904},"lb/ft3"]
[null,null,"Density",null,432.80728365988,"kg/m3",null,null,"Pipe ID",{"$f":"VLOOKUP(E28,'Pipe size sch 40'!$A$5:$C$27,3,FALSE)*25.4/1000","v":7.7977999999999992E-2},"m"]
[null,null,"Flow temperature",null,-160.01270435108,"deg C",null,null,"Velocity",{"$f":"E16/(PI()/4*J17^2)/3600","v":0.45398573963153521},"m/s",null,null,null,"Side Calculation (Suction)"]
[null,null,"Viscocity",null,0.120878339415944,"cP",null,null,"Velocity acceptance",{"$f":"IF(E28<4,0.9,IF(E28=4,1.4,IF(E28=6,1.5,IF(E28=8,1.8,1.8))))","v":0.9},"m/s","(max)",null,null,"f tebakan",1.917343244733961E-2]
[null,null,null,null,{"$f":"E19*10^-3","v":1.20878339415944E-4},"Nm2/s",null,null,"Reynold number",{"$f":"E17*J19*J17/E20","v":251281.59333979627},null,null,null,null,"f left",{"$f":"1/(P19)^0.5","v":7.221876646306379}]
[null,null,"Vapor pressure",null,{"$f":"0.0996296685398177+1.01","v":1.1096296685398177},"bara",null,null,"Pipe DP",{"$f":"P25","v":1.1149461775763246E-2},"bar/100m",null,null,null,"f right",{"$f":"-2*LOG(P13/(3.7*J17*0.3048)+2.51/(J20*(P19)^0.5))","v":7.2199632967981522}]
[null,null,"Pump efficiency",null,0.45,null,null,null,"Pipe DP acceptance",0.54,"bar/100m",null,null,null,"f left/f right",{"$f":"P20/P21","v":1.0002650082042766},"Goal seek"]
[null,null,null,null,null,null,null,null,"Static head",{"$f":"E17*9.8*E26/10^5","v":2.1207556899334123E-2},"bar",null,null,null,"psi/100 ft",{"$f":"0.000336*P19*P15^2/(J17*1000/25.4)^5/P16","v":4.9276161264163246E-2}]
[null,null,"SUCTION",null,null,null,null,null,"Pipe friction loss",{"$f":"J21*E27/100","v":1.6724192663644867E-3},"bar",null,null,null,"psi/ft",{"$f":"P23/100","v":4.927616126416325E-4}]
[null,null,"Pressure",null,9.9686573238444404E-2,"barg",null,null,"Fitting friction loss",{"$f":"G43","v":2.2300725499679667E-5},"bar",null,null,null,"bar/100 m",{"$f":"P24*100/14.5/0.3048","v":1.1149461775763246E-2}]
[null,null,"Static head",null,0.5,"m","note 1",null,"Suction Pressure",{"$f":"E25+J23-SUM(J24:J25)","v":0.11919941014591436},"bara"]
[null,null,"Length",null,15,"m","assumption",null,"Result",{"$f":"IF(AND(J18<J19,J21<J22),\"OK\",\"NOT OK\")","v":"OK"}]
[null,null,"Pipe size",null,3,"in",null,null,null,null,null,null,null,null,"Side Calculation (Discharge)",null,null,null,"Pipe Nominal Diameter (in)","Maximum velocity (m/s)",null,"Allowable Pressure Drop "]
[null,null,"Schedule",null,40,null,null,null,"Discharge Hydraulic",null,null,null,null,null,"f tebakan",2.0281476124511335E-2,null,null,null,null,null,"(bar/100 m)"]
[null,null,"Fittings",null,null,null,null,null,"Pipe ID",{"$f":"VLOOKUP(E49,'Pipe size sch 40'!$A$5:$C$27,3,FALSE)*25.4/1000","v":5.2577999999999993E-2},"m",null,null,null,"f left",{"$f":"1/(P29)^0.5","v":7.0218285255939357},null,null,null,"Pump Suction","Pump Discharge","Pump Suction","Pump Discharge"]
[null,null,null,null,"Qty","K","DP",null,"Velocity",{"$f":"E16/(PI()/4*J17^2)/3600","v":0.45398573963153521},"m/s",null,null,null,"f right",{"$f":"-2*LOG(P13/(3.7*J30*0.3048)+2.51/(J33*(P29)^0.5))","v":7.0198133849526831},null,null,"< 4",0.9,1.8,"0.23 to 0.54","0.34 to 0.68"]
[null,null,"Elbow 90 LR",{"$f":"C32&$E$28","v":"Elbow 90 LR3"},null,{"$f":"VLOOKUP(D32,'K-value'!$D$48:$E$124,2,FALSE)","v":0.28999999999999998},{"$f":"E32*F32*$J$18^2/(2*9.8)*$E$17*9.8/10^5","v":0},null,"Velocity acceptance",{"$f":"IF(E28<4,1.8,IF(E28=4,2.4,IF(E28=6,3,IF(E28=8,4.3,5))))","v":1.8},"m/s","(max)",null,null,"f left/f right",{"$f":"P30/P31","v":1.0002870647025421},"Goal seek",null,4,1.4,2.4,"0.23 to 0.54","0.34 to 0.68"]
[null,null,"Elbow 45 LR","Elbow 45 LR3",null,{"$f":"VLOOKUP(D33,'K-value'!$D$48:$E$124,2,FALSE)","v":0.28999999999999998},0,null,"Reynold number",{"$f":"E17*J32*J30/E20","v":338861.82294031157},null,null,null,null,"psi/100 ft",{"$f":"0.000336*P29*P15^2/(J30*1000/25.4)^5/P16","v":0.3740043994404334},null,null,6,1.5,3,"0.23 to 0.54","0.34 to 0.68"]
[null,null,"Tee thru","Tee thru3",null,{"$f":"VLOOKUP(D34,'K-value'!$D$48:$E$124,2,FALSE)","v":0.36},0,null,"Pipe DP",{"$f":"P35","v":8.462403824790328E-2},"bar/100m",null,null,null,"psi/ft",{"$f":"P33/100","v":3.7400439944043338E-3},null,null,8,1.8,4.3,"0.23 to 0.54","0.34 to 0.68"]
[null,null,"Tee branch","Tee branch3",null,{"$f":"VLOOKUP(D35,'K-value'!$D$48:$E$124,2,FALSE)","v":1.08},0,null,"Pipe DP acceptance",0.54,"bar/100m",null,null,null,"bar/100 m",{"$f":"P34*100/14.5/0.3048","v":8.462403824790328E-2},null,null,">8",1.8,5,"0.23 to 0.54","0.34 to 0.68"]
[null,null,"Ball valve","Ball valve3",1,{"$f":"VLOOKUP(D36,'K-value'!$D$48:$E$124,2,FALSE)","v":0.05},2.2300725499679667E-5,null,"Static head",{"$f":"E16*9.8*E47/10^5","v":1.2238405419924063E-2},"bar","note 2"]
[null,null,"Butterfly valve","Butterfly valve3",null,{"$f":"VLOOKUP(D37,'K-value'!$D$48:$E$124,2,FALSE)","v":0.81},0,null,"Line losses",{"$f":"J34*E48/100","v":4.231201912395164E-2},"bar"]
[null,null,"Gate valve","Gate valve3",null,{"$f":"VLOOKUP(D38,'K-value'!$D$48:$E$124,2,FALSE)","v":0.14000000000000001},0,null,"Fitting & eqp losses",{"$f":"G64","v":8.7418843958744297E-4},"bar",null,null,null,"NPSHA calculation"]
[null,null,"Globe valve","Globe valve3",null,{"$f":"VLOOKUP(D39,'K-value'!$D$48:$E$124,2,FALSE)","v":6.1},0,null,"Discharge Pressure",{"$f":"E46+J36+J37+J38","v":0.21542461298346316},"barg",null,null,null,"HA",{"$f":"(E25+1.01)*100000/(E17*9.81)","v":26.135858069995592},"m"]
[null,null,"Check valve","Check valve3",null,{"$f":"VLOOKUP(D40,'K-value'!$D$48:$E$124,2,FALSE)","v":1.8},0,null,"Result",{"$f":"IF(AND(J31<J32,J34<J35),\"OK\",\"NOT OK\")","v":"OK"},null,null,null,null,"HZ",{"$f":"E26","v":0.5},"m"]
[null,null,"Plug valve","Plug valve3",null,{"$f":"VLOOKUP(D41,'K-value'!$D$48:$E$124,2,FALSE)","v":1.62},0,null,null,null,null,null,null,null,"HF",{"$f":"SUM(J24:J25)*-1","v":-1.6947199918641665E-3}]
[null,null,"Pipe entrance","Pipe entrance3",null,{"$f":"VLOOKUP(D42,'K-value'!$D$48:$E$124,2,FALSE)","v":0.78},0,null,"Pump Data",null,null,null,null,null,"HV",0]
[null,null,"Total, barg",null,null,null,{"$f":"SUM(G32:G42)","v":2.2300725499679667E-5},null,"Suction Pressure",{"$f":"J26","v":0.11919941014591436},"barg",null,null,null,"HVP",{"$f":"E21*10^5/(E17*9.8)*-1","v":-26.16118569920371},"m"]
[null,null,null,null,null,null,null,null,"Discharge Pressure",{"$f":"J39","v":0.21542461298346316},"barg",null,null,null,"NPSHA",{"$f":"SUM(P39:P43)","v":0.47297765080001852},"m"]
[null,null,"DISCHARGE",null,null,null,null,null,"Differential Pressure",{"$f":"J44-J43","v":9.6225202837548804E-2},"bar"]
[null,null,"Source pressure",null,0.16,"barg",null,null,"Differential Head",{"$f":"J45*10^5/(E17*9.8)","v":2.2686536524291983},"m"]
[null,null,"Static head",null,16,"m","note 2",null,"Hydraulic Power",{"$f":"E17*9.8*J46*E16/3600000","v":2.0862440545995422E-2},"kW"]
[null,null,"Length",null,50,"m",null,null,"Pump BHP",{"$f":"J47/E22","v":4.6360978991100935E-2},"kW"]
[null,null,"Pipe size",null,2,"in",null,null,"NPSHa",{"$f":"P44","v":0.47297765080001852},"m","note 3"]
[null,null,"Schedule",null,40]
[null,null,"Fittings",null,null,null,null,null,"Note:"]
[null,null,null,null,"Qty","K","DP",null,"1. The minimum height of tank is assumed 0,5 m (LLLL)"]
[null,null,"Elbow 90 LR",{"$f":"C53&$E$49","v":"Elbow 90 LR2"},null,{"$f":"VLOOKUP(D53,'K-value'!$D$48:$E$124,2,FALSE)","v":0.3},{"$f":"E53*F53*$J$18^2/(2*9.8)*$E$17*9.8/10^5","v":0},null,"2. Discharge liquid level is HHLL of tank "]
[null,null,"Elbow 45 LR","Elbow 45 LR2",null,{"$f":"VLOOKUP(D54,'K-value'!$D$48:$E$124,2,FALSE)","v":0.3},0,null,"3. Calculated NPSHA is without margin"]
[null,null,"Tee thru","Tee thru2",null,{"$f":"VLOOKUP(D55,'K-value'!$D$48:$E$124,2,FALSE)","v":0.38},0]
[null,null,"Tee branch","Tee branch2",null,{"$f":"VLOOKUP(D56,'K-value'!$D$48:$E$124,2,FALSE)","v":1.1399999999999999},0]
[null,null,"Ball valve","Ball valve2",1,{"$f":"VLOOKUP(D57,'K-value'!$D$48:$E$124,2,FALSE)","v":0.06},2.6760870599615597E-5]
[null,null,"Butterfly valve","Butterfly valve2",null,{"$f":"VLOOKUP(D58,'K-value'!$D$48:$E$124,2,FALSE)","v":0.86},0]
[null,null,"Gate valve","Gate valve2",null,{"$f":"VLOOKUP(D59,'K-value'!$D$48:$E$124,2,FALSE)","v":0.15},0]
[null,null,"Globe valve","Globe valve2",null,{"$f":"VLOOKUP(D60,'K-value'!$D$48:$E$124,2,FALSE)","v":6.5},0]
[null,null,"Check valve","Check valve2",1,{"$f":"VLOOKUP(D61,'K-value'!$D$48:$E$124,2,FALSE)","v":1.9},8.4742756898782733E-4]
[null,null,"Plug valve","Plug valve2",null,{"$f":"VLOOKUP(D62,'K-value'!$D$48:$E$124,2,FALSE)","v":1.71},0]
[null,null,"Pipe entrance","Pipe entrance2",null,{"$f":"VLOOKUP(D63,'K-value'!$D$48:$E$124,2,FALSE)","v":0.78},0]
[null,null,"Total, barg",null,null,null,{"$f":"SUM(G53:G63)","v":8.7418843958744297E-4}]

{"sheet":"12 - VIT (G-1AB)","index":41,"n_rows":64,"n_cols":23,"rows_kept":64,"cut":false,"hidden":true,"merged":[[0,5,3,10],[27,18,29,18],[27,19,28,20],[27,21,27,22],[28,21,28,22]]}
[null,null,null,null,null,"PUMP SIZING"]
[]
[]
[]
[null,null,"Project: LNG Regasification in Central Region of Indonesia"]
[]
[null,null,"Equipment Design Group",null,"12","MMscfd"]
[null,null,"Equipment Design",null,12,"MMscfd"]
[null,null,null,null,"Recondensing Scheme"]
[null,null,"Tag No:",null,"MPP-G-001A/B"]
[null,null,"Description:",null,"LNG LP Pump"]
[null,null,"Location:",null,"Mobile PP Sultra (Kendari)",null,null,null,null,null,null,null,null,null,"Pipe roughness",0.05,"mm"]
[null,null,null,null,null,null,null,null,null,null,null,null,null,null,null,{"$f":"P12/1000/3.28","v":1.5243902439024392E-5},"ft"]
[]
[null,null,"DATA",null,null,null,null,null,"RESULTS",null,null,null,null,null,"Mass flow",{"$f":"E16*E17/0.45","v":26488.577384858439},"lb/hr"]
[null,null,"Flow rate",null,27.3784632095911,"m3/h",null,null,"Suction Hydraulic",null,null,null,null,null,"Rho",{"$f":"E17/16.02","v":27.176878292984956},"lb/ft3"]
[null,null,"Density",null,435.373590253619,"kg/m3",null,null,"Pipe ID",{"$f":"VLOOKUP(E28,'Pipe size sch 40'!$A$5:$C$27,3,FALSE)*25.4/1000","v":0.25450799999999996},"m"]
[null,null,"Flow temperature",null,-160.00962868835401,"deg C",null,null,"Velocity",{"$f":"E16/(PI()/4*J17^2)/3600","v":0.14949057367244639},"m/s",null,null,null,"Side Calculation (Suction)"]
[null,null,"Viscocity",null,0.120868651018031,"cP",null,null,"Velocity acceptance",{"$f":"IF(E28<4,0.9,IF(E28=4,1.4,IF(E28=6,1.5,IF(E28=8,1.8,1.8))))","v":1.8},"m/s","(max)",null,null,"f tebakan",1.4300938014472428E-2]
[null,null,null,null,{"$f":"E19*10^-3","v":1.20868651018031E-4},"Nm2/s",null,null,"Reynold number",{"$f":"E17*J19*J17/E20","v":1650145.9178619336},null,null,null,null,"f left",{"$f":"1/(P19)^0.5","v":8.3621458453437008}]
[null,null,"Vapor pressure",null,{"$f":"0.100035816603761+1.01","v":1.1100358166037609},"bara",null,null,"Pipe DP",{"$f":"P25","v":2.7790728305543286E-4},"bar/100m",null,null,null,"f right",{"$f":"-2*LOG(P13/(3.7*J17*0.3048)+2.51/(J20*(P19)^0.5))","v":8.363156447881023}]
[null,null,"Pump efficiency",null,0.45,null,null,null,"Pipe DP acceptance",0.54,"bar/100m",null,null,null,"f left/f right",{"$f":"P20/P21","v":0.9998791601539897},"Goal seek"]
[null,null,null,null,null,null,null,null,"Static head",{"$f":"E17*9.8*E26/10^5","v":2.1333305922427336E-2},"bar",null,null,null,"psi/100 ft",{"$f":"0.000336*P19*P15^2/(J17*1000/25.4)^5/P16","v":1.2282390281917912E-3}]
[null,null,"SUCTION",null,null,null,null,null,"Pipe friction loss",{"$f":"J21*E27/100","v":4.1686092458314924E-5},"bar",null,null,null,"psi/ft",{"$f":"P23/100","v":1.2282390281917912E-5}]
[null,null,"Pressure",null,5,"barg",null,null,"Fitting friction loss",{"$f":"G43","v":1.9458963072008892E-6},"bar",null,null,null,"bar/100 m",{"$f":"P24*100/14.5/0.3048","v":2.7790728305543286E-4}]
[null,null,"Static head",null,0.5,"m","note 1",null,"Suction Pressure",{"$f":"E25+J23-SUM(J24:J25)","v":5.0212896739336621},"bara"]
[null,null,"Length",null,15,"m","assumption",null,"Result",{"$f":"IF(AND(J18<J19,J21<J22),\"OK\",\"NOT OK\")","v":"OK"}]
[null,null,"Pipe size",null,10,"in",null,null,null,null,null,null,null,null,"Side Calculation (Discharge)",null,null,null,"Pipe Nominal Diameter (in)","Maximum velocity (m/s)",null,"Allowable Pressure Drop "]
[null,null,"Schedule",null,40,null,null,null,"Discharge Hydraulic",null,null,null,null,null,"f tebakan",1.6908521725957658E-2,null,null,null,null,null,"(bar/100 m)"]
[null,null,"Fittings",null,null,null,null,null,"Pipe ID",{"$f":"VLOOKUP(E49,'Pipe size sch 40'!$A$5:$C$27,3,FALSE)*25.4/1000","v":0.10236199999999999},"m",null,null,null,"f left",{"$f":"1/(P29)^0.5","v":7.6903690249115835},null,null,null,"Pump Suction","Pump Discharge","Pump Suction","Pump Discharge"]
[null,null,null,null,"Qty","K","DP",null,"Velocity",{"$f":"E16/(PI()/4*J17^2)/3600","v":0.14949057367244639},"m/s",null,null,null,"f right",{"$f":"-2*LOG(P13/(3.7*J30*0.3048)+2.51/(J33*(P29)^0.5))","v":7.6922415955800449},null,null,"< 4",0.9,1.8,"0.23 to 0.54","0.34 to 0.68"]
[null,null,"Elbow 90 LR",{"$f":"C32&$E$28","v":"Elbow 90 LR10"},null,{"$f":"VLOOKUP(D32,'K-value'!$D$48:$E$124,2,FALSE)","v":0.22},{"$f":"E32*F32*$J$18^2/(2*9.8)*$E$17*9.8/10^5","v":0},null,"Velocity acceptance",{"$f":"IF(E28<4,1.8,IF(E28=4,2.4,IF(E28=6,3,IF(E28=8,4.3,5))))","v":5},"m/s","(max)",null,null,"f left/f right",{"$f":"P30/P31","v":0.99975656372135557},"Goal seek",null,4,1.4,2.4,"0.23 to 0.54","0.34 to 0.68"]
[null,null,"Elbow 45 LR","Elbow 45 LR10",null,{"$f":"VLOOKUP(D33,'K-value'!$D$48:$E$124,2,FALSE)","v":0.22},0,null,"Reynold number",{"$f":"E17*J32*J30/E20","v":1843559.5611509185},null,null,null,null,"psi/100 ft",{"$f":"0.000336*P29*P15^2/(J30*1000/25.4)^5/P16","v":0.13798675000439997},null,null,6,1.5,3,"0.23 to 0.54","0.34 to 0.68"]
[null,null,"Tee thru","Tee thru10",null,{"$f":"VLOOKUP(D34,'K-value'!$D$48:$E$124,2,FALSE)","v":0.28000000000000003},0,null,"Pipe DP",{"$f":"P35","v":3.1221547199837083E-2},"bar/100m",null,null,null,"psi/ft",{"$f":"P33/100","v":1.3798675000439998E-3},null,null,8,1.8,4.3,"0.23 to 0.54","0.34 to 0.68"]
[null,null,"Tee branch","Tee branch10",null,{"$f":"VLOOKUP(D35,'K-value'!$D$48:$E$124,2,FALSE)","v":0.84},0,null,"Pipe DP acceptance",0.54,"bar/100m",null,null,null,"bar/100 m",{"$f":"P34*100/14.5/0.3048","v":3.1221547199837083E-2},null,null,">8",1.8,5,"0.23 to 0.54","0.34 to 0.68"]
[null,null,"Ball valve","Ball valve10",1,{"$f":"VLOOKUP(D36,'K-value'!$D$48:$E$124,2,FALSE)","v":0.04},1.9458963072008892E-6,null,"Static head",{"$f":"E16*9.8*E47/10^5","v":1.0732357578159712E-2},"bar","note 2"]
[null,null,"Butterfly valve","Butterfly valve10",null,{"$f":"VLOOKUP(D37,'K-value'!$D$48:$E$124,2,FALSE)","v":0.63},0,null,"Line losses",{"$f":"J34*E48/100","v":6.2443094399674166E-3},"bar"]
[null,null,"Gate valve","Gate valve10",null,{"$f":"VLOOKUP(D38,'K-value'!$D$48:$E$124,2,FALSE)","v":0.11},0,null,"Fitting & eqp losses",{"$f":"G64","v":8.5132963440038886E-5},"bar",null,null,null,"NPSHA calculation"]
[null,null,"Globe valve","Globe valve10",null,{"$f":"VLOOKUP(D39,'K-value'!$D$48:$E$124,2,FALSE)","v":4.8},0,null,"Discharge Pressure",{"$f":"E46+J36+J37+J38","v":6.0170617999815672},"barg",null,null,null,"HA",{"$f":"(E25+1.01)*100000/(E17*9.81)","v":140.7159682657821},"m"]
[null,null,"Check valve","Check valve10",null,{"$f":"VLOOKUP(D40,'K-value'!$D$48:$E$124,2,FALSE)","v":1.4},0,null,"Result",{"$f":"IF(AND(J31<J32,J34<J35),\"OK\",\"NOT OK\")","v":"OK"},null,null,null,null,"HZ",{"$f":"E26","v":0.5},"m"]
[null,null,"Plug valve","Plug valve10",null,{"$f":"VLOOKUP(D41,'K-value'!$D$48:$E$124,2,FALSE)","v":1.26},0,null,null,null,null,null,null,null,"HF",{"$f":"SUM(J24:J25)*-1","v":-4.363198876551581E-5}]
[null,null,"Pipe entrance","Pipe entrance10",null,{"$f":"VLOOKUP(D42,'K-value'!$D$48:$E$124,2,FALSE)","v":0.78},0,null,"Pump Data",null,null,null,null,null,"HV",0]
[null,null,"Total, barg",null,null,null,{"$f":"SUM(G32:G42)","v":1.9458963072008892E-6},null,"Suction Pressure",{"$f":"J26","v":5.0212896739336621},"barg",null,null,null,"HVP",{"$f":"E21*10^5/(E17*9.8)*-1","v":-26.016497879890231},"m"]
[null,null,null,null,null,null,null,null,"Discharge Pressure",{"$f":"J39","v":6.0170617999815672},"barg",null,null,null,"NPSHA",{"$f":"SUM(P39:P43)","v":115.19942675390308},"m"]
[null,null,"DISCHARGE",null,null,null,null,null,"Differential Pressure",{"$f":"J44-J43","v":0.9957721260479051},"bar"]
[null,null,"Source pressure",null,6,"barg",null,null,"Differential Head",{"$f":"J45*10^5/(E17*9.8)","v":23.338439191486657},"m"]
[null,null,"Static head",null,4,"m","note 2",null,"Hydraulic Power",{"$f":"E17*9.8*J46*E16/3600000","v":0.75729751439274662},"kW"]
[null,null,"Length",null,20,"m",null,null,"Pump BHP",{"$f":"J47/E22","v":1.6828833653172146},"kW"]
[null,null,"Pipe size",null,4,"in",null,null,"NPSHa",{"$f":"P44","v":115.19942675390308},"m","note 3"]
[null,null,"Schedule",null,40]
[null,null,"Fittings",null,null,null,null,null,"Note:"]
[null,null,null,null,"Qty","K","DP",null,"1. The minimum height of tank is assumed 0,5 m (LLLL)"]
[null,null,"Elbow 90 LR",{"$f":"C53&$E$49","v":"Elbow 90 LR4"},null,{"$f":"VLOOKUP(D53,'K-value'!$D$48:$E$124,2,FALSE)","v":0.27},{"$f":"E53*F53*$J$18^2/(2*9.8)*$E$17*9.8/10^5","v":0},null,"2. Discharge liquid level is assumed 4 m"]
[null,null,"Elbow 45 LR","Elbow 45 LR4",null,{"$f":"VLOOKUP(D54,'K-value'!$D$48:$E$124,2,FALSE)","v":0.27},0,null,"3. Calculated NPSHA is without margin"]
[null,null,"Tee thru","Tee thru4",null,{"$f":"VLOOKUP(D55,'K-value'!$D$48:$E$124,2,FALSE)","v":0.34},0]
[null,null,"Tee branch","Tee branch4",null,{"$f":"VLOOKUP(D56,'K-value'!$D$48:$E$124,2,FALSE)","v":1.02},0]
[null,null,"Ball valve","Ball valve4",1,{"$f":"VLOOKUP(D57,'K-value'!$D$48:$E$124,2,FALSE)","v":0.05},2.4323703840011117E-6]
[null,null,"Butterfly valve","Butterfly valve4",null,{"$f":"VLOOKUP(D58,'K-value'!$D$48:$E$124,2,FALSE)","v":0.77},0]
[null,null,"Gate valve","Gate valve4",null,{"$f":"VLOOKUP(D59,'K-value'!$D$48:$E$124,2,FALSE)","v":0.14000000000000001},0]
[null,null,"Globe valve","Globe valve4",null,{"$f":"VLOOKUP(D60,'K-value'!$D$48:$E$124,2,FALSE)","v":5.8},0]
[null,null,"Check valve","Check valve4",1,{"$f":"VLOOKUP(D61,'K-value'!$D$48:$E$124,2,FALSE)","v":1.7},8.2700593056037768E-5]
[null,null,"Plug valve","Plug valve4",null,{"$f":"VLOOKUP(D62,'K-value'!$D$48:$E$124,2,FALSE)","v":1.53},0]
[null,null,"Pipe entrance","Pipe entrance4",null,{"$f":"VLOOKUP(D63,'K-value'!$D$48:$E$124,2,FALSE)","v":0.78},0]
[null,null,"Total, barg",null,null,null,{"$f":"SUM(G53:G63)","v":8.5132963440038886E-5}]

{"sheet":"33.6 - BOOSTER (G-2AB)","index":42,"n_rows":64,"n_cols":23,"rows_kept":64,"cut":false,"hidden":true,"merged":[[0,5,3,10],[27,18,29,18],[27,19,28,20],[27,21,27,22],[28,21,28,22]]}
[null,null,null,null,null,"PUMP SIZING"]
[]
[]
[]
[null,null,"Project: LNG Regasification in Central Region of Indonesia"]
[]
[null,null,"Equipment Design Group",null,"> 30","MMscfd"]
[null,null,"Equipment Design",null,33.6,"MMscfd"]
[null,null,null,null,"Booster compressor scheme"]
[null,null,"Tag No:",null,"KPK-G-002A/B"]
[null,null,"Description:",null,"LNG HP Pump"]
[null,null,"Location:",null,"Kalsel Peaker 1",null,null,null,null,null,null,null,null,null,"Pipe roughness",0.05,"mm"]
[null,null,null,null,null,null,null,null,null,null,null,null,null,null,null,{"$f":"P12/1000/3.28","v":1.5243902439024392E-5},"ft"]
[]
[null,null,"DATA",null,null,null,null,null,"RESULTS",null,null,null,null,null,"Mass flow",{"$f":"E16*E17/0.45","v":59118.705560308743},"lb/hr"]
[null,null,"Flow rate",null,61.3856404243027,"m3/h",null,null,"Suction Hydraulic",null,null,null,null,null,"Rho",{"$f":"E17/16.02","v":27.052544946333022},"lb/ft3"]
[null,null,"Density",null,433.38177004025499,"kg/m3",null,null,"Pipe ID",{"$f":"VLOOKUP(E28,'Pipe size sch 40'!$A$5:$C$27,3,FALSE)*25.4/1000","v":0.20269200000000001},"m"]
[null,null,"Flow temperature",null,-160.013524783706,"deg C",null,null,"Velocity",{"$f":"E16/(PI()/4*J17^2)/3600","v":0.52844670345214717},"m/s",null,null,null,"Side Calculation (Suction)"]
[null,null,"Viscocity",null,0.120875434621861,"cP",null,null,"Velocity acceptance",{"$f":"IF(E28<4,0.9,IF(E28=4,1.4,IF(E28=6,1.5,IF(E28=8,1.8,1.8))))","v":1.8},"m/s","(max)",null,null,"f tebakan",1.6009855886261967E-2]
[null,null,null,null,{"$f":"E19*10^-3","v":1.20875434621861E-4},"Nm2/s",null,null,"Reynold number",{"$f":"E17*J19*J17/E20","v":1308102.2824368188},null,null,null,null,"f left",{"$f":"1/(P19)^0.5","v":7.9032603490674829}]
[null,null,"Vapor pressure",null,{"$f":"0.0997115587056496+1.01","v":1.1097115587056496},"bara",null,null,"Pipe DP",{"$f":"P25","v":4.8592694735331565E-3},"bar/100m",null,null,null,"f right",{"$f":"-2*LOG(P13/(3.7*J17*0.3048)+2.51/(J20*(P19)^0.5))","v":8.1739401847980222}]
[null,null,"Pump efficiency",null,0.45,null,null,null,"Pipe DP acceptance",0.54,"bar/100m",null,null,null,"f left/f right",{"$f":"P20/P21","v":0.96688502367145379},"Goal seek"]
[null,null,null,null,null,null,null,null,"Static head",{"$f":"E17*9.8*E26/10^5","v":2.1235706731972497E-2},"bar",null,null,null,"psi/100 ft",{"$f":"0.000336*P19*P15^2/(J17*1000/25.4)^5/P16","v":2.1476027365227142E-2}]
[null,null,"SUCTION",null,null,null,null,null,"Pipe friction loss",{"$f":"J21*E27/100","v":7.2889042102997352E-4},"bar",null,null,null,"psi/ft",{"$f":"P23/100","v":2.1476027365227143E-4}]
[null,null,"Pressure",null,9.9564877351548703E-2,"barg",null,null,"Fitting friction loss",{"$f":"G43","v":2.420488484116664E-5},"bar",null,null,null,"bar/100 m",{"$f":"P24*100/14.5/0.3048","v":4.8592694735331565E-3}]
[null,null,"Static head",null,0.5,"m","note 1",null,"Suction Pressure",{"$f":"E25+J23-SUM(J24:J25)","v":0.12004748877765006},"bara"]
[null,null,"Length",null,15,"m","assumption",null,"Result",{"$f":"IF(AND(J18<J19,J21<J22),\"OK\",\"NOT OK\")","v":"OK"}]
[null,null,"Pipe size",null,8,"in",null,null,null,null,null,null,null,null,"Side Calculation (Discharge)",null,null,null,"Pipe Nominal Diameter (in)","Maximum velocity (m/s)",null,"Allowable Pressure Drop "]
[null,null,"Schedule",null,40,null,null,null,"Discharge Hydraulic",null,null,null,null,null,"f tebakan",1.8175147939102545E-2,null,null,null,null,null,"(bar/100 m)"]
[null,null,"Fittings",null,null,null,null,null,"Pipe ID",{"$f":"VLOOKUP(E49,'Pipe size sch 40'!$A$5:$C$27,3,FALSE)*25.4/1000","v":0.10236199999999999},"m",null,null,null,"f left",{"$f":"1/(P29)^0.5","v":7.4175592272196171},null,null,null,"Pump Suction","Pump Discharge","Pump Suction","Pump Discharge"]
[null,null,null,null,"Qty","K","DP",null,"Velocity",{"$f":"E16/(PI()/4*J17^2)/3600","v":0.52844670345214717},"m/s",null,null,null,"f right",{"$f":"-2*LOG(P13/(3.7*J30*0.3048)+2.51/(J33*(P29)^0.5))","v":7.6841903182258573},null,null,"< 4",0.9,1.8,"0.23 to 0.54","0.34 to 0.68"]
[null,null,"Elbow 90 LR",{"$f":"C32&$E$28","v":"Elbow 90 LR8"},null,{"$f":"VLOOKUP(D32,'K-value'!$D$48:$E$124,2,FALSE)","v":0.22},{"$f":"E32*F32*$J$18^2/(2*9.8)*$E$17*9.8/10^5","v":0},null,"Velocity acceptance",{"$f":"IF(E28<4,1.8,IF(E28=4,2.4,IF(E28=6,3,IF(E28=8,4.3,5))))","v":4.3},"m/s","(max)",null,null,"f left/f right",{"$f":"P30/P31","v":0.96530134211097984},"Goal seek",null,4,1.4,2.4,"0.23 to 0.54","0.34 to 0.68"]
[null,null,"Elbow 45 LR","Elbow 45 LR8",null,{"$f":"VLOOKUP(D33,'K-value'!$D$48:$E$124,2,FALSE)","v":0.22},0,null,"Reynold number",{"$f":"E17*J32*J30/E20","v":1578119.2183477886},null,null,null,null,"psi/100 ft",{"$f":"0.000336*P29*P15^2/(J30*1000/25.4)^5/P16","v":0.74222180116590575},null,null,6,1.5,3,"0.23 to 0.54","0.34 to 0.68"]
[null,null,"Tee thru","Tee thru8",null,{"$f":"VLOOKUP(D34,'K-value'!$D$48:$E$124,2,FALSE)","v":0.28000000000000003},0,null,"Pipe DP",{"$f":"P35","v":0.16793868249748975},"bar/100m",null,null,null,"psi/ft",{"$f":"P33/100","v":7.4222180116590578E-3},null,null,8,1.8,4.3,"0.23 to 0.54","0.34 to 0.68"]
[null,null,"Tee branch","Tee branch8",null,{"$f":"VLOOKUP(D35,'K-value'!$D$48:$E$124,2,FALSE)","v":0.84},0,null,"Pipe DP acceptance",0.54,"bar/100m",null,null,null,"bar/100 m",{"$f":"P34*100/14.5/0.3048","v":0.16793868249748975},null,null,">8",1.8,5,"0.23 to 0.54","0.34 to 0.68"]
[null,null,"Ball valve","Ball valve8",1,{"$f":"VLOOKUP(D36,'K-value'!$D$48:$E$124,2,FALSE)","v":0.04},2.420488484116664E-5,null,"Static head",{"$f":"E16*9.8*E47/10^5","v":1.8047378284744994E-2},"bar","note 2"]
[null,null,"Butterfly valve","Butterfly valve8",null,{"$f":"VLOOKUP(D37,'K-value'!$D$48:$E$124,2,FALSE)","v":0.63},0,null,"Line losses",{"$f":"J34*E48/100","v":2.5190802374623466E-2},"bar"]
[null,null,"Gate valve","Gate valve8",null,{"$f":"VLOOKUP(D38,'K-value'!$D$48:$E$124,2,FALSE)","v":0.11},0,null,"Fitting & eqp losses",{"$f":"G64","v":1.0589637118010404E-3},"bar",null,null,null,"NPSHA calculation"]
[null,null,"Globe valve","Globe valve8",null,{"$f":"VLOOKUP(D39,'K-value'!$D$48:$E$124,2,FALSE)","v":4.8},0,null,"Discharge Pressure",{"$f":"E46+J36+J37+J38","v":53.044297144371164},"barg",null,null,null,"HA",{"$f":"(E25+1.01)*100000/(E17*9.81)","v":26.098350208468514},"m"]
[null,null,"Check valve","Check valve8",null,{"$f":"VLOOKUP(D40,'K-value'!$D$48:$E$124,2,FALSE)","v":1.4},0,null,"Result",{"$f":"IF(AND(J31<J32,J34<J35),\"OK\",\"NOT OK\")","v":"OK"},null,null,null,null,"HZ",{"$f":"E26","v":0.5},"m"]
[null,null,"Plug valve","Plug valve8",null,{"$f":"VLOOKUP(D41,'K-value'!$D$48:$E$124,2,FALSE)","v":1.26},0,null,null,null,null,null,null,null,"HF",{"$f":"SUM(J24:J25)*-1","v":-7.5309530587114011E-4}]
[null,null,"Pipe entrance","Pipe entrance8",null,{"$f":"VLOOKUP(D42,'K-value'!$D$48:$E$124,2,FALSE)","v":0.78},0,null,"Pump Data",null,null,null,null,null,"HV",0]
[null,null,"Total, barg",null,null,null,{"$f":"SUM(G32:G42)","v":2.420488484116664E-5},null,"Suction Pressure",{"$f":"J26","v":0.12004748877765006},"barg",null,null,null,"HVP",{"$f":"E21*10^5/(E17*9.8)*-1","v":-26.128434827056335},"m"]
[null,null,null,null,null,null,null,null,"Discharge Pressure",{"$f":"J39","v":53.044297144371164},"barg",null,null,null,"NPSHA",{"$f":"SUM(P39:P43)","v":0.46916228610630739},"m"]
[null,null,"DISCHARGE",null,null,null,null,null,"Differential Pressure",{"$f":"J44-J43","v":52.924249655593513},"bar"]
[null,null,"Source pressure",null,53,"barg",null,null,"Differential Head",{"$f":"J45*10^5/(E17*9.8)","v":1246.114629561886},"m"]
[null,null,"Static head",null,3,"m","note 2",null,"Hydraulic Power",{"$f":"E17*9.8*J46*E16/3600000","v":90.244137752341373},"kW"]
[null,null,"Length",null,15,"m",null,null,"Pump BHP",{"$f":"J47/E22","v":200.54252833853639},"kW"]
[null,null,"Pipe size",null,4,"in",null,null,"NPSHa",{"$f":"P44","v":0.46916228610630739},"m","note 3"]
[null,null,"Schedule",null,40]
[null,null,"Fittings",null,null,null,null,null,"Note:"]
[null,null,null,null,"Qty","K","DP",null,"1. The minimum height of tank is assumed 0,5 m (LLLL)"]
[null,null,"Elbow 90 LR",{"$f":"C53&$E$49","v":"Elbow 90 LR4"},null,{"$f":"VLOOKUP(D53,'K-value'!$D$48:$E$124,2,FALSE)","v":0.27},{"$f":"E53*F53*$J$18^2/(2*9.8)*$E$17*9.8/10^5","v":0},null,"2. Discharge liquid level is assumed 3 m above grade elevation"]
[null,null,"Elbow 45 LR","Elbow 45 LR4",null,{"$f":"VLOOKUP(D54,'K-value'!$D$48:$E$124,2,FALSE)","v":0.27},0,null,"3. Calculated NPSHA is without margin"]
[null,null,"Tee thru","Tee thru4",null,{"$f":"VLOOKUP(D55,'K-value'!$D$48:$E$124,2,FALSE)","v":0.34},0]
[null,null,"Tee branch","Tee branch4",null,{"$f":"VLOOKUP(D56,'K-value'!$D$48:$E$124,2,FALSE)","v":1.02},0]
[null,null,"Ball valve","Ball valve4",1,{"$f":"VLOOKUP(D57,'K-value'!$D$48:$E$124,2,FALSE)","v":0.05},3.0256106051458298E-5]
[null,null,"Butterfly valve","Butterfly valve4",null,{"$f":"VLOOKUP(D58,'K-value'!$D$48:$E$124,2,FALSE)","v":0.77},0]
[null,null,"Gate valve","Gate valve4",null,{"$f":"VLOOKUP(D59,'K-value'!$D$48:$E$124,2,FALSE)","v":0.14000000000000001},0]
[null,null,"Globe valve","Globe valve4",null,{"$f":"VLOOKUP(D60,'K-value'!$D$48:$E$124,2,FALSE)","v":5.8},0]
[null,null,"Check valve","Check valve4",1,{"$f":"VLOOKUP(D61,'K-value'!$D$48:$E$124,2,FALSE)","v":1.7},1.028707605749582E-3]
[null,null,"Plug valve","Plug valve4",null,{"$f":"VLOOKUP(D62,'K-value'!$D$48:$E$124,2,FALSE)","v":1.53},0]
[null,null,"Pipe entrance","Pipe entrance4",null,{"$f":"VLOOKUP(D63,'K-value'!$D$48:$E$124,2,FALSE)","v":0.78},0]
[null,null,"Total, barg",null,null,null,{"$f":"SUM(G53:G63)","v":1.0589637118010404E-3}]

{"sheet":"33.6 - BOOSTER (G-1AB)","index":43,"n_rows":64,"n_cols":23,"rows_kept":64,"cut":false,"hidden":true,"merged":[[0,5,3,10],[27,18,29,18],[27,19,28,20],[27,21,27,22],[28,21,28,22]]}
[null,null,null,null,null,"PUMP SIZING"]
[]
[]
[]
[null,null,"Project: LNG Regasification in Central Region of Indonesia"]
[]
[null,null,"Equipment Design Group",null,"> 30","MMscfd"]
[null,null,"Equipment Design",null,33.6,"MMscfd"]
[null,null,null,null,"Booster compressor scheme"]
[null,null,"Tag No:",null,"KPK-G-001A/B"]
[null,null,"Description:",null,"LNG Recirculation Pump"]
[null,null,"Location:",null,"Kalsel Peaker 1",null,null,null,null,null,null,null,null,null,"Pipe roughness",0.05,"mm"]
[null,null,null,null,null,null,null,null,null,null,null,null,null,null,null,{"$f":"P12/1000/3.28","v":1.5243902439024392E-5},"ft"]
[]
[null,null,"DATA",null,null,null,null,null,"RESULTS",null,null,null,null,null,"Mass flow",{"$f":"E16*E17/0.45","v":21116.377936153982},"lb/hr"]
[null,null,"Flow rate",null,21.872762171107599,"m3/h",null,null,"Suction Hydraulic",null,null,null,null,null,"Rho",{"$f":"E17/16.02","v":27.118508351146879},"lb/ft3"]
[null,null,"Density",null,434.43850378537297,"kg/m3",null,null,"Pipe ID",{"$f":"VLOOKUP(E28,'Pipe size sch 40'!$A$5:$C$27,3,FALSE)*25.4/1000","v":0.15417800000000001},"m"]
[null,null,"Flow temperature",null,-160.01183878306301,"deg C",null,null,"Velocity",{"$f":"E16/(PI()/4*J17^2)/3600","v":0.3254366294294978},"m/s",null,null,null,"Side Calculation (Suction)"]
[null,null,"Viscocity",null,0.12087094775907101,"cP",null,null,"Velocity acceptance",{"$f":"IF(E28<4,0.9,IF(E28=4,1.4,IF(E28=6,1.5,IF(E28=8,1.8,1.8))))","v":1.5},"m/s","(max)",null,null,"f tebakan",1.6009855886261967E-2]
[null,null,null,null,{"$f":"E19*10^-3","v":1.2087094775907101E-4},"Nm2/s",null,null,"Reynold number",{"$f":"E17*J19*J17/E20","v":831227.77902923967},null,null,null,null,"f left",{"$f":"1/(P19)^0.5","v":7.9032603490674829}]
[null,null,"Vapor pressure",null,{"$f":"0.0998612546723523+1.01","v":1.1098612546723523},"bara",null,null,"Pipe DP",{"$f":"P25","v":2.42869699106355E-3},"bar/100m",null,null,null,"f right",{"$f":"-2*LOG(P13/(3.7*J17*0.3048)+2.51/(J20*(P19)^0.5))","v":7.9051687627317779}]
[null,null,"Pump efficiency",null,0.45,null,null,null,"Pipe DP acceptance",0.54,"bar/100m",null,null,null,"f left/f right",{"$f":"P20/P21","v":0.99975858660054262},"Goal seek"]
[null,null,null,null,null,null,null,null,"Static head",{"$f":"E17*9.8*E26/10^5","v":2.1287486685483276E-2},"bar",null,null,null,"psi/100 ft",{"$f":"0.000336*P19*P15^2/(J17*1000/25.4)^5/P16","v":1.0733869221704466E-2}]
[null,null,"SUCTION",null,null,null,null,null,"Pipe friction loss",{"$f":"J21*E27/100","v":3.6430454865953249E-4},"bar",null,null,null,"psi/ft",{"$f":"P23/100","v":1.0733869221704465E-4}]
[null,null,"Pressure",null,9.9778116398228506E-2,"barg",null,null,"Fitting friction loss",{"$f":"G43","v":1.1502736849852441E-5},"bar",null,null,null,"bar/100 m",{"$f":"P24*100/14.5/0.3048","v":2.42869699106355E-3}]
[null,null,"Static head",null,0.5,"m","note 1",null,"Suction Pressure",{"$f":"E25+J23-SUM(J24:J25)","v":0.1206897957982024},"bara"]
[null,null,"Length",null,15,"m","assumption",null,"Result",{"$f":"IF(AND(J18<J19,J21<J22),\"OK\",\"NOT OK\")","v":"OK"}]
[null,null,"Pipe size",null,6,"in",null,null,null,null,null,null,null,null,"Side Calculation (Discharge)",null,null,null,"Pipe Nominal Diameter (in)","Maximum velocity (m/s)",null,"Allowable Pressure Drop "]
[null,null,"Schedule",null,40,null,null,null,"Discharge Hydraulic",null,null,null,null,null,"f tebakan",1.8175147939102545E-2,null,null,null,null,null,"(bar/100 m)"]
[null,null,"Fittings",null,null,null,null,null,"Pipe ID",{"$f":"VLOOKUP(E49,'Pipe size sch 40'!$A$5:$C$27,3,FALSE)*25.4/1000","v":7.7977999999999992E-2},"m",null,null,null,"f left",{"$f":"1/(P29)^0.5","v":7.4175592272196171},null,null,null,"Pump Suction","Pump Discharge","Pump Suction","Pump Discharge"]
[null,null,null,null,"Qty","K","DP",null,"Velocity",{"$f":"E16/(PI()/4*J17^2)/3600","v":0.3254366294294978},"m/s",null,null,null,"f right",{"$f":"-2*LOG(P13/(3.7*J30*0.3048)+2.51/(J33*(P29)^0.5))","v":7.4177671033258221},null,null,"< 4",0.9,1.8,"0.23 to 0.54","0.34 to 0.68"]
[null,null,"Elbow 90 LR",{"$f":"C32&$E$28","v":"Elbow 90 LR6"},null,{"$f":"VLOOKUP(D32,'K-value'!$D$48:$E$124,2,FALSE)","v":0.24},{"$f":"E32*F32*$J$18^2/(2*9.8)*$E$17*9.8/10^5","v":0},null,"Velocity acceptance",{"$f":"IF(E28<4,1.8,IF(E28=4,2.4,IF(E28=6,3,IF(E28=8,4.3,5))))","v":3},"m/s","(max)",null,null,"f left/f right",{"$f":"P30/P31","v":0.99997197591899156},"Goal seek",null,4,1.4,2.4,"0.23 to 0.54","0.34 to 0.68"]
[null,null,"Elbow 45 LR","Elbow 45 LR6",null,{"$f":"VLOOKUP(D33,'K-value'!$D$48:$E$124,2,FALSE)","v":0.24},0,null,"Reynold number",{"$f":"E17*J32*J30/E20","v":840813.60185165249},null,null,null,null,"psi/100 ft",{"$f":"0.000336*P29*P15^2/(J30*1000/25.4)^5/P16","v":0.3682123998189562},null,null,6,1.5,3,"0.23 to 0.54","0.34 to 0.68"]
[null,null,"Tee thru","Tee thru6",null,{"$f":"VLOOKUP(D34,'K-value'!$D$48:$E$124,2,FALSE)","v":0.3},0,null,"Pipe DP",{"$f":"P35","v":8.3313512494107206E-2},"bar/100m",null,null,null,"psi/ft",{"$f":"P33/100","v":3.6821239981895621E-3},null,null,8,1.8,4.3,"0.23 to 0.54","0.34 to 0.68"]
[null,null,"Tee branch","Tee branch6",null,{"$f":"VLOOKUP(D35,'K-value'!$D$48:$E$124,2,FALSE)","v":0.9},0,null,"Pipe DP acceptance",0.54,"bar/100m",null,null,null,"bar/100 m",{"$f":"P34*100/14.5/0.3048","v":8.3313512494107206E-2},null,null,">8",1.8,5,"0.23 to 0.54","0.34 to 0.68"]
[null,null,"Ball valve","Ball valve6",1,{"$f":"VLOOKUP(D36,'K-value'!$D$48:$E$124,2,FALSE)","v":0.05},1.1502736849852441E-5,null,"Static head",{"$f":"E16*9.8*E47/10^5","v":3.6440021777065262E-2},"bar","note 2"]
[null,null,"Butterfly valve","Butterfly valve6",null,{"$f":"VLOOKUP(D37,'K-value'!$D$48:$E$124,2,FALSE)","v":0.68},0,null,"Line losses",{"$f":"J34*E48/100","v":1.6662702498821444E-2},"bar"]
[null,null,"Gate valve","Gate valve6",null,{"$f":"VLOOKUP(D38,'K-value'!$D$48:$E$124,2,FALSE)","v":0.12},0,null,"Fitting & eqp losses",{"$f":"G64","v":4.2560126344454033E-4},"bar",null,null,null,"NPSHA calculation"]
[null,null,"Globe valve","Globe valve6",null,{"$f":"VLOOKUP(D39,'K-value'!$D$48:$E$124,2,FALSE)","v":5.0999999999999996},0,null,"Discharge Pressure",{"$f":"E46+J36+J37+J38","v":0.30352832553933129},"barg",null,null,null,"HA",{"$f":"(E25+1.01)*100000/(E17*9.81)","v":26.039871697590993},"m"]
[null,null,"Check valve","Check valve6",null,{"$f":"VLOOKUP(D40,'K-value'!$D$48:$E$124,2,FALSE)","v":1.5},0,null,"Result",{"$f":"IF(AND(J31<J32,J34<J35),\"OK\",\"NOT OK\")","v":"OK"},null,null,null,null,"HZ",{"$f":"E26","v":0.5},"m"]
[null,null,"Plug valve","Plug valve6",null,{"$f":"VLOOKUP(D41,'K-value'!$D$48:$E$124,2,FALSE)","v":1.35},0,null,null,null,null,null,null,null,"HF",{"$f":"SUM(J24:J25)*-1","v":-3.7580728550938493E-4}]
[null,null,"Pipe entrance","Pipe entrance6",null,{"$f":"VLOOKUP(D42,'K-value'!$D$48:$E$124,2,FALSE)","v":0.78},0,null,"Pump Data",null,null,null,null,null,"HV",0]
[null,null,"Total, barg",null,null,null,{"$f":"SUM(G32:G42)","v":1.1502736849852441E-5},null,"Suction Pressure",{"$f":"J26","v":0.1206897957982024},"barg",null,null,null,"HVP",{"$f":"E21*10^5/(E17*9.8)*-1","v":-26.068395745121187},"m"]
[null,null,null,null,null,null,null,null,"Discharge Pressure",{"$f":"J39","v":0.30352832553933129},"barg",null,null,null,"NPSHA",{"$f":"SUM(P39:P43)","v":0.47110014518429821},"m"]
[null,null,"DISCHARGE",null,null,null,null,null,"Differential Pressure",{"$f":"J44-J43","v":0.18283852974112891},"bar"]
[null,null,"Source pressure",null,0.25,"barg",null,null,"Differential Head",{"$f":"J45*10^5/(E17*9.8)","v":4.294507201402344},"m"]
[null,null,"Static head",null,17,"m","note 2",null,"Hydraulic Power",{"$f":"E17*9.8*J46*E16/3600000","v":0.11108843546507489},"kW"]
[null,null,"Length",null,20,"m",null,null,"Pump BHP",{"$f":"J47/E22","v":0.24686318992238865},"kW"]
[null,null,"Pipe size",null,3,"in",null,null,"NPSHa",{"$f":"P44","v":0.47110014518429821},"m","note 3"]
[null,null,"Schedule",null,40]
[null,null,"Fittings",null,null,null,null,null,"Note:"]
[null,null,null,null,"Qty","K","DP",null,"1. The minimum height of tank is assumed 0,5 m (LLLL)"]
[null,null,"Elbow 90 LR",{"$f":"C53&$E$49","v":"Elbow 90 LR3"},null,{"$f":"VLOOKUP(D53,'K-value'!$D$48:$E$124,2,FALSE)","v":0.28999999999999998},{"$f":"E53*F53*$J$18^2/(2*9.8)*$E$17*9.8/10^5","v":0},null,"2. Discharge liquid level is 17 m (tank HHLL)"]
[null,null,"Elbow 45 LR","Elbow 45 LR3",null,{"$f":"VLOOKUP(D54,'K-value'!$D$48:$E$124,2,FALSE)","v":0.28999999999999998},0,null,"3. Calculated NPSHA is without margin"]
[null,null,"Tee thru","Tee thru3",null,{"$f":"VLOOKUP(D55,'K-value'!$D$48:$E$124,2,FALSE)","v":0.36},0]
[null,null,"Tee branch","Tee branch3",null,{"$f":"VLOOKUP(D56,'K-value'!$D$48:$E$124,2,FALSE)","v":1.08},0]
[null,null,"Ball valve","Ball valve3",1,{"$f":"VLOOKUP(D57,'K-value'!$D$48:$E$124,2,FALSE)","v":0.05},1.1502736849852441E-5]
[null,null,"Butterfly valve","Butterfly valve3",null,{"$f":"VLOOKUP(D58,'K-value'!$D$48:$E$124,2,FALSE)","v":0.81},0]
[null,null,"Gate valve","Gate valve3",null,{"$f":"VLOOKUP(D59,'K-value'!$D$48:$E$124,2,FALSE)","v":0.14000000000000001},0]
[null,null,"Globe valve","Globe valve3",null,{"$f":"VLOOKUP(D60,'K-value'!$D$48:$E$124,2,FALSE)","v":6.1},0]
[null,null,"Check valve","Check valve3",1,{"$f":"VLOOKUP(D61,'K-value'!$D$48:$E$124,2,FALSE)","v":1.8},4.1409852659468789E-4]
[null,null,"Plug valve","Plug valve3",null,{"$f":"VLOOKUP(D62,'K-value'!$D$48:$E$124,2,FALSE)","v":1.62},0]
[null,null,"Pipe entrance","Pipe entrance3",null,{"$f":"VLOOKUP(D63,'K-value'!$D$48:$E$124,2,FALSE)","v":0.78},0]
[null,null,"Total, barg",null,null,null,{"$f":"SUM(G53:G63)","v":4.2560126344454033E-4}]

{"sheet":"33.6 - BOOSTER (G-3AB)","index":44,"n_rows":64,"n_cols":23,"rows_kept":64,"cut":false,"hidden":true,"merged":[[0,5,3,10],[27,18,29,18],[27,19,28,20],[27,21,27,22],[28,21,28,22]]}
[null,null,null,null,null,"PUMP SIZING"]
[]
[]
[]
[null,null,"Project: LNG Regasification in Central Region of Indonesia"]
[]
[null,null,"Equipment Design Group",null,"> 30","MMscfd"]
[null,null,"Equipment Design",null,33.6,"MMscfd"]
[null,null,null,null,"Booster compressor scheme"]
[null,null,"Tag No:",null,"KPK-G-003A/B"]
[null,null,"Description:",null,"Seawater Pump"]
[null,null,"Location:",null,"Kalsel Peaker 1",null,null,null,null,null,null,null,null,null,"Pipe roughness",0.05,"mm"]
[null,null,null,null,null,null,null,null,null,null,null,null,null,null,null,{"$f":"P12/1000/3.28","v":1.5243902439024392E-5},"ft"]
[]
[null,null,"DATA",null,null,null,null,null,"RESULTS",null,null,null,null,null,"Mass flow",{"$f":"E16*E17/0.45","v":1502828.354196422},"lb/hr"]
[null,null,"Flow rate",null,671.35208769761698,"m3/h",null,null,"Suction Hydraulic",null,null,null,null,null,"Rho",{"$f":"E17/16.02","v":62.879494062544325},"lb/ft3"]
[null,null,"Density",null,1007.32949488196,"kg/m3",null,null,"Pipe ID",{"$f":"VLOOKUP(E28,'Pipe size sch 40'!$A$5:$C$27,3,FALSE)*25.4/1000","v":0.38100000000000001},"m"]
[null,null,"Flow temperature",null,25.003214664352001,"deg C",null,null,"Velocity",{"$f":"E16/(PI()/4*J17^2)/3600","v":1.6357164085569258},"m/s",null,null,null,"Side Calculation (Suction)"]
[null,null,"Viscocity",null,0.89037367905476705,"cP",null,null,"Velocity acceptance",{"$f":"IF(E28<4,0.9,IF(E28=4,1.4,IF(E28=6,1.5,IF(E28=8,1.8,1.8))))","v":1.8},"m/s","(max)",null,null,"f tebakan",1.6009855886261967E-2]
[null,null,null,null,{"$f":"E19*10^-3","v":8.9037367905476703E-4},"Nm2/s",null,null,"Reynold number",{"$f":"E17*J19*J17/E20","v":775883.8607217581},null,null,null,null,"f left",{"$f":"1/(P19)^0.5","v":7.9032603490674829}]
[null,null,"Vapor pressure",null,{"$f":"-0.982148666890848+1.01","v":2.7851333109151999E-2},"bara",null,null,"Pipe DP",{"$f":"P25","v":5.7570123613482675E-2},"bar/100m",null,null,null,"f right",{"$f":"-2*LOG(P13/(3.7*J17*0.3048)+2.51/(J20*(P19)^0.5))","v":8.4287022378759229}]
[null,null,"Pump efficiency",null,0.7,null,null,null,"Pipe DP acceptance",0.54,"bar/100m",null,null,null,"f left/f right",{"$f":"P20/P21","v":0.93766040441584586},"Goal seek"]
[null,null,null,null,null,null,null,null,"Static head",{"$f":"E17*9.8*E26/10^5","v":4.9359145249216044E-2},"bar",null,null,null,"psi/100 ft",{"$f":"0.000336*P19*P15^2/(J17*1000/25.4)^5/P16","v":0.25443691832214804}]
[null,null,"SUCTION",null,null,null,null,null,"Pipe friction loss",{"$f":"J21*E27/100","v":8.6355185420224009E-3},"bar",null,null,null,"psi/ft",{"$f":"P23/100","v":2.5443691832214804E-3}]
[null,null,"Pressure",null,9.9778116398228506E-2,"barg",null,null,"Fitting friction loss",{"$f":"G43","v":5.3903574648500358E-4},"bar",null,null,null,"bar/100 m",{"$f":"P24*100/14.5/0.3048","v":5.7570123613482675E-2}]
[null,null,"Static head",null,0.5,"m","note 1",null,"Suction Pressure",{"$f":"E25+J23-SUM(J24:J25)","v":0.13996270735893715},"bara"]
[null,null,"Length",null,15,"m","assumption",null,"Result",{"$f":"IF(AND(J18<J19,J21<J22),\"OK\",\"NOT OK\")","v":"OK"}]
[null,null,"Pipe size",null,16,"in",null,null,null,null,null,null,null,null,"Side Calculation (Discharge)",null,null,null,"Pipe Nominal Diameter (in)","Maximum velocity (m/s)",null,"Allowable Pressure Drop "]
[null,null,"Schedule",null,40,null,null,null,"Discharge Hydraulic",null,null,null,null,null,"f tebakan",1.8175147939102545E-2,null,null,null,null,null,"(bar/100 m)"]
[null,null,"Fittings",null,null,null,null,null,"Pipe ID",{"$f":"VLOOKUP(E49,'Pipe size sch 40'!$A$5:$C$27,3,FALSE)*25.4/1000","v":0.25450799999999996},"m",null,null,null,"f left",{"$f":"1/(P29)^0.5","v":7.4175592272196171},null,null,null,"Pump Suction","Pump Discharge","Pump Suction","Pump Discharge"]
[null,null,null,null,"Qty","K","DP",null,"Velocity",{"$f":"E16/(PI()/4*J17^2)/3600","v":1.6357164085569258},"m/s",null,null,null,"f right",{"$f":"-2*LOG(P13/(3.7*J30*0.3048)+2.51/(J33*(P29)^0.5))","v":8.3603574158224561},null,null,"< 4",0.9,1.8,"0.23 to 0.54","0.34 to 0.68"]
[null,null,"Elbow 90 LR",{"$f":"C32&$E$28","v":"Elbow 90 LR16"},null,{"$f":"VLOOKUP(D32,'K-value'!$D$48:$E$146,2,FALSE)","v":0.21},{"$f":"E32*F32*$J$18^2/(2*9.8)*$E$17*9.8/10^5","v":0},null,"Velocity acceptance",{"$f":"IF(E28<4,1.8,IF(E28=4,2.4,IF(E28=6,3,IF(E28=8,4.3,5))))","v":5},"m/s","(max)",null,null,"f left/f right",{"$f":"P30/P31","v":0.88722991832639364},"Goal seek",null,4,1.4,2.4,"0.23 to 0.54","0.34 to 0.68"]
[null,null,"Elbow 45 LR","Elbow 45 LR16",null,{"$f":"VLOOKUP(D33,'K-value'!$D$48:$E$146,2,FALSE)","v":0.21},0,null,"Reynold number",{"$f":"E17*J32*J30/E20","v":1439695.608228151},null,null,null,null,"psi/100 ft",{"$f":"0.000336*P29*P15^2/(J30*1000/25.4)^5/P16","v":2.1716425701362696},null,null,6,1.5,3,"0.23 to 0.54","0.34 to 0.68"]
[null,null,"Tee thru","Tee thru16",null,{"$f":"VLOOKUP(D34,'K-value'!$D$48:$E$146,2,FALSE)","v":0.26},0,null,"Pipe DP",{"$f":"P35","v":0.49136631598702812},"bar/100m",null,null,null,"psi/ft",{"$f":"P33/100","v":2.1716425701362695E-2},null,null,8,1.8,4.3,"0.23 to 0.54","0.34 to 0.68"]
[null,null,"Tee branch","Tee branch16",null,{"$f":"VLOOKUP(D35,'K-value'!$D$48:$E$146,2,FALSE)","v":0.78},0,null,"Pipe DP acceptance",0.54,"bar/100m",null,null,null,"bar/100 m",{"$f":"P34*100/14.5/0.3048","v":0.49136631598702812},null,null,">8",1.8,5,"0.23 to 0.54","0.34 to 0.68"]
[null,null,"Ball valve","Ball valve16",1,{"$f":"VLOOKUP(D36,'K-value'!$D$48:$E$146,2,FALSE)","v":0.04},5.3903574648500358E-4,null,"Static head",{"$f":"E16*9.8*E47/10^5","v":0.65792504594366463},"bar","note 2"]
[null,null,"Butterfly valve","Butterfly valve16",null,{"$f":"VLOOKUP(D37,'K-value'!$D$48:$E$146,2,FALSE)","v":0.35},0,null,"Line losses",{"$f":"J34*E48/100","v":9.8273263197405619E-2},"bar"]
[null,null,"Gate valve","Gate valve16",null,{"$f":"VLOOKUP(D38,'K-value'!$D$48:$E$146,2,FALSE)","v":0.1},0,null,"Fitting & eqp losses",{"$f":"G64","v":1.9405286873460131E-2},"bar",null,null,null,"NPSHA calculation"]
[null,null,"Globe valve","Globe valve16",null,{"$f":"VLOOKUP(D39,'K-value'!$D$48:$E$146,2,FALSE)","v":4.4000000000000004},0,null,"Discharge Pressure",{"$f":"E46+J36+J37+J38","v":1.9756035960145306},"barg",null,null,null,"HA",{"$f":"(E25+1.01)*100000/(E17*9.81)","v":11.230409668874184},"m"]
[null,null,"Check valve","Check valve16",null,{"$f":"VLOOKUP(D40,'K-value'!$D$48:$E$146,2,FALSE)","v":1.3},0,null,"Result",{"$f":"IF(AND(J31<J32,J34<J35),\"OK\",\"NOT OK\")","v":"OK"},null,null,null,null,"HZ",{"$f":"E26","v":0.5},"m"]
[null,null,"Plug valve","Plug valve16",null,{"$f":"VLOOKUP(D41,'K-value'!$D$48:$E$146,2,FALSE)","v":1.17},0,null,null,null,null,null,null,null,"HF",{"$f":"SUM(J24:J25)*-1","v":-9.1745542885074052E-3}]
[null,null,"Pipe entrance","Pipe entrance16",null,{"$f":"VLOOKUP(D42,'K-value'!$D$48:$E$146,2,FALSE)","v":0.78},0,null,"Pump Data",null,null,null,null,null,"HV",0]
[null,null,"Total, barg",null,null,null,{"$f":"SUM(G32:G42)","v":5.3903574648500358E-4},null,"Suction Pressure",{"$f":"J26","v":0.13996270735893715},"barg",null,null,null,"HVP",{"$f":"E21*10^5/(E17*9.8)*-1","v":-0.28212941055329915},"m"]
[null,null,null,null,null,null,null,null,"Discharge Pressure",{"$f":"J39","v":1.9756035960145306},"barg",null,null,null,"NPSHA",{"$f":"SUM(P39:P43)","v":11.439105704032377},"m"]
[null,null,"DISCHARGE",null,null,null,null,null,"Differential Pressure",{"$f":"J44-J43","v":1.8356408886555935},"bar"]
[null,null,"Source pressure",null,1.2,"barg",null,null,"Differential Head",{"$f":"J45*10^5/(E17*9.8)","v":18.59473942860415},"m"]
[null,null,"Static head",null,10,"m","note 2",null,"Hydraulic Power",{"$f":"E17*9.8*J46*E16/3600000","v":34.232259523945601},"kW"]
[null,null,"Length",null,20,"m",null,null,"Pump BHP",{"$f":"J47/E22","v":48.903227891350859},"kW"]
[null,null,"Pipe size",null,10,"in",null,null,"NPSHa",{"$f":"P44","v":11.439105704032377},"m","note 3"]
[null,null,"Schedule",null,40]
[null,null,"Fittings",null,null,null,null,null,"Note:"]
[null,null,null,null,"Qty","K","DP",null,"1. The minimum height of tank is assumed 0,5 m (LLLL)"]
[null,null,"Elbow 90 LR",{"$f":"C53&$E$49","v":"Elbow 90 LR10"},null,{"$f":"VLOOKUP(D53,'K-value'!$D$48:$E$124,2,FALSE)","v":0.22},{"$f":"E53*F53*$J$18^2/(2*9.8)*$E$17*9.8/10^5","v":0},null,"2. Discharge liquid level is asssumed 10 m"]
[null,null,"Elbow 45 LR","Elbow 45 LR10",null,{"$f":"VLOOKUP(D54,'K-value'!$D$48:$E$124,2,FALSE)","v":0.22},0,null,"3. Calculated NPSHA is without margin"]
[null,null,"Tee thru","Tee thru10",null,{"$f":"VLOOKUP(D55,'K-value'!$D$48:$E$124,2,FALSE)","v":0.28000000000000003},0]
[null,null,"Tee branch","Tee branch10",null,{"$f":"VLOOKUP(D56,'K-value'!$D$48:$E$124,2,FALSE)","v":0.84},0]
[null,null,"Ball valve","Ball valve10",1,{"$f":"VLOOKUP(D57,'K-value'!$D$48:$E$124,2,FALSE)","v":0.04},5.3903574648500358E-4]
[null,null,"Butterfly valve","Butterfly valve10",null,{"$f":"VLOOKUP(D58,'K-value'!$D$48:$E$124,2,FALSE)","v":0.63},0]
[null,null,"Gate valve","Gate valve10",null,{"$f":"VLOOKUP(D59,'K-value'!$D$48:$E$124,2,FALSE)","v":0.11},0]
[null,null,"Globe valve","Globe valve10",null,{"$f":"VLOOKUP(D60,'K-value'!$D$48:$E$124,2,FALSE)","v":4.8},0]
[null,null,"Check valve","Check valve10",1,{"$f":"VLOOKUP(D61,'K-value'!$D$48:$E$124,2,FALSE)","v":1.4},1.8866251126975129E-2]
[null,null,"Plug valve","Plug valve10",null,{"$f":"VLOOKUP(D62,'K-value'!$D$48:$E$124,2,FALSE)","v":1.26},0]
[null,null,"Pipe entrance","Pipe entrance10",null,{"$f":"VLOOKUP(D63,'K-value'!$D$48:$E$124,2,FALSE)","v":0.78},0]
[null,null,"Total, barg",null,null,null,{"$f":"SUM(G53:G63)","v":1.9405286873460131E-2}]

{"sheet":"33.6 - VIT (G-1AB)","index":45,"n_rows":64,"n_cols":23,"rows_kept":64,"cut":false,"hidden":true,"merged":[[0,5,3,10],[27,18,29,18],[27,19,28,20],[27,21,27,22],[28,21,28,22]]}
[null,null,null,null,null,"PUMP SIZING"]
[]
[]
[]
[null,null,"Project: LNG Regasification in Central Region of Indonesia"]
[]
[null,null,"Equipment Design Group",null,"> 30","MMscfd"]
[null,null,"Equipment Design",null,33.6,"MMscfd"]
[null,null,null,null,"Recondensing scheme"]
[null,null,"Tag No:",null,"KPK-G-001A/B"]
[null,null,"Description:",null,"LNG LP Pump"]
[null,null,"Location:",null,"Kalsel Peaker 1",null,null,null,null,null,null,null,null,null,"Pipe roughness",0.05,"mm"]
[null,null,null,null,null,null,null,null,null,null,null,null,null,null,null,{"$f":"P12/1000/3.28","v":1.5243902439024392E-5},"ft"]
[]
[null,null,"DATA",null,null,null,null,null,"RESULTS",null,null,null,null,null,"Mass flow",{"$f":"E16*E17/0.45","v":74237.596459409164},"lb/hr"]
[null,null,"Flow rate",null,76.731864463942799,"m3/h",null,null,"Suction Hydraulic",null,null,null,null,null,"Rho",{"$f":"E17/16.02","v":27.176789692393697},"lb/ft3"]
[null,null,"Density",null,435.37217087214702,"kg/m3",null,null,"Pipe ID",{"$f":"VLOOKUP(E28,'Pipe size sch 40'!$A$5:$C$27,3,FALSE)*25.4/1000","v":0.25450799999999996},"m"]
[null,null,"Flow temperature",null,-160.01025762155999,"deg C",null,null,"Velocity",{"$f":"E16/(PI()/4*J17^2)/3600","v":0.41896765168517025},"m/s",null,null,null,"Side Calculation (Suction)"]
[null,null,"Viscocity",null,0.12086837321610699,"cP",null,null,"Velocity acceptance",{"$f":"IF(E28<4,0.9,IF(E28=4,1.4,IF(E28=6,1.5,IF(E28=8,1.8,1.8))))","v":1.8},"m/s","(max)",null,null,"f tebakan",1.430153656331682E-2]
[null,null,null,null,{"$f":"E19*10^-3","v":1.2086837321610699E-4},"Nm2/s",null,null,"Reynold number",{"$f":"E17*J19*J17/E20","v":1650144.3308017668},null,null,null,null,"f left",{"$f":"1/(P19)^0.5","v":8.3619708569751321}]
[null,null,"Vapor pressure",null,{"$f":"0.0999929826348065+1.01","v":1.1099929826348065},"bara",null,null,"Pipe DP",{"$f":"P25","v":2.1829815096250172E-3},"bar/100m",null,null,null,"f right",{"$f":"-2*LOG(P13/(3.7*J17*0.3048)+2.51/(J20*(P19)^0.5))","v":8.3631597984683737}]
[null,null,"Pump efficiency",null,0.45,null,null,null,"Pipe DP acceptance",0.54,"bar/100m",null,null,null,"f left/f right",{"$f":"P20/P21","v":0.99985783585129395},"Goal seek"]
[null,null,null,null,null,null,null,null,"Static head",{"$f":"E17*9.8*E26/10^5","v":2.1333236372735206E-2},"bar",null,null,null,"psi/100 ft",{"$f":"0.000336*P19*P15^2/(J17*1000/25.4)^5/P16","v":9.6479050799387275E-3}]
[null,null,"SUCTION",null,null,null,null,null,"Pipe friction loss",{"$f":"J21*E27/100","v":3.2744722644375261E-4},"bar",null,null,null,"psi/ft",{"$f":"P23/100","v":9.6479050799387275E-5}]
[null,null,"Pressure",null,9.98907621725309E-2,"barg",null,null,"Fitting friction loss",{"$f":"G43","v":1.5284514425218631E-5},"bar",null,null,null,"bar/100 m",{"$f":"P24*100/14.5/0.3048","v":2.1829815096250172E-3}]
[null,null,"Static head",null,0.5,"m","note 1",null,"Suction Pressure",{"$f":"E25+J23-SUM(J24:J25)","v":0.12088126680439713},"bara"]
[null,null,"Length",null,15,"m","assumption",null,"Result",{"$f":"IF(AND(J18<J19,J21<J22),\"OK\",\"NOT OK\")","v":"OK"}]
[null,null,"Pipe size",null,10,"in",null,null,null,null,null,null,null,null,"Side Calculation (Discharge)",null,null,null,"Pipe Nominal Diameter (in)","Maximum velocity (m/s)",null,"Allowable Pressure Drop "]
[null,null,"Schedule",null,40,null,null,null,"Discharge Hydraulic",null,null,null,null,null,"f tebakan",1.6903340529270335E-2,null,null,null,null,null,"(bar/100 m)"]
[null,null,"Fittings",null,null,null,null,null,"Pipe ID",{"$f":"VLOOKUP(E49,'Pipe size sch 40'!$A$5:$C$27,3,FALSE)*25.4/1000","v":0.10236199999999999},"m",null,null,null,"f left",{"$f":"1/(P29)^0.5","v":7.6915475570951353},null,null,null,"Pump Suction","Pump Discharge","Pump Suction","Pump Discharge"]
[null,null,null,null,"Qty","K","DP",null,"Velocity",{"$f":"E16/(PI()/4*J17^2)/3600","v":0.41896765168517025},"m/s",null,null,null,"f right",{"$f":"-2*LOG(P13/(3.7*J30*0.3048)+2.51/(J33*(P29)^0.5))","v":7.6922317552846922},null,null,"< 4",0.9,1.8,"0.23 to 0.54","0.34 to 0.68"]
[null,null,"Elbow 90 LR",{"$f":"C32&$E$28","v":"Elbow 90 LR10"},null,{"$f":"VLOOKUP(D32,'K-value'!$D$48:$E$124,2,FALSE)","v":0.22},{"$f":"E32*F32*$J$18^2/(2*9.8)*$E$17*9.8/10^5","v":0},null,"Velocity acceptance",{"$f":"IF(E28<4,1.8,IF(E28=4,2.4,IF(E28=6,3,IF(E28=8,4.3,5))))","v":5},"m/s","(max)",null,null,"f left/f right",{"$f":"P30/P31","v":0.99991105335729302},"Goal seek",null,4,1.4,2.4,"0.23 to 0.54","0.34 to 0.68"]
[null,null,"Elbow 45 LR","Elbow 45 LR10",null,{"$f":"VLOOKUP(D33,'K-value'!$D$48:$E$124,2,FALSE)","v":0.22},0,null,"Reynold number",{"$f":"E17*J32*J30/E20","v":1843557.7880713909},null,null,null,null,"psi/100 ft",{"$f":"0.000336*P29*P15^2/(J30*1000/25.4)^5/P16","v":1.0835182706859992},null,null,6,1.5,3,"0.23 to 0.54","0.34 to 0.68"]
[null,null,"Tee thru","Tee thru10",null,{"$f":"VLOOKUP(D34,'K-value'!$D$48:$E$124,2,FALSE)","v":0.28000000000000003},0,null,"Pipe DP",{"$f":"P35","v":0.24516206685808647},"bar/100m",null,null,null,"psi/ft",{"$f":"P33/100","v":1.0835182706859991E-2},null,null,8,1.8,4.3,"0.23 to 0.54","0.34 to 0.68"]
[null,null,"Tee branch","Tee branch10",null,{"$f":"VLOOKUP(D35,'K-value'!$D$48:$E$124,2,FALSE)","v":0.84},0,null,"Pipe DP acceptance",0.54,"bar/100m",null,null,null,"bar/100 m",{"$f":"P34*100/14.5/0.3048","v":0.24516206685808647},null,null,">8",1.8,5,"0.23 to 0.54","0.34 to 0.68"]
[null,null,"Ball valve","Ball valve10",1,{"$f":"VLOOKUP(D36,'K-value'!$D$48:$E$124,2,FALSE)","v":0.04},1.5284514425218631E-5,null,"Static head",{"$f":"E16*9.8*E47/10^5","v":3.0078890869865583E-2},"bar","note 2"]
[null,null,"Butterfly valve","Butterfly valve10",null,{"$f":"VLOOKUP(D37,'K-value'!$D$48:$E$124,2,FALSE)","v":0.63},0,null,"Line losses",{"$f":"J34*E48/100","v":3.6774310028712974E-2},"bar"]
[null,null,"Gate valve","Gate valve10",null,{"$f":"VLOOKUP(D38,'K-value'!$D$48:$E$124,2,FALSE)","v":0.11},0,null,"Fitting & eqp losses",{"$f":"G64","v":6.6869750610331518E-4},"bar",null,null,null,"NPSHA calculation"]
[null,null,"Globe valve","Globe valve10",null,{"$f":"VLOOKUP(D39,'K-value'!$D$48:$E$124,2,FALSE)","v":4.8},0,null,"Discharge Pressure",{"$f":"E46+J36+J37+J38","v":6.0675218984046824},"barg",null,null,null,"HA",{"$f":"(E25+1.01)*100000/(E17*9.81)","v":25.986665962979956},"m"]
[null,null,"Check valve","Check valve10",null,{"$f":"VLOOKUP(D40,'K-value'!$D$48:$E$124,2,FALSE)","v":1.4},0,null,"Result",{"$f":"IF(AND(J31<J32,J34<J35),\"OK\",\"NOT OK\")","v":"OK"},null,null,null,null,"HZ",{"$f":"E26","v":0.5},"m"]
[null,null,"Plug valve","Plug valve10",null,{"$f":"VLOOKUP(D41,'K-value'!$D$48:$E$124,2,FALSE)","v":1.26},0,null,null,null,null,null,null,null,"HF",{"$f":"SUM(J24:J25)*-1","v":-3.4273174086897124E-4}]
[null,null,"Pipe entrance","Pipe entrance10",null,{"$f":"VLOOKUP(D42,'K-value'!$D$48:$E$124,2,FALSE)","v":0.78},0,null,"Pump Data",null,null,null,null,null,"HV",0]
[null,null,"Total, barg",null,null,null,{"$f":"SUM(G32:G42)","v":1.5284514425218631E-5},null,"Suction Pressure",{"$f":"J26","v":0.12088126680439713},"barg",null,null,null,"HVP",{"$f":"E21*10^5/(E17*9.8)*-1","v":-26.015578772038204},"m"]
[null,null,null,null,null,null,null,null,"Discharge Pressure",{"$f":"J39","v":6.0675218984046824},"barg",null,null,null,"NPSHA",{"$f":"SUM(P39:P43)","v":0.47074445920088337},"m"]
[null,null,"DISCHARGE",null,null,null,null,null,"Differential Pressure",{"$f":"J44-J43","v":5.9466406316002853},"bar"]
[null,null,"Source pressure",null,6,"barg",null,null,"Differential Head",{"$f":"J45*10^5/(E17*9.8)","v":139.37502326652015},"m"]
[null,null,"Static head",null,4,"m","note 2",null,"Hydraulic Power",{"$f":"E17*9.8*J46*E16/3600000","v":12.674911748881344},"kW"]
[null,null,"Length",null,15,"m",null,null,"Pump BHP",{"$f":"J47/E22","v":28.166470553069654},"kW"]
[null,null,"Pipe size",null,4,"in",null,null,"NPSHa",{"$f":"P44","v":0.47074445920088337},"m","note 3"]
[null,null,"Schedule",null,40]
[null,null,"Fittings",null,null,null,null,null,"Note:"]
[null,null,null,null,"Qty","K","DP",null,"1. The minimum height of tank is assumed 0,5 m (LLLL)"]
[null,null,"Elbow 90 LR",{"$f":"C53&$E$49","v":"Elbow 90 LR4"},null,{"$f":"VLOOKUP(D53,'K-value'!$D$48:$E$124,2,FALSE)","v":0.27},{"$f":"E53*F53*$J$18^2/(2*9.8)*$E$17*9.8/10^5","v":0},null,"2. Discharge liquid level is assumed 4 m above grade elevation"]
[null,null,"Elbow 45 LR","Elbow 45 LR4",null,{"$f":"VLOOKUP(D54,'K-value'!$D$48:$E$124,2,FALSE)","v":0.27},0,null," (elevation of recondenser)"]
[null,null,"Tee thru","Tee thru4",null,{"$f":"VLOOKUP(D55,'K-value'!$D$48:$E$124,2,FALSE)","v":0.34},0,null,"3. Calculated NPSHA is without margin"]
[null,null,"Tee branch","Tee branch4",null,{"$f":"VLOOKUP(D56,'K-value'!$D$48:$E$124,2,FALSE)","v":1.02},0]
[null,null,"Ball valve","Ball valve4",1,{"$f":"VLOOKUP(D57,'K-value'!$D$48:$E$124,2,FALSE)","v":0.05},1.9105643031523293E-5]
[null,null,"Butterfly valve","Butterfly valve4",null,{"$f":"VLOOKUP(D58,'K-value'!$D$48:$E$124,2,FALSE)","v":0.77},0]
[null,null,"Gate valve","Gate valve4",null,{"$f":"VLOOKUP(D59,'K-value'!$D$48:$E$124,2,FALSE)","v":0.14000000000000001},0]
[null,null,"Globe valve","Globe valve4",null,{"$f":"VLOOKUP(D60,'K-value'!$D$48:$E$124,2,FALSE)","v":5.8},0]
[null,null,"Check valve","Check valve4",1,{"$f":"VLOOKUP(D61,'K-value'!$D$48:$E$124,2,FALSE)","v":1.7},6.4959186307179191E-4]
[null,null,"Plug valve","Plug valve4",null,{"$f":"VLOOKUP(D62,'K-value'!$D$48:$E$124,2,FALSE)","v":1.53},0]
[null,null,"Pipe entrance","Pipe entrance4",null,{"$f":"VLOOKUP(D63,'K-value'!$D$48:$E$124,2,FALSE)","v":0.78},0]
[null,null,"Total, barg",null,null,null,{"$f":"SUM(G53:G63)","v":6.6869750610331518E-4}]

{"sheet":"33.6 - VIT (G-3AB)","index":46,"n_rows":64,"n_cols":23,"rows_kept":64,"cut":false,"hidden":true,"merged":[[0,5,3,10],[27,18,29,18],[27,19,28,20],[27,21,27,22],[28,21,28,22]]}
[null,null,null,null,null,"PUMP SIZING"]
[]
[]
[]
[null,null,"Project: LNG Regasification in Central Region of Indonesia"]
[]
[null,null,"Equipment Design Group",null,"> 30","MMscfd"]
[null,null,"Equipment Design",null,33.6,"MMscfd"]
[null,null,null,null,"Recondensing scheme"]
[null,null,"Tag No:",null,"KPK-G-003A/B"]
[null,null,"Description:",null,"Seawater Pump"]
[null,null,"Location:",null,"Kalsel Peaker 1",null,null,null,null,null,null,null,null,null,"Pipe roughness",0.05,"mm"]
[null,null,null,null,null,null,null,null,null,null,null,null,null,null,null,{"$f":"P12/1000/3.28","v":1.5243902439024392E-5},"ft"]
[]
[null,null,"DATA",null,null,null,null,null,"RESULTS",null,null,null,null,null,"Mass flow",{"$f":"E16*E17/0.45","v":1577777.7777777796},"lb/hr"]
[null,null,"Flow rate",null,704.82906130927404,"m3/h",null,null,"Suction Hydraulic",null,null,null,null,null,"Rho",{"$f":"E17/16.02","v":62.879927818312112},"lb/ft3"]
[null,null,"Density",null,1007.33644364936,"kg/m3",null,null,"Pipe ID",{"$f":"VLOOKUP(E28,'Pipe size sch 40'!$A$5:$C$27,3,FALSE)*25.4/1000","v":0.30327599999999993},"m"]
[null,null,"Flow temperature",null,25.001252478197401,"deg C",null,null,"Velocity",{"$f":"E16/(PI()/4*J17^2)/3600","v":2.7102873215865726},"m/s",null,null,null,"Side Calculation (Suction)"]
[null,null,"Viscocity",null,0.89043897514571702,"cP",null,null,"Velocity acceptance",{"$f":"IF(E28<4,0.9,IF(E28=4,1.4,IF(E28=6,1.5,IF(E28=8,1.8,1.8))))","v":1.8},"m/s","(max)",null,null,"f tebakan",1.4816819051554075E-2]
[null,null,null,null,{"$f":"E19*10^-3","v":8.9043897514571701E-4},"Nm2/s",null,null,"Reynold number",{"$f":"E17*J19*J17/E20","v":617562.52417138009},null,null,null,null,"f left",{"$f":"1/(P19)^0.5","v":8.2152826750876109}]
[null,null,"Vapor pressure",null,{"$f":"-0.0589226720496775+1.01","v":0.95107732795032252},"bara",null,null,"Pipe DP",{"$f":"P25","v":0.18376774707144039},"bar/100m",null,null,null,"f right",{"$f":"-2*LOG(P13/(3.7*J17*0.3048)+2.51/(J20*(P19)^0.5))","v":8.2162586745246156}]
[null,null,"Pump efficiency",null,0.7,null,null,null,"Pipe DP acceptance",0.54,"bar/100m",null,null,null,"f left/f right",{"$f":"P20/P21","v":0.999881211208694},"Goal seek"]
[null,null,null,null,null,null,null,null,"Static head",{"$f":"E17*9.8*E26/10^5","v":4.9359485738818647E-2},"bar",null,null,null,"psi/100 ft",{"$f":"0.000336*P19*P15^2/(J17*1000/25.4)^5/P16","v":0.81217993495693785}]
[null,null,"SUCTION",null,null,null,null,null,"Pipe friction loss",{"$f":"J21*E27/100","v":2.7565162060716061E-2},"bar",null,null,null,"psi/ft",{"$f":"P23/100","v":8.1217993495693794E-3}]
[null,null,"Pressure",null,9.9778116398228506E-2,"barg",null,null,"Fitting friction loss",{"$f":"G43","v":1.4799096733765608E-3},"bar",null,null,null,"bar/100 m",{"$f":"P24*100/14.5/0.3048","v":0.18376774707144039}]
[null,null,"Static head",null,0.5,"m","note 1",null,"Suction Pressure",{"$f":"E25+J23-SUM(J24:J25)","v":0.12009253040295453},"bara"]
[null,null,"Length",null,15,"m","assumption",null,"Result",{"$f":"IF(AND(J18<J19,J21<J22),\"OK\",\"NOT OK\")","v":"NOT OK"}]
[null,null,"Pipe size",null,12,"in",null,null,null,null,null,null,null,null,"Side Calculation (Discharge)",null,null,null,"Pipe Nominal Diameter (in)","Maximum velocity (m/s)",null,"Allowable Pressure Drop "]
[null,null,"Schedule",null,40,null,null,null,"Discharge Hydraulic",null,null,null,null,null,"f tebakan",1.4379392802166975E-2,null,null,null,null,null,"(bar/100 m)"]
[null,null,"Fittings",null,null,null,null,null,"Pipe ID",{"$f":"VLOOKUP(E49,'Pipe size sch 40'!$A$5:$C$27,3,FALSE)*25.4/1000","v":0.25450799999999996},"m",null,null,null,"f left",{"$f":"1/(P29)^0.5","v":8.3393024715780246},null,null,null,"Pump Suction","Pump Discharge","Pump Suction","Pump Discharge"]
[null,null,null,null,"Qty","K","DP",null,"Velocity",{"$f":"E16/(PI()/4*J17^2)/3600","v":2.7102873215865726},"m/s",null,null,null,"f right",{"$f":"-2*LOG(P13/(3.7*J30*0.3048)+2.51/(J33*(P29)^0.5))","v":8.3394628727611657},null,null,"< 4",0.9,1.8,"0.23 to 0.54","0.34 to 0.68"]
[null,null,"Elbow 90 LR",{"$f":"C32&$E$28","v":"Elbow 90 LR12"},null,{"$f":"VLOOKUP(D32,'K-value'!$D$48:$E$146,2,FALSE)","v":0.21},{"$f":"E32*F32*$J$18^2/(2*9.8)*$E$17*9.8/10^5","v":0},null,"Velocity acceptance",{"$f":"IF(E28<4,1.8,IF(E28=4,2.4,IF(E28=6,3,IF(E28=8,4.3,5))))","v":5},"m/s","(max)",null,null,"f left/f right",{"$f":"P30/P31","v":0.99998076600548635},"Goal seek",null,4,1.4,2.4,"0.23 to 0.54","0.34 to 0.68"]
[null,null,"Elbow 45 LR","Elbow 45 LR12",null,{"$f":"VLOOKUP(D33,'K-value'!$D$48:$E$146,2,FALSE)","v":0.21},0,null,"Reynold number",{"$f":"E17*J32*J30/E20","v":1439599.9656144683},null,null,null,null,"psi/100 ft",{"$f":"0.000336*P29*P15^2/(J30*1000/25.4)^5/P16","v":1.8937421806744168},null,null,6,1.5,3,"0.23 to 0.54","0.34 to 0.68"]
[null,null,"Tee thru","Tee thru12",null,{"$f":"VLOOKUP(D34,'K-value'!$D$48:$E$146,2,FALSE)","v":0.26},0,null,"Pipe DP",{"$f":"P35","v":0.42848723429143293},"bar/100m",null,null,null,"psi/ft",{"$f":"P33/100","v":1.8937421806744167E-2},null,null,8,1.8,4.3,"0.23 to 0.54","0.34 to 0.68"]
[null,null,"Tee branch","Tee branch12",null,{"$f":"VLOOKUP(D35,'K-value'!$D$48:$E$146,2,FALSE)","v":0.78},0,null,"Pipe DP acceptance",0.54,"bar/100m",null,null,null,"bar/100 m",{"$f":"P34*100/14.5/0.3048","v":0.42848723429143293},null,null,">8",1.8,5,"0.23 to 0.54","0.34 to 0.68"]
[null,null,"Ball valve","Ball valve12",1,{"$f":"VLOOKUP(D36,'K-value'!$D$48:$E$146,2,FALSE)","v":0.04},1.4799096733765608E-3,null,"Static head",{"$f":"E16*9.8*E47/10^5","v":0.69073248008308863},"bar","note 2"]
[null,null,"Butterfly valve","Butterfly valve12",null,{"$f":"VLOOKUP(D37,'K-value'!$D$48:$E$146,2,FALSE)","v":0.35},0,null,"Line losses",{"$f":"J34*E48/100","v":8.5697446858286577E-2},"bar"]
[null,null,"Gate valve","Gate valve12",null,{"$f":"VLOOKUP(D38,'K-value'!$D$48:$E$146,2,FALSE)","v":0.1},0,null,"Fitting & eqp losses",{"$f":"G64","v":5.3276748241556177E-2},"bar",null,null,null,"NPSHA calculation"]
[null,null,"Globe valve","Globe valve12",null,{"$f":"VLOOKUP(D39,'K-value'!$D$48:$E$146,2,FALSE)","v":4.4000000000000004},0,null,"Discharge Pressure",{"$f":"E46+J36+J37+J38","v":2.0297066751829314},"barg",null,null,null,"HA",{"$f":"(E25+1.01)*100000/(E17*9.81)","v":11.230332199717688},"m"]
[null,null,"Check valve","Check valve12",null,{"$f":"VLOOKUP(D40,'K-value'!$D$48:$E$146,2,FALSE)","v":1.3},0,null,"Result",{"$f":"IF(AND(J31<J32,J34<J35),\"OK\",\"NOT OK\")","v":"OK"},null,null,null,null,"HZ",{"$f":"E26","v":0.5},"m"]
[null,null,"Plug valve","Plug valve12",null,{"$f":"VLOOKUP(D41,'K-value'!$D$48:$E$146,2,FALSE)","v":1.17},0,null,null,null,null,null,null,null,"HF",{"$f":"SUM(J24:J25)*-1","v":-2.9045071734092622E-2}]
[null,null,"Pipe entrance","Pipe entrance12",null,{"$f":"VLOOKUP(D42,'K-value'!$D$48:$E$146,2,FALSE)","v":0.78},0,null,"Pump Data",null,null,null,null,null,"HV",0]
[null,null,"Total, barg",null,null,null,{"$f":"SUM(G32:G42)","v":1.4799096733765608E-3},null,"Suction Pressure",{"$f":"J26","v":0.12009253040295453},"barg",null,null,null,"HVP",{"$f":"E21*10^5/(E17*9.8)*-1","v":-9.6341900013187338},"m"]
[null,null,null,null,null,null,null,null,"Discharge Pressure",{"$f":"J39","v":2.0297066751829314},"barg",null,null,null,"NPSHA",{"$f":"SUM(P39:P43)","v":2.0670971266648621},"m"]
[null,null,"DISCHARGE",null,null,null,null,null,"Differential Pressure",{"$f":"J44-J43","v":1.9096141447799768},"bar"]
[null,null,"Source pressure",null,1.2,"barg",null,null,"Differential Head",{"$f":"J45*10^5/(E17*9.8)","v":19.343942873357019},"m"]
[null,null,"Static head",null,10,"m","note 2",null,"Hydraulic Power",{"$f":"E17*9.8*J46*E16/3600000","v":37.387542920227318},"kW"]
[null,null,"Length",null,20,"m",null,null,"Pump BHP",{"$f":"J47/E22","v":53.41077560032474},"kW"]
[null,null,"Pipe size",null,10,"in",null,null,"NPSHa",{"$f":"P44","v":2.0670971266648621},"m","note 3"]
[null,null,"Schedule",null,40]
[null,null,"Fittings",null,null,null,null,null,"Note:"]
[null,null,null,null,"Qty","K","DP",null,"1. The minimum height of tank is assumed 0,5 m (LLLL)"]
[null,null,"Elbow 90 LR",{"$f":"C53&$E$49","v":"Elbow 90 LR10"},null,{"$f":"VLOOKUP(D53,'K-value'!$D$48:$E$124,2,FALSE)","v":0.22},{"$f":"E53*F53*$J$18^2/(2*9.8)*$E$17*9.8/10^5","v":0},null,"2. Discharge liquid level is asssumed 10 m"]
[null,null,"Elbow 45 LR","Elbow 45 LR10",null,{"$f":"VLOOKUP(D54,'K-value'!$D$48:$E$124,2,FALSE)","v":0.22},0,null,"3. Calculated NPSHA is without margin"]
[null,null,"Tee thru","Tee thru10",null,{"$f":"VLOOKUP(D55,'K-value'!$D$48:$E$124,2,FALSE)","v":0.28000000000000003},0]
[null,null,"Tee branch","Tee branch10",null,{"$f":"VLOOKUP(D56,'K-value'!$D$48:$E$124,2,FALSE)","v":0.84},0]
[null,null,"Ball valve","Ball valve10",1,{"$f":"VLOOKUP(D57,'K-value'!$D$48:$E$124,2,FALSE)","v":0.04},1.4799096733765608E-3]
[null,null,"Butterfly valve","Butterfly valve10",null,{"$f":"VLOOKUP(D58,'K-value'!$D$48:$E$124,2,FALSE)","v":0.63},0]
[null,null,"Gate valve","Gate valve10",null,{"$f":"VLOOKUP(D59,'K-value'!$D$48:$E$124,2,FALSE)","v":0.11},0]
[null,null,"Globe valve","Globe valve10",null,{"$f":"VLOOKUP(D60,'K-value'!$D$48:$E$124,2,FALSE)","v":4.8},0]
[null,null,"Check valve","Check valve10",1,{"$f":"VLOOKUP(D61,'K-value'!$D$48:$E$124,2,FALSE)","v":1.4},5.1796838568179619E-2]
[null,null,"Plug valve","Plug valve10",null,{"$f":"VLOOKUP(D62,'K-value'!$D$48:$E$124,2,FALSE)","v":1.26},0]
[null,null,"Pipe entrance","Pipe entrance10",null,{"$f":"VLOOKUP(D63,'K-value'!$D$48:$E$124,2,FALSE)","v":0.78},0]
[null,null,"Total, barg",null,null,null,{"$f":"SUM(G53:G63)","v":5.3276748241556177E-2}]

{"sheet":"36 - BOOSTER (G-2AB)","index":47,"n_rows":64,"n_cols":23,"rows_kept":64,"cut":false,"hidden":true,"merged":[[0,5,3,10],[27,18,29,18],[27,19,28,20],[27,21,27,22],[28,21,28,22]]}
[null,null,null,null,null,"PUMP SIZING"]
[]
[]
[]
[null,null,"Project: LNG Regasification in Central Region of Indonesia"]
[]
[null,null,"Equipment Design Group",null,"> 30","MMscfd"]
[null,null,"Equipment Design",null,36,"MMscfd"]
[null,null,null,null,"Booster compressor scheme"]
[null,null,"Tag No:",null,"MHP-G-002A/B"]
[null,null,"Description:",null,"LNG HP Pump"]
[null,null,"Location:",null,"Minahasa Peaker",null,null,null,null,null,null,null,null,null,"Pipe roughness",0.05,"mm"]
[null,null,null,null,null,null,null,null,null,null,null,null,null,null,null,{"$f":"P12/1000/3.28","v":1.5243902439024392E-5},"ft"]
[]
[null,null,"DATA",null,null,null,null,null,"RESULTS",null,null,null,null,null,"Mass flow",{"$f":"E16*E17/0.45","v":90152.22723755856},"lb/hr"]
[null,null,"Flow rate",null,93.709019033368804,"m3/h",null,null,"Suction Hydraulic",null,null,null,null,null,"Rho",{"$f":"E17/16.02","v":27.02371617760225},"lb/ft3"]
[null,null,"Density",null,432.91993316518801,"kg/m3",null,null,"Pipe ID",{"$f":"VLOOKUP(E28,'Pipe size sch 40'!$A$5:$C$27,3,FALSE)*25.4/1000","v":0.20269200000000001},"m"]
[null,null,"Flow temperature",null,-160.014167795997,"deg C",null,null,"Velocity",{"$f":"E16/(PI()/4*J17^2)/3600","v":0.80670694073777405},"m/s",null,null,null,"Side Calculation (Suction)"]
[null,null,"Viscocity",null,0.120878282445191,"cP",null,null,"Velocity acceptance",{"$f":"IF(E28<4,0.9,IF(E28=4,1.4,IF(E28=6,1.5,IF(E28=8,1.8,1.8))))","v":1.8},"m/s","(max)",null,null,"f tebakan",1.498939180761112E-2]
[null,null,null,null,{"$f":"E19*10^-3","v":1.2087828244519101E-4},"Nm2/s",null,null,"Reynold number",{"$f":"E17*J19*J17/E20","v":1306677.5070966994},null,null,null,null,"f left",{"$f":"1/(P19)^0.5","v":8.1678545258424275}]
[null,null,"Vapor pressure",null,{"$f":"0.0996457652480864+1.01","v":1.1096457652480864},"bara",null,null,"Pipe DP",{"$f":"P25","v":1.0590920734260349E-2},"bar/100m",null,null,null,"f right",{"$f":"-2*LOG(P13/(3.7*J17*0.3048)+2.51/(J20*(P19)^0.5))","v":8.1683890010826303}]
[null,null,"Pump efficiency",null,0.45,null,null,null,"Pipe DP acceptance",0.54,"bar/100m",null,null,null,"f left/f right",{"$f":"P20/P21","v":0.99993456785173529},"Goal seek"]
[null,null,null,null,null,null,null,null,"Static head",{"$f":"E17*9.8*E26/10^5","v":2.1213076725094215E-2},"bar",null,null,null,"psi/100 ft",{"$f":"0.000336*P19*P15^2/(J17*1000/25.4)^5/P16","v":4.6807633277137044E-2}]
[null,null,"SUCTION",null,null,null,null,null,"Pipe friction loss",{"$f":"J21*E27/100","v":1.5886381101390522E-3},"bar",null,null,null,"psi/ft",{"$f":"P23/100","v":4.6807633277137046E-4}]
[null,null,"Pressure",null,9.9531007565354601E-2,"barg",null,null,"Fitting friction loss",{"$f":"G43","v":5.6346788124796313E-5},"bar",null,null,null,"bar/100 m",{"$f":"P24*100/14.5/0.3048","v":1.0590920734260349E-2}]
[null,null,"Static head",null,0.5,"m","note 1",null,"Suction Pressure",{"$f":"E25+J23-SUM(J24:J25)","v":0.11909909939218496},"bara"]
[null,null,"Length",null,15,"m","assumption",null,"Result",{"$f":"IF(AND(J18<J19,J21<J22),\"OK\",\"NOT OK\")","v":"OK"}]
[null,null,"Pipe size",null,8,"in",null,null,null,null,null,null,null,null,"Side Calculation (Discharge)",null,null,null,"Pipe Nominal Diameter (in)","Maximum velocity (m/s)",null,"Allowable Pressure Drop "]
[null,null,"Schedule",null,40,null,null,null,"Discharge Hydraulic",null,null,null,null,null,"f tebakan",1.6949867234347216E-2,null,null,null,null,null,"(bar/100 m)"]
[null,null,"Fittings",null,null,null,null,null,"Pipe ID",{"$f":"VLOOKUP(E49,'Pipe size sch 40'!$A$5:$C$27,3,FALSE)*25.4/1000","v":0.10236199999999999},"m",null,null,null,"f left",{"$f":"1/(P29)^0.5","v":7.6809838082199695},null,null,null,"Pump Suction","Pump Discharge","Pump Suction","Pump Discharge"]
[null,null,null,null,"Qty","K","DP",null,"Velocity",{"$f":"E16/(PI()/4*J17^2)/3600","v":0.80670694073777405},"m/s",null,null,null,"f right",{"$f":"-2*LOG(P13/(3.7*J30*0.3048)+2.51/(J33*(P29)^0.5))","v":7.6815839203816951},null,null,"< 4",0.9,1.8,"0.23 to 0.54","0.34 to 0.68"]
[null,null,"Elbow 90 LR",{"$f":"C32&$E$28","v":"Elbow 90 LR8"},null,{"$f":"VLOOKUP(D32,'K-value'!$D$48:$E$124,2,FALSE)","v":0.22},{"$f":"E32*F32*$J$18^2/(2*9.8)*$E$17*9.8/10^5","v":0},null,"Velocity acceptance",{"$f":"IF(E28<4,1.8,IF(E28=4,2.4,IF(E28=6,3,IF(E28=8,4.3,5))))","v":4.3},"m/s","(max)",null,null,"f left/f right",{"$f":"P30/P31","v":0.99992187650776898},"Goal seek",null,4,1.4,2.4,"0.23 to 0.54","0.34 to 0.68"]
[null,null,"Elbow 45 LR","Elbow 45 LR8",null,{"$f":"VLOOKUP(D33,'K-value'!$D$48:$E$124,2,FALSE)","v":0.22},0,null,"Reynold number",{"$f":"E17*J32*J30/E20","v":1576400.3425563006},null,null,null,null,"psi/100 ft",{"$f":"0.000336*P29*P15^2/(J30*1000/25.4)^5/P16","v":1.611343745298264},null,null,6,1.5,3,"0.23 to 0.54","0.34 to 0.68"]
[null,null,"Tee thru","Tee thru8",null,{"$f":"VLOOKUP(D34,'K-value'!$D$48:$E$124,2,FALSE)","v":0.28000000000000003},0,null,"Pipe DP",{"$f":"P35","v":0.36459040304513168},"bar/100m",null,null,null,"psi/ft",{"$f":"P33/100","v":1.6113437452982639E-2},null,null,8,1.8,4.3,"0.23 to 0.54","0.34 to 0.68"]
[null,null,"Tee branch","Tee branch8",null,{"$f":"VLOOKUP(D35,'K-value'!$D$48:$E$124,2,FALSE)","v":0.84},0,null,"Pipe DP acceptance",0.54,"bar/100m",null,null,null,"bar/100 m",{"$f":"P34*100/14.5/0.3048","v":0.36459040304513168},null,null,">8",1.8,5,"0.23 to 0.54","0.34 to 0.68"]
[null,null,"Ball valve","Ball valve8",1,{"$f":"VLOOKUP(D36,'K-value'!$D$48:$E$124,2,FALSE)","v":0.04},5.6346788124796313E-5,null,"Static head",{"$f":"E16*9.8*E47/10^5","v":2.7550451595810429E-2},"bar","note 2"]
[null,null,"Butterfly valve","Butterfly valve8",null,{"$f":"VLOOKUP(D37,'K-value'!$D$48:$E$124,2,FALSE)","v":0.63},0,null,"Line losses",{"$f":"J34*E48/100","v":5.4688560456769758E-2},"bar"]
[null,null,"Gate valve","Gate valve8",null,{"$f":"VLOOKUP(D38,'K-value'!$D$48:$E$124,2,FALSE)","v":0.11},0,null,"Fitting & eqp losses",{"$f":"G64","v":2.4651719804598387E-3},"bar",null,null,null,"NPSHA calculation"]
[null,null,"Globe valve","Globe valve8",null,{"$f":"VLOOKUP(D39,'K-value'!$D$48:$E$124,2,FALSE)","v":4.8},0,null,"Discharge Pressure",{"$f":"E46+J36+J37+J38","v":53.084704184033036},"barg",null,null,null,"HA",{"$f":"(E25+1.01)*100000/(E17*9.81)","v":26.125394291792912},"m"]
[null,null,"Check valve","Check valve8",null,{"$f":"VLOOKUP(D40,'K-value'!$D$48:$E$124,2,FALSE)","v":1.4},0,null,"Result",{"$f":"IF(AND(J31<J32,J34<J35),\"OK\",\"NOT OK\")","v":"OK"},null,null,null,null,"HZ",{"$f":"E26","v":0.5},"m"]
[null,null,"Plug valve","Plug valve8",null,{"$f":"VLOOKUP(D41,'K-value'!$D$48:$E$124,2,FALSE)","v":1.26},0,null,null,null,null,null,null,null,"HF",{"$f":"SUM(J24:J25)*-1","v":-1.6449848982638487E-3}]
[null,null,"Pipe entrance","Pipe entrance8",null,{"$f":"VLOOKUP(D42,'K-value'!$D$48:$E$124,2,FALSE)","v":0.78},0,null,"Pump Data",null,null,null,null,null,"HV",0]
[null,null,"Total, barg",null,null,null,{"$f":"SUM(G32:G42)","v":5.6346788124796313E-5},null,"Suction Pressure",{"$f":"J26","v":0.11909909939218496},"barg",null,null,null,"HVP",{"$f":"E21*10^5/(E17*9.8)*-1","v":-26.154757738075311},"m"]
[null,null,null,null,null,null,null,null,"Discharge Pressure",{"$f":"J39","v":53.084704184033036},"barg",null,null,null,"NPSHA",{"$f":"SUM(P39:P43)","v":0.46899156881933735},"m"]
[null,null,"DISCHARGE",null,null,null,null,null,"Differential Pressure",{"$f":"J44-J43","v":52.965605084640849},"bar"]
[null,null,"Source pressure",null,53,"barg",null,null,"Differential Head",{"$f":"J45*10^5/(E17*9.8)","v":1248.4187412093945},"m"]
[null,null,"Static head",null,3,"m","note 2",null,"Hydraulic Power",{"$f":"E17*9.8*J46*E16/3600000","v":137.87096930529179},"kW"]
[null,null,"Length",null,15,"m",null,null,"Pump BHP",{"$f":"J47/E22","v":306.3799317895373},"kW"]
[null,null,"Pipe size",null,4,"in",null,null,"NPSHa",{"$f":"P44","v":0.46899156881933735},"m","note 3"]
[null,null,"Schedule",null,40]
[null,null,"Fittings",null,null,null,null,null,"Note:"]
[null,null,null,null,"Qty","K","DP",null,"1. The minimum height of tank is assumed 0,5 m (LLLL)"]
[null,null,"Elbow 90 LR",{"$f":"C53&$E$49","v":"Elbow 90 LR4"},null,{"$f":"VLOOKUP(D53,'K-value'!$D$48:$E$124,2,FALSE)","v":0.27},{"$f":"E53*F53*$J$18^2/(2*9.8)*$E$17*9.8/10^5","v":0},null,"2. Discharge liquid level is assumed 3 m above grade elevation"]
[null,null,"Elbow 45 LR","Elbow 45 LR4",null,{"$f":"VLOOKUP(D54,'K-value'!$D$48:$E$124,2,FALSE)","v":0.27},0,null,"3. Calculated NPSHA is without margin"]
[null,null,"Tee thru","Tee thru4",null,{"$f":"VLOOKUP(D55,'K-value'!$D$48:$E$124,2,FALSE)","v":0.34},0]
[null,null,"Tee branch","Tee branch4",null,{"$f":"VLOOKUP(D56,'K-value'!$D$48:$E$124,2,FALSE)","v":1.02},0]
[null,null,"Ball valve","Ball valve4",1,{"$f":"VLOOKUP(D57,'K-value'!$D$48:$E$124,2,FALSE)","v":0.05},7.043348515599541E-5]
[null,null,"Butterfly valve","Butterfly valve4",null,{"$f":"VLOOKUP(D58,'K-value'!$D$48:$E$124,2,FALSE)","v":0.77},0]
[null,null,"Gate valve","Gate valve4",null,{"$f":"VLOOKUP(D59,'K-value'!$D$48:$E$124,2,FALSE)","v":0.14000000000000001},0]
[null,null,"Globe valve","Globe valve4",null,{"$f":"VLOOKUP(D60,'K-value'!$D$48:$E$124,2,FALSE)","v":5.8},0]
[null,null,"Check valve","Check valve4",1,{"$f":"VLOOKUP(D61,'K-value'!$D$48:$E$124,2,FALSE)","v":1.7},2.3947384953038435E-3]
[null,null,"Plug valve","Plug valve4",null,{"$f":"VLOOKUP(D62,'K-value'!$D$48:$E$124,2,FALSE)","v":1.53},0]
[null,null,"Pipe entrance","Pipe entrance4",null,{"$f":"VLOOKUP(D63,'K-value'!$D$48:$E$124,2,FALSE)","v":0.78},0]
[null,null,"Total, barg",null,null,null,{"$f":"SUM(G53:G63)","v":2.4651719804598387E-3}]

{"sheet":"36 - BOOSTER (G-1AB)","index":48,"n_rows":64,"n_cols":23,"rows_kept":64,"cut":false,"hidden":true,"merged":[[0,5,3,10],[27,18,29,18],[27,19,28,20],[27,21,27,22],[28,21,28,22]]}
[null,null,null,null,null,"PUMP SIZING"]
[]
[]
[]
[null,null,"Project: LNG Regasification in Central Region of Indonesia"]
[]
[null,null,"Equipment Design Group",null,"> 30","MMscfd"]
[null,null,"Equipment Design",null,36,"MMscfd"]
[null,null,null,null,"Booster compressor scheme"]
[null,null,"Tag No:",null,"MHP-G-001A/B"]
[null,null,"Description:",null,"LNG Recirculation Pump"]
[null,null,"Location:",null,"Minahasa Peaker",null,null,null,null,null,null,null,null,null,"Pipe roughness",0.05,"mm"]
[null,null,null,null,null,null,null,null,null,null,null,null,null,null,null,{"$f":"P12/1000/3.28","v":1.5243902439024392E-5},"ft"]
[]
[null,null,"DATA",null,null,null,null,null,"RESULTS",null,null,null,null,null,"Mass flow",{"$f":"E16*E17/0.45","v":22611.212245925391},"lb/hr"]
[null,null,"Flow rate",null,23.427254758342201,"m3/h",null,null,"Suction Hydraulic",null,null,null,null,null,"Rho",{"$f":"E17/16.02","v":27.111431448289078},"lb/ft3"]
[null,null,"Density",null,434.325131801591,"kg/m3",null,null,"Pipe ID",{"$f":"VLOOKUP(E28,'Pipe size sch 40'!$A$5:$C$27,3,FALSE)*25.4/1000","v":0.15417800000000001},"m"]
[null,null,"Flow temperature",null,-160.01192192814199,"deg C",null,null,"Velocity",{"$f":"E16/(PI()/4*J17^2)/3600","v":0.34856534193984601},"m/s",null,null,null,"Side Calculation (Suction)"]
[null,null,"Viscocity",null,0.120872552512927,"cP",null,null,"Velocity acceptance",{"$f":"IF(E28<4,0.9,IF(E28=4,1.4,IF(E28=6,1.5,IF(E28=8,1.8,1.8))))","v":1.5},"m/s","(max)",null,null,"f tebakan",1.6009855886261967E-2]
[null,null,null,null,{"$f":"E19*10^-3","v":1.20872552512927E-4},"Nm2/s",null,null,"Reynold number",{"$f":"E17*J19*J17/E20","v":830999.82724048314},null,null,null,null,"f left",{"$f":"1/(P19)^0.5","v":7.9032603490674829}]
[null,null,"Vapor pressure",null,{"$f":"0.099845164734875+1.01","v":1.109845164734875},"bara",null,null,"Pipe DP",{"$f":"P25","v":2.785451010203313E-3},"bar/100m",null,null,null,"f right",{"$f":"-2*LOG(P13/(3.7*J17*0.3048)+2.51/(J20*(P19)^0.5))","v":7.9051177841233606}]
[null,null,"Pump efficiency",null,0.45,null,null,null,"Pipe DP acceptance",0.54,"bar/100m",null,null,null,"f left/f right",{"$f":"P20/P21","v":0.99976503385444704},"Goal seek"]
[null,null,null,null,null,null,null,null,"Static head",{"$f":"E17*9.8*E26/10^5","v":2.1281931458277958E-2},"bar",null,null,null,"psi/100 ft",{"$f":"0.000336*P19*P15^2/(J17*1000/25.4)^5/P16","v":1.2310579284694563E-2}]
[null,null,"SUCTION",null,null,null,null,null,"Pipe friction loss",{"$f":"J21*E27/100","v":4.1781765153049694E-4},"bar",null,null,null,"psi/ft",{"$f":"P23/100","v":1.2310579284694563E-4}]
[null,null,"Pressure",null,9.9729174104944598E-2,"barg",null,null,"Fitting friction loss",{"$f":"G43","v":1.3192386739234021E-5},"bar",null,null,null,"bar/100 m",{"$f":"P24*100/14.5/0.3048","v":2.785451010203313E-3}]
[null,null,"Static head",null,0.5,"m","note 1",null,"Suction Pressure",{"$f":"E25+J23-SUM(J24:J25)","v":0.12058009552495283},"bara"]
[null,null,"Length",null,15,"m","assumption",null,"Result",{"$f":"IF(AND(J18<J19,J21<J22),\"OK\",\"NOT OK\")","v":"OK"}]
[null,null,"Pipe size",null,6,"in",null,null,null,null,null,null,null,null,"Side Calculation (Discharge)",null,null,null,"Pipe Nominal Diameter (in)","Maximum velocity (m/s)",null,"Allowable Pressure Drop "]
[null,null,"Schedule",null,40,null,null,null,"Discharge Hydraulic",null,null,null,null,null,"f tebakan",1.8175147939102545E-2,null,null,null,null,null,"(bar/100 m)"]
[null,null,"Fittings",null,null,null,null,null,"Pipe ID",{"$f":"VLOOKUP(E49,'Pipe size sch 40'!$A$5:$C$27,3,FALSE)*25.4/1000","v":7.7977999999999992E-2},"m",null,null,null,"f left",{"$f":"1/(P29)^0.5","v":7.4175592272196171},null,null,null,"Pump Suction","Pump Discharge","Pump Suction","Pump Discharge"]
[null,null,null,null,"Qty","K","DP",null,"Velocity",{"$f":"E16/(PI()/4*J17^2)/3600","v":0.34856534193984601},"m/s",null,null,null,"f right",{"$f":"-2*LOG(P13/(3.7*J30*0.3048)+2.51/(J33*(P29)^0.5))","v":7.4177401154813811},null,null,"< 4",0.9,1.8,"0.23 to 0.54","0.34 to 0.68"]
[null,null,"Elbow 90 LR",{"$f":"C32&$E$28","v":"Elbow 90 LR6"},null,{"$f":"VLOOKUP(D32,'K-value'!$D$48:$E$124,2,FALSE)","v":0.24},{"$f":"E32*F32*$J$18^2/(2*9.8)*$E$17*9.8/10^5","v":0},null,"Velocity acceptance",{"$f":"IF(E28<4,1.8,IF(E28=4,2.4,IF(E28=6,3,IF(E28=8,4.3,5))))","v":3},"m/s","(max)",null,null,"f left/f right",{"$f":"P30/P31","v":0.99997561410093261},"Goal seek",null,4,1.4,2.4,"0.23 to 0.54","0.34 to 0.68"]
[null,null,"Elbow 45 LR","Elbow 45 LR6",null,{"$f":"VLOOKUP(D33,'K-value'!$D$48:$E$124,2,FALSE)","v":0.24},0,null,"Reynold number",{"$f":"E17*J32*J30/E20","v":840583.02129432699},null,null,null,null,"psi/100 ft",{"$f":"0.000336*P29*P15^2/(J30*1000/25.4)^5/P16","v":0.42229953132027442},null,null,6,1.5,3,"0.23 to 0.54","0.34 to 0.68"]
[null,null,"Tee thru","Tee thru6",null,{"$f":"VLOOKUP(D34,'K-value'!$D$48:$E$124,2,FALSE)","v":0.3},0,null,"Pipe DP",{"$f":"P35","v":9.5551527586268975E-2},"bar/100m",null,null,null,"psi/ft",{"$f":"P33/100","v":4.2229953132027443E-3},null,null,8,1.8,4.3,"0.23 to 0.54","0.34 to 0.68"]
[null,null,"Tee branch","Tee branch6",null,{"$f":"VLOOKUP(D35,'K-value'!$D$48:$E$124,2,FALSE)","v":0.9},0,null,"Pipe DP acceptance",0.54,"bar/100m",null,null,null,"bar/100 m",{"$f":"P34*100/14.5/0.3048","v":9.5551527586268975E-2},null,null,">8",1.8,5,"0.23 to 0.54","0.34 to 0.68"]
[null,null,"Ball valve","Ball valve6",1,{"$f":"VLOOKUP(D36,'K-value'!$D$48:$E$124,2,FALSE)","v":0.05},1.3192386739234021E-5,null,"Static head",{"$f":"E16*9.8*E47/10^5","v":6.8876128989526072E-3},"bar","note 2"]
[null,null,"Butterfly valve","Butterfly valve6",null,{"$f":"VLOOKUP(D37,'K-value'!$D$48:$E$124,2,FALSE)","v":0.68},0,null,"Line losses",{"$f":"J34*E48/100","v":1.4332729137940346E-2},"bar"]
[null,null,"Gate valve","Gate valve6",null,{"$f":"VLOOKUP(D38,'K-value'!$D$48:$E$124,2,FALSE)","v":0.12},0,null,"Fitting & eqp losses",{"$f":"G64","v":4.8811830935165882E-4},"bar",null,null,null,"NPSHA calculation"]
[null,null,"Globe valve","Globe valve6",null,{"$f":"VLOOKUP(D39,'K-value'!$D$48:$E$124,2,FALSE)","v":5.0999999999999996},0,null,"Discharge Pressure",{"$f":"E46+J36+J37+J38","v":0.27170846034624463},"barg",null,null,null,"HA",{"$f":"(E25+1.01)*100000/(E17*9.81)","v":26.045520207566451},"m"]
[null,null,"Check valve","Check valve6",null,{"$f":"VLOOKUP(D40,'K-value'!$D$48:$E$124,2,FALSE)","v":1.5},0,null,"Result",{"$f":"IF(AND(J31<J32,J34<J35),\"OK\",\"NOT OK\")","v":"OK"},null,null,null,null,"HZ",{"$f":"E26","v":0.5},"m"]
[null,null,"Plug valve","Plug valve6",null,{"$f":"VLOOKUP(D41,'K-value'!$D$48:$E$124,2,FALSE)","v":1.35},0,null,null,null,null,null,null,null,"HF",{"$f":"SUM(J24:J25)*-1","v":-4.3101003826973098E-4}]
[null,null,"Pipe entrance","Pipe entrance6",null,{"$f":"VLOOKUP(D42,'K-value'!$D$48:$E$124,2,FALSE)","v":0.78},0,null,"Pump Data",null,null,null,null,null,"HV",0]
[null,null,"Total, barg",null,null,null,{"$f":"SUM(G32:G42)","v":1.3192386739234021E-5},null,"Suction Pressure",{"$f":"J26","v":0.12058009552495283},"barg",null,null,null,"HVP",{"$f":"E21*10^5/(E17*9.8)*-1","v":-26.074822365410409},"m"]
[null,null,null,null,null,null,null,null,"Discharge Pressure",{"$f":"J39","v":0.27170846034624463},"barg",null,null,null,"NPSHA",{"$f":"SUM(P39:P43)","v":0.47026683211777254},"m"]
[null,null,"DISCHARGE",null,null,null,null,null,"Differential Pressure",{"$f":"J44-J43","v":0.1511283648212918},"bar"]
[null,null,"Source pressure",null,0.25,"barg",null,null,"Differential Head",{"$f":"J45*10^5/(E17*9.8)","v":3.5506261524610805},"m"]
[null,null,"Static head",null,3,"m","note 2",null,"Hydraulic Power",{"$f":"E17*9.8*J46*E16/3600000","v":9.8347852885557904E-2},"kW"]
[null,null,"Length",null,15,"m",null,null,"Pump BHP",{"$f":"J47/E22","v":0.21855078419012866},"kW"]
[null,null,"Pipe size",null,3,"in",null,null,"NPSHa",{"$f":"P44","v":0.47026683211777254},"m","note 3"]
[null,null,"Schedule",null,40]
[null,null,"Fittings",null,null,null,null,null,"Note:"]
[null,null,null,null,"Qty","K","DP",null,"1. The minimum height of tank is assumed 0,5 m (LLLL)"]
[null,null,"Elbow 90 LR",{"$f":"C53&$E$49","v":"Elbow 90 LR3"},null,{"$f":"VLOOKUP(D53,'K-value'!$D$48:$E$124,2,FALSE)","v":0.28999999999999998},{"$f":"E53*F53*$J$18^2/(2*9.8)*$E$17*9.8/10^5","v":0},null,"2. Discharge liquid level is assumed 3 m above grade elevation"]
[null,null,"Elbow 45 LR","Elbow 45 LR3",null,{"$f":"VLOOKUP(D54,'K-value'!$D$48:$E$124,2,FALSE)","v":0.28999999999999998},0,null,"3. Calculated NPSHA is without margin"]
[null,null,"Tee thru","Tee thru3",null,{"$f":"VLOOKUP(D55,'K-value'!$D$48:$E$124,2,FALSE)","v":0.36},0]
[null,null,"Tee branch","Tee branch3",null,{"$f":"VLOOKUP(D56,'K-value'!$D$48:$E$124,2,FALSE)","v":1.08},0]
[null,null,"Ball valve","Ball valve3",1,{"$f":"VLOOKUP(D57,'K-value'!$D$48:$E$124,2,FALSE)","v":0.05},1.3192386739234021E-5]
[null,null,"Butterfly valve","Butterfly valve3",null,{"$f":"VLOOKUP(D58,'K-value'!$D$48:$E$124,2,FALSE)","v":0.81},0]
[null,null,"Gate valve","Gate valve3",null,{"$f":"VLOOKUP(D59,'K-value'!$D$48:$E$124,2,FALSE)","v":0.14000000000000001},0]
[null,null,"Globe valve","Globe valve3",null,{"$f":"VLOOKUP(D60,'K-value'!$D$48:$E$124,2,FALSE)","v":6.1},0]
[null,null,"Check valve","Check valve3",1,{"$f":"VLOOKUP(D61,'K-value'!$D$48:$E$124,2,FALSE)","v":1.8},4.7492592261242478E-4]
[null,null,"Plug valve","Plug valve3",null,{"$f":"VLOOKUP(D62,'K-value'!$D$48:$E$124,2,FALSE)","v":1.62},0]
[null,null,"Pipe entrance","Pipe entrance3",null,{"$f":"VLOOKUP(D63,'K-value'!$D$48:$E$124,2,FALSE)","v":0.78},0]
[null,null,"Total, barg",null,null,null,{"$f":"SUM(G53:G63)","v":4.8811830935165882E-4}]

{"sheet":"36 - BOOSTER (G-3AB)","index":49,"n_rows":64,"n_cols":23,"rows_kept":64,"cut":false,"hidden":true,"merged":[[0,5,3,10],[27,18,29,18],[27,19,28,20],[27,21,27,22],[28,21,28,22]]}
[null,null,null,null,null,"PUMP SIZING"]
[]
[]
[]
[null,null,"Project: LNG Regasification in Central Region of Indonesia"]
[]
[null,null,"Equipment Design Group",null,"> 30","MMscfd"]
[null,null,"Equipment Design",null,36,"MMscfd"]
[null,null,null,null,"Booster compressor scheme"]
[null,null,"Tag No:",null,"MHP-G-003A/B"]
[null,null,"Description:",null,"Seawater Pump"]
[null,null,"Location:",null,"Minahasa Peaker",null,null,null,null,null,null,null,null,null,"Pipe roughness",0.05,"mm"]
[null,null,null,null,null,null,null,null,null,null,null,null,null,null,null,{"$f":"P12/1000/3.28","v":1.5243902439024392E-5},"ft"]
[]
[null,null,"DATA",null,null,null,null,null,"RESULTS",null,null,null,null,null,"Mass flow",{"$f":"E16*E17/0.45","v":1592548.1496670598},"lb/hr"]
[null,null,"Flow rate",null,711.43280935120595,"m3/h",null,null,"Suction Hydraulic",null,null,null,null,null,"Rho",{"$f":"E17/16.02","v":62.879442722003745},"lb/ft3"]
[null,null,"Density",null,1007.3286724065,"kg/m3",null,null,"Pipe ID",{"$f":"VLOOKUP(E28,'Pipe size sch 40'!$A$5:$C$27,3,FALSE)*25.4/1000","v":0.30327599999999993},"m"]
[null,null,"Flow temperature",null,25.003592122852101,"deg C",null,null,"Velocity",{"$f":"E16/(PI()/4*J17^2)/3600","v":2.7356807901245372},"m/s",null,null,null,"Side Calculation (Suction)"]
[null,null,"Viscocity",null,0.89036601262688697,"cP",null,null,"Velocity acceptance",{"$f":"IF(E28<4,0.9,IF(E28=4,1.4,IF(E28=6,1.5,IF(E28=8,1.8,1.8))))","v":1.8},"m/s","(max)",null,null,"f tebakan",1.6009855886261967E-2]
[null,null,null,null,{"$f":"E19*10^-3","v":8.9036601262688702E-4},"Nm2/s",null,null,"Reynold number",{"$f":"E17*J19*J17/E20","v":617608.36669019866},null,null,null,null,"f left",{"$f":"1/(P19)^0.5","v":7.9032603490674829}]
[null,null,"Vapor pressure",null,{"$f":"-0.982148666890848+1.01","v":2.7851333109151999E-2},"bara",null,null,"Pipe DP",{"$f":"P25","v":0.20230124742521347},"bar/100m",null,null,null,"f right",{"$f":"-2*LOG(P13/(3.7*J17*0.3048)+2.51/(J20*(P19)^0.5))","v":8.2305312086723994}]
[null,null,"Pump efficiency",null,0.7,null,null,null,"Pipe DP acceptance",0.54,"bar/100m",null,null,null,"f left/f right",{"$f":"P20/P21","v":0.96023696997101771},"Goal seek"]
[null,null,null,null,null,null,null,null,"Static head",{"$f":"E17*9.8*E26/10^5","v":4.9359104947918502E-2},"bar",null,null,null,"psi/100 ft",{"$f":"0.000336*P19*P15^2/(J17*1000/25.4)^5/P16","v":0.89409059312047356}]
[null,null,"SUCTION",null,null,null,null,null,"Pipe friction loss",{"$f":"J21*E27/100","v":3.0345187113782021E-2},"bar",null,null,null,"psi/ft",{"$f":"P23/100","v":8.9409059312047356E-3}]
[null,null,"Pressure",null,9.9564877351548703E-2,"barg",null,null,"Fitting friction loss",{"$f":"G43","v":1.5077593597618499E-3},"bar",null,null,null,"bar/100 m",{"$f":"P24*100/14.5/0.3048","v":0.20230124742521347}]
[null,null,"Static head",null,0.5,"m","note 1",null,"Suction Pressure",{"$f":"E25+J23-SUM(J24:J25)","v":0.11707103582592335},"bara"]
[null,null,"Length",null,15,"m","assumption",null,"Result",{"$f":"IF(OR(J18<J19,J21<J22),\"OK\",\"NOT OK\")","v":"OK"}]
[null,null,"Pipe size",null,12,"in",null,null,null,null,null,null,null,null,"Side Calculation (Discharge)",null,null,null,"Pipe Nominal Diameter (in)","Maximum velocity (m/s)",null,"Allowable Pressure Drop "]
[null,null,"Schedule",null,40,null,null,null,"Discharge Hydraulic",null,null,null,null,null,"f tebakan",1.8175147939102545E-2,null,null,null,null,null,"(bar/100 m)"]
[null,null,"Fittings",null,null,null,null,null,"Pipe ID",{"$f":"VLOOKUP(E49,'Pipe size sch 40'!$A$5:$C$27,3,FALSE)*25.4/1000","v":0.30327599999999993},"m",null,null,null,"f left",{"$f":"1/(P29)^0.5","v":7.4175592272196171},null,null,null,"Pump Suction","Pump Discharge","Pump Suction","Pump Discharge"]
[null,null,null,null,"Qty","K","DP",null,"Velocity",{"$f":"E16/(PI()/4*J17^2)/3600","v":2.7356807901245372},"m/s",null,null,null,"f right",{"$f":"-2*LOG(P13/(3.7*J30*0.3048)+2.51/(J33*(P29)^0.5))","v":8.5126319519398184},null,null,"< 4",0.9,1.8,"0.23 to 0.54","0.34 to 0.68"]
[null,null,"Elbow 90 LR",{"$f":"C32&$E$28","v":"Elbow 90 LR12"},null,{"$f":"VLOOKUP(D32,'K-value'!$D$48:$E$146,2,FALSE)","v":0.21},{"$f":"E32*F32*$J$18^2/(2*9.8)*$E$17*9.8/10^5","v":0},null,"Velocity acceptance",{"$f":"IF(E28<4,1.8,IF(E28=4,2.4,IF(E28=6,3,IF(E28=8,4.3,5))))","v":5},"m/s","(max)",null,null,"f left/f right",{"$f":"P30/P31","v":0.87135908953861663},"Goal seek",null,4,1.4,2.4,"0.23 to 0.54","0.34 to 0.68"]
[null,null,"Elbow 45 LR","Elbow 45 LR12",null,{"$f":"VLOOKUP(D33,'K-value'!$D$48:$E$146,2,FALSE)","v":0.21},0,null,"Reynold number",{"$f":"E17*J32*J30/E20","v":1715578.7963616629},null,null,null,null,"psi/100 ft",{"$f":"0.000336*P29*P15^2/(J30*1000/25.4)^5/P16","v":1.0150140586130347},null,null,6,1.5,3,"0.23 to 0.54","0.34 to 0.68"]
[null,null,"Tee thru","Tee thru12",null,{"$f":"VLOOKUP(D34,'K-value'!$D$48:$E$146,2,FALSE)","v":0.26},0,null,"Pipe DP",{"$f":"P35","v":0.22966197362047122},"bar/100m",null,null,null,"psi/ft",{"$f":"P33/100","v":1.0150140586130348E-2},null,null,8,1.8,4.3,"0.23 to 0.54","0.34 to 0.68"]
[null,null,"Tee branch","Tee branch12",null,{"$f":"VLOOKUP(D35,'K-value'!$D$48:$E$146,2,FALSE)","v":0.78},0,null,"Pipe DP acceptance",0.54,"bar/100m",null,null,null,"bar/100 m",{"$f":"P34*100/14.5/0.3048","v":0.22966197362047122},null,null,">8",1.8,5,"0.23 to 0.54","0.34 to 0.68"]
[null,null,"Ball valve","Ball valve12",1,{"$f":"VLOOKUP(D36,'K-value'!$D$48:$E$146,2,FALSE)","v":0.04},1.5077593597618499E-3,null,"Static head",{"$f":"E16*9.8*E47/10^5","v":0.69720415316418194},"bar","note 2"]
[null,null,"Butterfly valve","Butterfly valve12",null,{"$f":"VLOOKUP(D37,'K-value'!$D$48:$E$146,2,FALSE)","v":0.35},0,null,"Line losses",{"$f":"J34*E48/100","v":4.5932394724094244E-2},"bar"]
[null,null,"Gate valve","Gate valve12",null,{"$f":"VLOOKUP(D38,'K-value'!$D$48:$E$146,2,FALSE)","v":0.1},0,null,"Fitting & eqp losses",{"$f":"G64","v":5.0509938552021967E-2},"bar",null,null,null,"NPSHA calculation"]
[null,null,"Globe valve","Globe valve12",null,{"$f":"VLOOKUP(D39,'K-value'!$D$48:$E$146,2,FALSE)","v":4.4000000000000004},0,null,"Discharge Pressure",{"$f":"E46+J36+J37+J38","v":2.2936464864402981},"barg",null,null,null,"HA",{"$f":"(E25+1.01)*100000/(E17*9.81)","v":11.22826096218996},"m"]
[null,null,"Check valve","Check valve12",null,{"$f":"VLOOKUP(D40,'K-value'!$D$48:$E$146,2,FALSE)","v":1.3},0,null,"Result",{"$f":"IF(AND(J31<J32,J34<J35),\"OK\",\"NOT OK\")","v":"OK"},null,null,null,null,"HZ",{"$f":"E26","v":0.5},"m"]
[null,null,"Plug valve","Plug valve12",null,{"$f":"VLOOKUP(D41,'K-value'!$D$48:$E$146,2,FALSE)","v":1.17},0,null,null,null,null,null,null,null,"HF",{"$f":"SUM(J24:J25)*-1","v":-3.1852946473543871E-2}]
[null,null,"Pipe entrance","Pipe entrance12",null,{"$f":"VLOOKUP(D42,'K-value'!$D$48:$E$146,2,FALSE)","v":0.78},0,null,"Pump Data",null,null,null,null,null,"HV",0]
[null,null,"Total, barg",null,null,null,{"$f":"SUM(G32:G42)","v":1.5077593597618499E-3},null,"Suction Pressure",{"$f":"J26","v":0.11707103582592335},"barg",null,null,null,"HVP",{"$f":"E21*10^5/(E17*9.8)*-1","v":-0.28212964090960996},"m"]
[null,null,null,null,null,null,null,null,"Discharge Pressure",{"$f":"J39","v":2.2936464864402981},"barg",null,null,null,"NPSHA",{"$f":"SUM(P39:P43)","v":11.414278374806807},"m"]
[null,null,"DISCHARGE",null,null,null,null,null,"Differential Pressure",{"$f":"J44-J43","v":2.1765754506143749},"bar"]
[null,null,"Source pressure",null,1.5,"barg",null,null,"Differential Head",{"$f":"J45*10^5/(E17*9.8)","v":22.048368309261267},"m"]
[null,null,"Static head",null,10,"m","note 2",null,"Hydraulic Power",{"$f":"E17*9.8*J46*E16/3600000","v":43.013532988762542},"kW"]
[null,null,"Length",null,20,"m",null,null,"Pump BHP",{"$f":"J47/E22","v":61.447904269660775},"kW"]
[null,null,"Pipe size",null,12,"in",null,null,"NPSHa",{"$f":"P44","v":11.414278374806807},"m","note 3"]
[null,null,"Schedule",null,40]
[null,null,"Fittings",null,null,null,null,null,"Note:"]
[null,null,null,null,"Qty","K","DP",null,"1. The minimum height of tank is assumed 0,5 m (LLLL)"]
[null,null,"Elbow 90 LR",{"$f":"C53&$E$49","v":"Elbow 90 LR12"},null,{"$f":"VLOOKUP(D53,'K-value'!$D$48:$E$146,2,FALSE)","v":0.21},{"$f":"E53*F53*$J$18^2/(2*9.8)*$E$17*9.8/10^5","v":0},null,"2. Discharge liquid level is assumed 10 m above grade elevation"]
[null,null,"Elbow 45 LR","Elbow 45 LR12",null,{"$f":"VLOOKUP(D54,'K-value'!$D$48:$E$146,2,FALSE)","v":0.21},0,null,"3. Calculated NPSHA is without margin"]
[null,null,"Tee thru","Tee thru12",null,{"$f":"VLOOKUP(D55,'K-value'!$D$48:$E$146,2,FALSE)","v":0.26},0]
[null,null,"Tee branch","Tee branch12",null,{"$f":"VLOOKUP(D56,'K-value'!$D$48:$E$146,2,FALSE)","v":0.78},0]
[null,null,"Ball valve","Ball valve12",1,{"$f":"VLOOKUP(D57,'K-value'!$D$48:$E$146,2,FALSE)","v":0.04},1.5077593597618499E-3]
[null,null,"Butterfly valve","Butterfly valve12",null,{"$f":"VLOOKUP(D58,'K-value'!$D$48:$E$146,2,FALSE)","v":0.35},0]
[null,null,"Gate valve","Gate valve12",null,{"$f":"VLOOKUP(D59,'K-value'!$D$48:$E$146,2,FALSE)","v":0.1},0]
[null,null,"Globe valve","Globe valve12",null,{"$f":"VLOOKUP(D60,'K-value'!$D$48:$E$146,2,FALSE)","v":4.4000000000000004},0]
[null,null,"Check valve","Check valve12",1,{"$f":"VLOOKUP(D61,'K-value'!$D$48:$E$146,2,FALSE)","v":1.3},4.9002179192260117E-2]
[null,null,"Plug valve","Plug valve12",null,{"$f":"VLOOKUP(D62,'K-value'!$D$48:$E$146,2,FALSE)","v":1.17},0]
[null,null,"Pipe entrance","Pipe entrance12",null,{"$f":"VLOOKUP(D63,'K-value'!$D$48:$E$146,2,FALSE)","v":0.78},0]
[null,null,"Total, barg",null,null,null,{"$f":"SUM(G53:G63)","v":5.0509938552021967E-2}]

{"sheet":"36 - VIT (G-1AB)","index":50,"n_rows":64,"n_cols":23,"rows_kept":64,"cut":false,"hidden":true,"merged":[[0,5,3,10],[27,18,29,18],[27,19,28,20],[27,21,27,22],[28,21,28,22]]}
[null,null,null,null,null,"PUMP SIZING"]
[]
[]
[]
[null,null,"Project: LNG Regasification in Central Region of Indonesia"]
[]
[null,null,"Equipment Design Group",null,"> 30","MMscfd"]
[null,null,"Equipment Design",null,36,"MMscfd"]
[null,null,null,null,"Recondensing scheme"]
[null,null,"Tag No:",null,"MHP-G-001A/B"]
[null,null,"Description:",null,"LNG LP Pump"]
[null,null,"Location:",null,"Minahasa Peaker",null,null,null,null,null,null,null,null,null,"Pipe roughness",0.05,"mm"]
[null,null,null,null,null,null,null,null,null,null,null,null,null,null,null,{"$f":"P12/1000/3.28","v":1.5243902439024392E-5},"ft"]
[]
[null,null,"DATA",null,null,null,null,null,"RESULTS",null,null,null,null,null,"Mass flow",{"$f":"E16*E17/0.45","v":79257.766515223644},"lb/hr"]
[null,null,"Flow rate",null,82.139457372282294,"m3/h",null,null,"Suction Hydraulic",null,null,null,null,null,"Rho",{"$f":"E17/16.02","v":27.104412754458743},"lb/ft3"]
[null,null,"Density",null,434.21269232642902,"kg/m3",null,null,"Pipe ID",{"$f":"VLOOKUP(E28,'Pipe size sch 40'!$A$5:$C$27,3,FALSE)*25.4/1000","v":0.25450799999999996},"m"]
[null,null,"Flow temperature",null,-160.01210417121499,"deg C",null,null,"Velocity",{"$f":"E16/(PI()/4*J17^2)/3600","v":0.44849393151564426},"m/s",null,null,null,"Side Calculation (Suction)"]
[null,null,"Viscocity",null,0.12087312576906099,"cP",null,null,"Velocity acceptance",{"$f":"IF(E28<4,0.9,IF(E28=4,1.4,IF(E28=6,1.5,IF(E28=8,1.8,1.8))))","v":1.8},"m/s","(max)",null,null,"f tebakan",1.430153656331682E-2]
[null,null,null,null,{"$f":"E19*10^-3","v":1.20873125769061E-4},"Nm2/s",null,null,"Reynold number",{"$f":"E17*J19*J17/E20","v":1645684.9754804838},null,null,null,null,"f left",{"$f":"1/(P19)^0.5","v":8.3619708569751321}]
[null,null,"Vapor pressure",null,{"$f":"-0.0589226720496775+1.01","v":0.95107732795032252},"bara",null,null,"Pipe DP",{"$f":"P25","v":2.4948478373110782E-3},"bar/100m",null,null,null,"f right",{"$f":"-2*LOG(P13/(3.7*J17*0.3048)+2.51/(J20*(P19)^0.5))","v":8.3627051598166577}]
[null,null,"Pump efficiency",null,0.45,null,null,null,"Pipe DP acceptance",0.54,"bar/100m",null,null,null,"f left/f right",{"$f":"P20/P21","v":0.99991219314474289},"Goal seek"]
[null,null,null,null,null,null,null,null,"Static head",{"$f":"E17*9.8*E26/10^5","v":2.1276421923995023E-2},"bar",null,null,null,"psi/100 ft",{"$f":"0.000336*P19*P15^2/(J17*1000/25.4)^5/P16","v":1.1026229501780041E-2}]
[null,null,"SUCTION",null,null,null,null,null,"Pipe friction loss",{"$f":"J21*E27/100","v":3.7422717559666176E-4},"bar",null,null,null,"psi/ft",{"$f":"P23/100","v":1.1026229501780041E-4}]
[null,null,"Pressure",null,9.9822745923788994E-2,"barg",null,null,"Fitting friction loss",{"$f":"G43","v":1.746809928988217E-5},"bar",null,null,null,"bar/100 m",{"$f":"P24*100/14.5/0.3048","v":2.4948478373110782E-3}]
[null,null,"Static head",null,0.5,"m","note 1",null,"Suction Pressure",{"$f":"E25+J23-SUM(J24:J25)","v":0.12070747257289748},"bara"]
[null,null,"Length",null,15,"m","assumption",null,"Result",{"$f":"IF(AND(J18<J19,J21<J22),\"OK\",\"NOT OK\")","v":"OK"}]
[null,null,"Pipe size",null,10,"in",null,null,null,null,null,null,null,null,"Side Calculation (Discharge)",null,null,null,"Pipe Nominal Diameter (in)","Maximum velocity (m/s)",null,"Allowable Pressure Drop "]
[null,null,"Schedule",null,40,null,null,null,"Discharge Hydraulic",null,null,null,null,null,"f tebakan",1.5456702077686971E-2,null,null,null,null,null,"(bar/100 m)"]
[null,null,"Fittings",null,null,null,null,null,"Pipe ID",{"$f":"VLOOKUP(E49,'Pipe size sch 40'!$A$5:$C$27,3,FALSE)*25.4/1000","v":0.15417800000000001},"m",null,null,null,"f left",{"$f":"1/(P29)^0.5","v":8.0434354695354138},null,null,null,"Pump Suction","Pump Discharge","Pump Suction","Pump Discharge"]
[null,null,null,null,"Qty","K","DP",null,"Velocity",{"$f":"E16/(PI()/4*J17^2)/3600","v":0.44849393151564426},"m/s",null,null,null,"f right",{"$f":"-2*LOG(P13/(3.7*J30*0.3048)+2.51/(J33*(P29)^0.5))","v":8.0449039288778756},null,null,"< 4",0.9,1.8,"0.23 to 0.54","0.34 to 0.68"]
[null,null,"Elbow 90 LR",{"$f":"C32&$E$28","v":"Elbow 90 LR10"},null,{"$f":"VLOOKUP(D32,'K-value'!$D$48:$E$124,2,FALSE)","v":0.22},{"$f":"E32*F32*$J$18^2/(2*9.8)*$E$17*9.8/10^5","v":0},null,"Velocity acceptance",{"$f":"IF(E28<4,1.8,IF(E28=4,2.4,IF(E28=6,3,IF(E28=8,4.3,5))))","v":5},"m/s","(max)",null,null,"f left/f right",{"$f":"P30/P31","v":0.99981746713752662},"Goal seek",null,4,1.4,2.4,"0.23 to 0.54","0.34 to 0.68"]
[null,null,"Elbow 45 LR","Elbow 45 LR10",null,{"$f":"VLOOKUP(D33,'K-value'!$D$48:$E$124,2,FALSE)","v":0.22},0,null,"Reynold number",{"$f":"E17*J32*J30/E20","v":2769269.1841779053},null,null,null,null,"psi/100 ft",{"$f":"0.000336*P29*P15^2/(J30*1000/25.4)^5/P16","v":0.14606841454448302},null,null,6,1.5,3,"0.23 to 0.54","0.34 to 0.68"]
[null,null,"Tee thru","Tee thru10",null,{"$f":"VLOOKUP(D34,'K-value'!$D$48:$E$124,2,FALSE)","v":0.28000000000000003},0,null,"Pipe DP",{"$f":"P35","v":3.3050143575093449E-2},"bar/100m",null,null,null,"psi/ft",{"$f":"P33/100","v":1.4606841454448303E-3},null,null,8,1.8,4.3,"0.23 to 0.54","0.34 to 0.68"]
[null,null,"Tee branch","Tee branch10",null,{"$f":"VLOOKUP(D35,'K-value'!$D$48:$E$124,2,FALSE)","v":0.84},0,null,"Pipe DP acceptance",0.54,"bar/100m",null,null,null,"bar/100 m",{"$f":"P34*100/14.5/0.3048","v":3.3050143575093449E-2},null,null,">8",1.8,5,"0.23 to 0.54","0.34 to 0.68"]
[null,null,"Ball valve","Ball valve10",1,{"$f":"VLOOKUP(D36,'K-value'!$D$48:$E$124,2,FALSE)","v":0.04},1.746809928988217E-5,null,"Static head",{"$f":"E16*9.8*E47/10^5","v":3.219866728993466E-2},"bar","note 2"]
[null,null,"Butterfly valve","Butterfly valve10",null,{"$f":"VLOOKUP(D37,'K-value'!$D$48:$E$124,2,FALSE)","v":0.63},0,null,"Line losses",{"$f":"J34*E48/100","v":4.957521536264017E-3},"bar"]
[null,null,"Gate valve","Gate valve10",null,{"$f":"VLOOKUP(D38,'K-value'!$D$48:$E$124,2,FALSE)","v":0.11},0,null,"Fitting & eqp losses",{"$f":"G64","v":6.7688884748293425E-4},"bar",null,null,null,"NPSHA calculation"]
[null,null,"Globe valve","Globe valve10",null,{"$f":"VLOOKUP(D39,'K-value'!$D$48:$E$124,2,FALSE)","v":4.8},0,null,"Discharge Pressure",{"$f":"E46+J36+J37+J38","v":6.0378330776736817},"barg",null,null,null,"HA",{"$f":"(E25+1.01)*100000/(E17*9.81)","v":26.054461415093904},"m"]
[null,null,"Check valve","Check valve10",null,{"$f":"VLOOKUP(D40,'K-value'!$D$48:$E$124,2,FALSE)","v":1.4},0,null,"Result",{"$f":"IF(AND(J31<J32,J34<J35),\"OK\",\"NOT OK\")","v":"OK"},null,null,null,null,"HZ",{"$f":"E26","v":0.5},"m"]
[null,null,"Plug valve","Plug valve10",null,{"$f":"VLOOKUP(D41,'K-value'!$D$48:$E$124,2,FALSE)","v":1.26},0,null,null,null,null,null,null,null,"HF",{"$f":"SUM(J24:J25)*-1","v":-3.9169527488654393E-4}]
[null,null,"Pipe entrance","Pipe entrance10",null,{"$f":"VLOOKUP(D42,'K-value'!$D$48:$E$124,2,FALSE)","v":0.78},0,null,"Pump Data",null,null,null,null,null,"HV",0]
[null,null,"Total, barg",null,null,null,{"$f":"SUM(G32:G42)","v":1.746809928988217E-5},null,"Suction Pressure",{"$f":"J26","v":0.12070747257289748},"barg",null,null,null,"HVP",{"$f":"E21*10^5/(E17*9.8)*-1","v":-22.350499800855168},"m"]
[null,null,null,null,null,null,null,null,"Discharge Pressure",{"$f":"J39","v":6.0378330776736817},"barg",null,null,null,"NPSHA",{"$f":"SUM(P39:P43)","v":4.2035699189638507},"m"]
[null,null,"DISCHARGE",null,null,null,null,null,"Differential Pressure",{"$f":"J44-J43","v":5.9171256051007841},"bar"]
[null,null,"Source pressure",null,6,"barg",null,null,"Differential Head",{"$f":"J45*10^5/(E17*9.8)","v":139.05358772819778},"m"]
[null,null,"Static head",null,4,"m","note 2",null,"Hydraulic Power",{"$f":"E17*9.8*J46*E16/3600000","v":13.500819066850443},"kW"]
[null,null,"Length",null,15,"m",null,null,"Pump BHP",{"$f":"J47/E22","v":30.00182014855654},"kW"]
[null,null,"Pipe size",null,6,"in",null,null,"NPSHa",{"$f":"P44","v":4.2035699189638507},"m","note 3"]
[null,null,"Schedule",null,40]
[null,null,"Fittings",null,null,null,null,null,"Note:"]
[null,null,null,null,"Qty","K","DP",null,"1. The minimum height of tank is assumed 0,5 m (LLLL)"]
[null,null,"Elbow 90 LR",{"$f":"C53&$E$49","v":"Elbow 90 LR6"},null,{"$f":"VLOOKUP(D53,'K-value'!$D$48:$E$124,2,FALSE)","v":0.24},{"$f":"E53*F53*$J$18^2/(2*9.8)*$E$17*9.8/10^5","v":0},null,"2. Discharge liquid level is assumed 4 m above grade elevation"]
[null,null,"Elbow 45 LR","Elbow 45 LR6",null,{"$f":"VLOOKUP(D54,'K-value'!$D$48:$E$124,2,FALSE)","v":0.24},0,null," (elevation of recondenser)"]
[null,null,"Tee thru","Tee thru6",null,{"$f":"VLOOKUP(D55,'K-value'!$D$48:$E$124,2,FALSE)","v":0.3},0,null,"3. Calculated NPSHA is without margin"]
[null,null,"Tee branch","Tee branch6",null,{"$f":"VLOOKUP(D56,'K-value'!$D$48:$E$124,2,FALSE)","v":0.9},0]
[null,null,"Ball valve","Ball valve6",1,{"$f":"VLOOKUP(D57,'K-value'!$D$48:$E$124,2,FALSE)","v":0.05},2.183512411235272E-5]
[null,null,"Butterfly valve","Butterfly valve6",null,{"$f":"VLOOKUP(D58,'K-value'!$D$48:$E$124,2,FALSE)","v":0.68},0]
[null,null,"Gate valve","Gate valve6",null,{"$f":"VLOOKUP(D59,'K-value'!$D$48:$E$124,2,FALSE)","v":0.12},0]
[null,null,"Globe valve","Globe valve6",null,{"$f":"VLOOKUP(D60,'K-value'!$D$48:$E$124,2,FALSE)","v":5.0999999999999996},0]
[null,null,"Check valve","Check valve6",1,{"$f":"VLOOKUP(D61,'K-value'!$D$48:$E$124,2,FALSE)","v":1.5},6.5505372337058148E-4]
[null,null,"Plug valve","Plug valve6",null,{"$f":"VLOOKUP(D62,'K-value'!$D$48:$E$124,2,FALSE)","v":1.35},0]
[null,null,"Pipe entrance","Pipe entrance6",null,{"$f":"VLOOKUP(D63,'K-value'!$D$48:$E$124,2,FALSE)","v":0.78},0]
[null,null,"Total, barg",null,null,null,{"$f":"SUM(G53:G63)","v":6.7688884748293425E-4}]

{"sheet":"36 - VIT (G-3AB)","index":51,"n_rows":64,"n_cols":23,"rows_kept":64,"cut":false,"hidden":true,"merged":[[0,5,3,10],[27,18,29,18],[27,19,28,20],[27,21,27,22],[28,21,28,22]]}
[null,null,null,null,null,"PUMP SIZING"]
[]
[]
[]
[null,null,"Project: LNG Regasification in Central Region of Indonesia"]
[]
[null,null,"Equipment Design Group",null,"> 30","MMscfd"]
[null,null,"Equipment Design",null,36,"MMscfd"]
[null,null,null,null,"Recondensing scheme"]
[null,null,"Tag No:",null,"MHP-G-003A/B"]
[null,null,"Description:",null,"Seawater Pump"]
[null,null,"Location:",null,"Minahasa Peaker",null,null,null,null,null,null,null,null,null,"Pipe roughness",0.05,"mm"]
[null,null,null,null,null,null,null,null,null,null,null,null,null,null,null,{"$f":"P12/1000/3.28","v":1.5243902439024392E-5},"ft"]
[]
[null,null,"DATA",null,null,null,null,null,"RESULTS",null,null,null,null,null,"Mass flow",{"$f":"E16*E17/0.45","v":1755536.7513958495},"lb/hr"]
[null,null,"Flow rate",null,784.24642033003704,"m3/h",null,null,"Suction Hydraulic",null,null,null,null,null,"Rho",{"$f":"E17/16.02","v":62.879254296929467},"lb/ft3"]
[null,null,"Density",null,1007.32565383681,"kg/m3",null,null,"Pipe ID",{"$f":"VLOOKUP(E28,'Pipe size sch 40'!$A$5:$C$27,3,FALSE)*25.4/1000","v":0.38100000000000001},"m"]
[null,null,"Flow temperature",null,25.003477578371601,"deg C",null,null,"Velocity",{"$f":"E16/(PI()/4*J17^2)/3600","v":1.9107779086309478},"m/s",null,null,null,"Side Calculation (Suction)"]
[null,null,"Viscocity",null,0.890368339783702,"cP",null,null,"Velocity acceptance",{"$f":"IF(E28<4,0.9,IF(E28=4,1.4,IF(E28=6,1.5,IF(E28=8,1.8,1.8))))","v":1.8},"m/s","(max)",null,null,"f tebakan",1.4131036651217533E-2]
[null,null,null,null,{"$f":"E19*10^-3","v":8.9036833978370204E-4},"Nm2/s",null,null,"Reynold number",{"$f":"E17*J19*J17/E20","v":775885.55492562428},null,null,null,null,"f left",{"$f":"1/(P19)^0.5","v":8.4122658403475921}]
[null,null,"Vapor pressure",null,{"$f":"-0.0589226720496775+1.01","v":0.95107732795032252},"bara",null,null,"Pipe DP",{"$f":"P25","v":6.9340426517738321E-2},"bar/100m",null,null,null,"f right",{"$f":"-2*LOG(P13/(3.7*J17*0.3048)+2.51/(J20*(P19)^0.5))","v":8.4055838887712309}]
[null,null,"Pump efficiency",null,0.7,null,null,null,"Pipe DP acceptance",0.54,"bar/100m",null,null,null,"f left/f right",{"$f":"P20/P21","v":1.0007949419891327},"Goal seek"]
[null,null,null,null,null,null,null,null,"Static head",{"$f":"E17*9.8*E26/10^5","v":4.9358957038003692E-2},"bar",null,null,null,"psi/100 ft",{"$f":"0.000336*P19*P15^2/(J17*1000/25.4)^5/P16","v":0.3064569490377963}]
[null,null,"SUCTION",null,null,null,null,null,"Pipe friction loss",{"$f":"J21*E27/100","v":1.0401063977660748E-2},"bar",null,null,null,"psi/ft",{"$f":"P23/100","v":3.0645694903779631E-3}]
[null,null,"Pressure",null,0.1,"barg",null,null,"Fitting friction loss",{"$f":"G43","v":7.3556374146009802E-4},"bar",null,null,null,"bar/100 m",{"$f":"P24*100/14.5/0.3048","v":6.9340426517738321E-2}]
[null,null,"Static head",null,0.5,"m","note 1",null,"Suction Pressure",{"$f":"E25+J23-SUM(J24:J25)","v":0.13822232931888284},"bara"]
[null,null,"Length",null,15,"m","assumption",null,"Result",{"$f":"IF(AND(J18<J19,J21<J22),\"OK\",\"NOT OK\")","v":"NOT OK"}]
[null,null,"Pipe size",null,16,"in",null,null,null,null,null,null,null,null,"Side Calculation (Discharge)",null,null,null,"Pipe Nominal Diameter (in)","Maximum velocity (m/s)",null,"Allowable Pressure Drop "]
[null,null,"Schedule",null,16,null,null,null,"Discharge Hydraulic",null,null,null,null,null,"f tebakan",1.3892234844094922E-2,null,null,null,null,null,"(bar/100 m)"]
[null,null,"Fittings",null,null,null,null,null,"Pipe ID",{"$f":"VLOOKUP(E49,'Pipe size sch 40'!$A$5:$C$27,3,FALSE)*25.4/1000","v":0.30327599999999993},"m",null,null,null,"f left",{"$f":"1/(P29)^0.5","v":8.4842594695042308},null,null,null,"Pump Suction","Pump Discharge","Pump Suction","Pump Discharge"]
[null,null,null,null,"Qty","K","DP",null,"Velocity",{"$f":"E16/(PI()/4*J17^2)/3600","v":1.9107779086309478},"m/s",null,null,null,"f right",{"$f":"-2*LOG(P13/(3.7*J30*0.3048)+2.51/(J33*(P29)^0.5))","v":8.4885100977610399},null,null,"< 4",0.9,1.8,"0.23 to 0.54","0.34 to 0.68"]
[null,null,"Elbow 90 LR",{"$f":"C32&$E$28","v":"Elbow 90 LR16"},null,{"$f":"VLOOKUP(D32,'K-value'!$D$48:$E$146,2,FALSE)","v":0.21},{"$f":"E32*F32*$J$18^2/(2*9.8)*$E$17*9.8/10^5","v":0},null,"Velocity acceptance",{"$f":"IF(E28<4,1.8,IF(E28=4,2.4,IF(E28=6,3,IF(E28=8,4.3,5))))","v":5},"m/s","(max)",null,null,"f left/f right",{"$f":"P30/P31","v":0.99949924919593014},"Goal seek",null,4,1.4,2.4,"0.23 to 0.54","0.34 to 0.68"]
[null,null,"Elbow 45 LR","Elbow 45 LR16",null,{"$f":"VLOOKUP(D33,'K-value'!$D$48:$E$146,2,FALSE)","v":0.21},0,null,"Reynold number",{"$f":"E17*J32*J30/E20","v":1715569.1714466575},null,null,null,null,"psi/100 ft",{"$f":"0.000336*P29*P15^2/(J30*1000/25.4)^5/P16","v":0.94276234596427133},null,null,6,1.5,3,"0.23 to 0.54","0.34 to 0.68"]
[null,null,"Tee thru","Tee thru16",null,{"$f":"VLOOKUP(D34,'K-value'!$D$48:$E$146,2,FALSE)","v":0.26},0,null,"Pipe DP",{"$f":"P35","v":0.2133139528383273},"bar/100m",null,null,null,"psi/ft",{"$f":"P33/100","v":9.4276234596427141E-3},null,null,8,1.8,4.3,"0.23 to 0.54","0.34 to 0.68"]
[null,null,"Tee branch","Tee branch16",null,{"$f":"VLOOKUP(D35,'K-value'!$D$48:$E$146,2,FALSE)","v":0.78},0,null,"Pipe DP acceptance",0.54,"bar/100m",null,null,null,"bar/100 m",{"$f":"P34*100/14.5/0.3048","v":0.2133139528383273},null,null,">8",1.8,5,"0.23 to 0.54","0.34 to 0.68"]
[null,null,"Ball valve","Ball valve16",1,{"$f":"VLOOKUP(D36,'K-value'!$D$48:$E$146,2,FALSE)","v":0.04},7.3556374146009802E-4,null,"Static head",{"$f":"E16*9.8*E47/10^5","v":0.76856149192343637},"bar","note 2"]
[null,null,"Butterfly valve","Butterfly valve16",null,{"$f":"VLOOKUP(D37,'K-value'!$D$48:$E$146,2,FALSE)","v":0.35},0,null,"Line losses",{"$f":"J34*E48/100","v":3.1997092925749093E-2},"bar"]
[null,null,"Gate valve","Gate valve16",null,{"$f":"VLOOKUP(D38,'K-value'!$D$48:$E$146,2,FALSE)","v":0.1},0,null,"Fitting & eqp losses",{"$f":"G64","v":2.4641385338913288E-2},"bar",null,null,null,"NPSHA calculation"]
[null,null,"Globe valve","Globe valve16",null,{"$f":"VLOOKUP(D39,'K-value'!$D$48:$E$146,2,FALSE)","v":4.4000000000000004},0,null,"Discharge Pressure",{"$f":"E46+J36+J37+J38","v":2.3251999701880983},"barg",null,null,null,"HA",{"$f":"(E25+1.01)*100000/(E17*9.81)","v":11.232697853352981},"m"]
[null,null,"Check valve","Check valve16",null,{"$f":"VLOOKUP(D40,'K-value'!$D$48:$E$146,2,FALSE)","v":1.3},0,null,"Result",{"$f":"IF(AND(J31<J32,J34<J35),\"OK\",\"NOT OK\")","v":"OK"},null,null,null,null,"HZ",{"$f":"E26","v":0.5},"m"]
[null,null,"Plug valve","Plug valve16",null,{"$f":"VLOOKUP(D41,'K-value'!$D$48:$E$146,2,FALSE)","v":1.17},0,null,null,null,null,null,null,null,"HF",{"$f":"SUM(J24:J25)*-1","v":-1.1136627719120846E-2}]
[null,null,"Pipe entrance","Pipe entrance16",null,{"$f":"VLOOKUP(D42,'K-value'!$D$48:$E$146,2,FALSE)","v":0.78},0,null,"Pump Data",null,null,null,null,null,"HV",0]
[null,null,"Total, barg",null,null,null,{"$f":"SUM(G32:G42)","v":7.3556374146009802E-4},null,"Suction Pressure",{"$f":"J26","v":0.13822232931888284},"barg",null,null,null,"HVP",{"$f":"E21*10^5/(E17*9.8)*-1","v":-9.6342931964511038},"m"]
[null,null,null,null,null,null,null,null,"Discharge Pressure",{"$f":"J39","v":2.3251999701880983},"barg",null,null,null,"NPSHA",{"$f":"SUM(P39:P43)","v":2.0872680291827557},"m"]
[null,null,"DISCHARGE",null,null,null,null,null,"Differential Pressure",{"$f":"J44-J43","v":2.1869776408692156},"bar"]
[null,null,"Source pressure",null,1.5,"barg",null,null,"Differential Head",{"$f":"J45*10^5/(E17*9.8)","v":22.15380725311277},"m"]
[null,null,"Static head",null,10,"m","note 2",null,"Hydraulic Power",{"$f":"E17*9.8*J46*E16/3600000","v":47.642482949819765},"kW"]
[null,null,"Length",null,15,"m",null,null,"Pump BHP",{"$f":"J47/E22","v":68.060689928313948},"kW"]
[null,null,"Pipe size",null,12,"in",null,null,"NPSHa",{"$f":"P44","v":2.0872680291827557},"m","note 3"]
[null,null,"Schedule",null,40]
[null,null,"Fittings",null,null,null,null,null,"Note:"]
[null,null,null,null,"Qty","K","DP",null,"1. The minimum height of tank is assumed 0,5 m (LLLL)"]
[null,null,"Elbow 90 LR",{"$f":"C53&$E$49","v":"Elbow 90 LR12"},null,{"$f":"VLOOKUP(D53,'K-value'!$D$48:$E$146,2,FALSE)","v":0.21},{"$f":"E53*F53*$J$18^2/(2*9.8)*$E$17*9.8/10^5","v":0},null,"2. Discharge liquid level is assumed 10 m above grade elevation"]
[null,null,"Elbow 45 LR","Elbow 45 LR12",null,{"$f":"VLOOKUP(D54,'K-value'!$D$48:$E$146,2,FALSE)","v":0.21},0,null,"3. Calculated NPSHA is without margin"]
[null,null,"Tee thru","Tee thru12",null,{"$f":"VLOOKUP(D55,'K-value'!$D$48:$E$146,2,FALSE)","v":0.26},0]
[null,null,"Tee branch","Tee branch12",null,{"$f":"VLOOKUP(D56,'K-value'!$D$48:$E$146,2,FALSE)","v":0.78},0]
[null,null,"Ball valve","Ball valve12",1,{"$f":"VLOOKUP(D57,'K-value'!$D$48:$E$146,2,FALSE)","v":0.04},7.3556374146009802E-4]
[null,null,"Butterfly valve","Butterfly valve12",null,{"$f":"VLOOKUP(D58,'K-value'!$D$48:$E$146,2,FALSE)","v":0.35},0]
[null,null,"Gate valve","Gate valve12",null,{"$f":"VLOOKUP(D59,'K-value'!$D$48:$E$146,2,FALSE)","v":0.1},0]
[null,null,"Globe valve","Globe valve12",null,{"$f":"VLOOKUP(D60,'K-value'!$D$48:$E$146,2,FALSE)","v":4.4000000000000004},0]
[null,null,"Check valve","Check valve12",1,{"$f":"VLOOKUP(D61,'K-value'!$D$48:$E$146,2,FALSE)","v":1.3},2.3905821597453188E-2]
[null,null,"Plug valve","Plug valve12",null,{"$f":"VLOOKUP(D62,'K-value'!$D$48:$E$146,2,FALSE)","v":1.17},0]
[null,null,"Pipe entrance","Pipe entrance12",null,{"$f":"VLOOKUP(D63,'K-value'!$D$48:$E$146,2,FALSE)","v":0.78},0]
[null,null,"Total, barg",null,null,null,{"$f":"SUM(G53:G63)","v":2.4641385338913288E-2}]

{"sheet":"75.6 - BOOSTER (G-2AB)","index":52,"n_rows":65,"n_cols":23,"rows_kept":65,"cut":false,"hidden":true,"merged":[[0,5,3,10],[28,18,30,18],[28,19,29,20],[28,21,28,22],[29,21,29,22]]}
[null,null,null,null,null,"PUMP SIZING"]
[]
[]
[]
[null,null,"Project: LNG Regasification in Central Region of Indonesia"]
[]
[null,null,"Equipment Design Group",null,"> 30","MMscfd"]
[null,null,"Equipment Design",null,75.599999999999994,"MMscfd"]
[null,null,null,null,"Booster compressor scheme"]
[null,null,"Tag No:",null,"SLP-G-002A/B"]
[null,null,null,null,"MKP-G-002A/B"]
[null,null,"Description:",null,"LNG HP Pump"]
[null,null,"Location:",null,"Sulsel Peaker",null,null,null,null,null,null,null,null,null,"Pipe roughness",0.05,"mm"]
[null,null,null,null,"Makasar Peaker",null,null,null,null,null,null,null,null,null,null,{"$f":"P13/1000/3.28","v":1.5243902439024392E-5},"ft"]
[]
[null,null,"DATA",null,null,null,null,null,"RESULTS",null,null,null,null,null,"Mass flow",{"$f":"E17*E18/0.45","v":189383.92836376085},"lb/hr"]
[null,null,"Flow rate",null,196.73828676784601,"m3/h",null,null,"Suction Hydraulic",null,null,null,null,null,"Rho",{"$f":"E18/16.02","v":27.039847484909615},"lb/ft3"]
[null,null,"Density",null,433.17835670825201,"kg/m3",null,null,"Pipe ID",{"$f":"VLOOKUP(E29,'Pipe size sch 40'!$A$5:$C$27,3,FALSE)*25.4/1000","v":0.30327599999999993},"m"]
[null,null,"Flow temperature",null,-160.013731328565,"deg C",null,null,"Velocity",{"$f":"E17/(PI()/4*J18^2)/3600","v":0.7565200040234783},"m/s",null,null,null,"Side Calculation (Suction)"]
[null,null,"Viscocity",null,0.120876935038482,"cP",null,null,"Velocity acceptance",{"$f":"IF(E29<4,0.9,IF(E29=4,1.4,IF(E29=6,1.5,IF(E29=8,1.8,1.8))))","v":1.8},"m/s","(max)",null,null,"f tebakan",1.3804461826875503E-2]
[null,null,null,null,{"$f":"E20*10^-3","v":1.20876935038482E-4},"Nm2/s",null,null,"Reynold number",{"$f":"E18*J20*J18/E21","v":1956292.8087232786},null,null,null,null,"f left",{"$f":"1/(P20)^0.5","v":8.511189496537817}]
[null,null,"Vapor pressure",null,{"$f":"0.0996826752978619+1.01","v":1.1096826752978619},"bara",null,null,"Pipe DP",{"$f":"P26","v":5.7363568805194019E-3},"bar/100m",null,null,null,"f right",{"$f":"-2*LOG(P14/(3.7*J18*0.3048)+2.51/(J21*(P20)^0.5))","v":8.5115695380328198}]
[null,null,"Pump efficiency",null,0.45,null,null,null,"Pipe DP acceptance",0.54,"bar/100m",null,null,null,"f left/f right",{"$f":"P21/P22","v":0.99995535000997116},"Goal seek"]
[null,null,null,null,null,null,null,null,"Static head",{"$f":"E18*9.8*E27/10^5","v":2.1225739478704351E-2},"bar",null,null,null,"psi/100 ft",{"$f":"0.000336*P20*P16^2/(J18*1000/25.4)^5/P17","v":2.5352402869143548E-2}]
[null,null,"SUCTION",null,null,null,null,null,"Pipe friction loss",{"$f":"J22*E28/100","v":8.6045353207791022E-4},"bar",null,null,null,"psi/ft",{"$f":"P24/100","v":2.5352402869143549E-4}]
[null,null,"Pressure",null,9.9722385970032204E-2,"barg",null,null,"Fitting friction loss",{"$f":"G44","v":4.9583545439853259E-5},"bar",null,null,null,"bar/100 m",{"$f":"P25*100/14.5/0.3048","v":5.7363568805194019E-3}]
[null,null,"Static head",null,0.5,"m","note 1",null,"Suction Pressure",{"$f":"E26+J24-SUM(J25:J26)","v":0.12003808837121879},"bara"]
[null,null,"Length",null,15,"m","assumption",null,"Result",{"$f":"IF(AND(J19<J20,J22<J23),\"OK\",\"NOT OK\")","v":"OK"}]
[null,null,"Pipe size",null,12,"in",null,null,null,null,null,null,null,null,"Side Calculation (Discharge)",null,null,null,"Pipe Nominal Diameter (in)","Maximum velocity (m/s)",null,"Allowable Pressure Drop "]
[null,null,"Schedule",null,40,null,null,null,"Discharge Hydraulic",null,null,null,null,null,"f tebakan",1.5454831854172391E-2,null,null,null,null,null,"(bar/100 m)"]
[null,null,"Fittings",null,null,null,null,null,"Pipe ID",{"$f":"VLOOKUP(E50,'Pipe size sch 40'!$A$5:$C$27,3,FALSE)*25.4/1000","v":0.15417800000000001},"m",null,null,null,"f left",{"$f":"1/(P30)^0.5","v":8.0439221318047025},null,null,null,"Pump Suction","Pump Discharge","Pump Suction","Pump Discharge"]
[null,null,null,null,"Qty","K","DP",null,"Velocity",{"$f":"E17/(PI()/4*J18^2)/3600","v":0.7565200040234783},"m/s",null,null,null,"f right",{"$f":"-2*LOG(P14/(3.7*J31*0.3048)+2.51/(J34*(P30)^0.5))","v":8.0447385687723845},null,null,"< 4",0.9,1.8,"0.23 to 0.54","0.34 to 0.68"]
[null,null,"Elbow 90 LR",{"$f":"C33&$E$29","v":"Elbow 90 LR12"},null,{"$f":"VLOOKUP(D33,'K-value'!$D$48:$E$146,2,FALSE)","v":0.21},{"$f":"E33*F33*$J$19^2/(2*9.8)*$E$18*9.8/10^5","v":0},null,"Velocity acceptance",{"$f":"IF(E29<4,1.8,IF(E29=4,2.4,IF(E29=6,3,IF(E29=8,4.3,5))))","v":5},"m/s","(max)",null,null,"f left/f right",{"$f":"P31/P32","v":0.99989851292733722},"Goal seek",null,4,1.4,2.4,"0.23 to 0.54","0.34 to 0.68"]
[null,null,"Elbow 45 LR","Elbow 45 LR12",null,{"$f":"VLOOKUP(D34,'K-value'!$D$48:$E$146,2,FALSE)","v":0.21},0,null,"Reynold number",{"$f":"E18*J33*J31/E21","v":2762585.4617881784},null,null,null,null,"psi/100 ft",{"$f":"0.000336*P30*P16^2/(J31*1000/25.4)^5/P17","v":0.83587648994855712},null,null,6,1.5,3,"0.23 to 0.54","0.34 to 0.68"]
[null,null,"Tee thru","Tee thru12",null,{"$f":"VLOOKUP(D35,'K-value'!$D$48:$E$146,2,FALSE)","v":0.26},0,null,"Pipe DP",{"$f":"P36","v":0.18912944382943184},"bar/100m",null,null,null,"psi/ft",{"$f":"P34/100","v":8.3587648994855705E-3},null,null,8,1.8,4.3,"0.23 to 0.54","0.34 to 0.68"]
[null,null,"Tee branch","Tee branch12",null,{"$f":"VLOOKUP(D36,'K-value'!$D$48:$E$146,2,FALSE)","v":0.78},0,null,"Pipe DP acceptance",0.54,"bar/100m",null,null,null,"bar/100 m",{"$f":"P35*100/14.5/0.3048","v":0.18912944382943184},null,null,">8",1.8,5,"0.23 to 0.54","0.34 to 0.68"]
[null,null,"Ball valve","Ball valve12",1,{"$f":"VLOOKUP(D37,'K-value'!$D$48:$E$146,2,FALSE)","v":0.04},4.9583545439853259E-5,null,"Static head",{"$f":"E17*9.8*E48/10^5","v":5.784105630974673E-2},"bar","note 2"]
[null,null,"Butterfly valve","Butterfly valve12",null,{"$f":"VLOOKUP(D38,'K-value'!$D$48:$E$146,2,FALSE)","v":0.35},0,null,"Line losses",{"$f":"J35*E49/100","v":2.8369416574414778E-2},"bar"]
[null,null,"Gate valve","Gate valve12",null,{"$f":"VLOOKUP(D39,'K-value'!$D$48:$E$146,2,FALSE)","v":0.1},0,null,"Fitting & eqp losses",{"$f":"G65","v":1.9213623857943134E-3},"bar",null,null,null,"NPSHA calculation"]
[null,null,"Globe valve","Globe valve12",null,{"$f":"VLOOKUP(D40,'K-value'!$D$48:$E$146,2,FALSE)","v":4.4000000000000004},0,null,"Discharge Pressure",{"$f":"E47+J37+J38+J39","v":53.088131835269955},"barg",null,null,null,"HA",{"$f":"(E26+1.01)*100000/(E18*9.81)","v":26.114312097399079},"m"]
[null,null,"Check valve","Check valve12",null,{"$f":"VLOOKUP(D41,'K-value'!$D$48:$E$146,2,FALSE)","v":1.3},0,null,"Result",{"$f":"IF(AND(J32<J33,J35<J36),\"OK\",\"NOT OK\")","v":"OK"},null,null,null,null,"HZ",{"$f":"E27","v":0.5},"m"]
[null,null,"Plug valve","Plug valve12",null,{"$f":"VLOOKUP(D42,'K-value'!$D$48:$E$146,2,FALSE)","v":1.17},0,null,null,null,null,null,null,null,"HF",{"$f":"SUM(J25:J26)*-1","v":-9.1003707751776352E-4}]
[null,null,"Pipe entrance","Pipe entrance12",null,{"$f":"VLOOKUP(D43,'K-value'!$D$48:$E$146,2,FALSE)","v":0.78},0,null,"Pump Data",null,null,null,null,null,"HV",0]
[null,null,"Total, barg",null,null,null,{"$f":"SUM(G33:G43)","v":4.9583545439853259E-5},null,"Suction Pressure",{"$f":"J27","v":0.12003808837121879},"barg",null,null,null,"HVP",{"$f":"E22*10^5/(E18*9.8)*-1","v":-26.140023917922846},"m"]
[null,null,null,null,null,null,null,null,"Discharge Pressure",{"$f":"J40","v":53.088131835269955},"barg",null,null,null,"NPSHA",{"$f":"SUM(P40:P44)","v":0.47337814239871534},"m"]
[null,null,"DISCHARGE",null,null,null,null,null,"Differential Pressure",{"$f":"J45-J44","v":52.968093746898738},"bar"]
[null,null,"Source pressure",null,53,"barg",null,null,"Differential Head",{"$f":"J46*10^5/(E18*9.8)","v":1247.7325890115935},"m"]
[null,null,"Static head",null,3,"m","note 2",null,"Hydraulic Power",{"$f":"E18*9.8*J47*E17/3600000","v":289.46811158676434},"kW"]
[null,null,"Length",null,15,"m",null,null,"Pump BHP",{"$f":"J48/E23","v":643.26247019280959},"kW"]
[null,null,"Pipe size",null,6,"in",null,null,"NPSHa",{"$f":"P45","v":0.47337814239871534},"m","note 3"]
[null,null,"Schedule",null,40]
[null,null,"Fittings",null,null,null,null,null,"Note:"]
[null,null,null,null,"Qty","K","DP",null,"1. The minimum height of tank is assumed 0,5 m (LLLL)"]
[null,null,"Elbow 90 LR",{"$f":"C54&$E$50","v":"Elbow 90 LR6"},null,{"$f":"VLOOKUP(D54,'K-value'!$D$48:$E$124,2,FALSE)","v":0.24},{"$f":"E54*F54*$J$19^2/(2*9.8)*$E$18*9.8/10^5","v":0},null,"2. Discharge liquid level is assumed 3 m above grade elevation"]
[null,null,"Elbow 45 LR","Elbow 45 LR6",null,{"$f":"VLOOKUP(D55,'K-value'!$D$48:$E$124,2,FALSE)","v":0.24},0,null,"3. Calculated NPSHA is without margin"]
[null,null,"Tee thru","Tee thru6",null,{"$f":"VLOOKUP(D56,'K-value'!$D$48:$E$124,2,FALSE)","v":0.3},0]
[null,null,"Tee branch","Tee branch6",null,{"$f":"VLOOKUP(D57,'K-value'!$D$48:$E$124,2,FALSE)","v":0.9},0]
[null,null,"Ball valve","Ball valve6",1,{"$f":"VLOOKUP(D58,'K-value'!$D$48:$E$124,2,FALSE)","v":0.05},6.1979431799816562E-5]
[null,null,"Butterfly valve","Butterfly valve6",null,{"$f":"VLOOKUP(D59,'K-value'!$D$48:$E$124,2,FALSE)","v":0.68},0]
[null,null,"Gate valve","Gate valve6",null,{"$f":"VLOOKUP(D60,'K-value'!$D$48:$E$124,2,FALSE)","v":0.12},0]
[null,null,"Globe valve","Globe valve6",null,{"$f":"VLOOKUP(D61,'K-value'!$D$48:$E$124,2,FALSE)","v":5.0999999999999996},0]
[null,null,"Check valve","Check valve6",1,{"$f":"VLOOKUP(D62,'K-value'!$D$48:$E$124,2,FALSE)","v":1.5},1.8593829539944968E-3]
[null,null,"Plug valve","Plug valve6",null,{"$f":"VLOOKUP(D63,'K-value'!$D$48:$E$124,2,FALSE)","v":1.35},0]
[null,null,"Pipe entrance","Pipe entrance6",null,{"$f":"VLOOKUP(D64,'K-value'!$D$48:$E$124,2,FALSE)","v":0.78},0]
[null,null,"Total, barg",null,null,null,{"$f":"SUM(G54:G64)","v":1.9213623857943134E-3}]

{"sheet":"75.6 - BOOSTER (G-1AB)","index":53,"n_rows":65,"n_cols":23,"rows_kept":65,"cut":false,"hidden":true,"merged":[[0,5,3,10],[28,18,30,18],[28,19,29,20],[28,21,28,22],[29,21,29,22]]}
[null,null,null,null,null,"PUMP SIZING"]
[]
[]
[]
[null,null,"Project: LNG Regasification in Central Region of Indonesia"]
[]
[null,null,"Equipment Design Group",null,"> 30","MMscfd"]
[null,null,"Equipment Design",null,75.599999999999994,"MMscfd"]
[null,null,null,null,"Booster compressor scheme"]
[null,null,"Tag No:",null,"SLP-G-001A/B"]
[null,null,null,null,"MKP-G-001A/B"]
[null,null,"Description:",null,"LNG Recirculation Pump"]
[null,null,"Location:",null,"Sulsel Peaker",null,null,null,null,null,null,null,null,null,"Pipe roughness",0.05,"mm"]
[null,null,null,null,"Makasar Peaker",null,null,null,null,null,null,null,null,null,null,{"$f":"P13/1000/3.28","v":1.5243902439024392E-5},"ft"]
[]
[null,null,"DATA",null,null,null,null,null,"RESULTS",null,null,null,null,null,"Mass flow",{"$f":"E17*E18/0.45","v":47256.961645372641},"lb/hr"]
[null,null,"Flow rate",null,49.184571691961501,"m3/h",null,null,"Suction Hydraulic",null,null,null,null,null,"Rho",{"$f":"E18/16.02","v":26.989006860956305},"lb/ft3"]
[null,null,"Density",null,432.36388991251999,"kg/m3",null,null,"Pipe ID",{"$f":"VLOOKUP(E29,'Pipe size sch 40'!$A$5:$C$27,3,FALSE)*25.4/1000","v":0.15417800000000001},"m"]
[null,null,"Flow temperature",null,-160.013731328565,"deg C",null,null,"Velocity",{"$f":"E17/(PI()/4*J18^2)/3600","v":0.73179880557147314},"m/s",null,null,null,"Side Calculation (Suction)"]
[null,null,"Viscocity",null,0.120876935038482,"cP",null,null,"Velocity acceptance",{"$f":"IF(E29<4,0.9,IF(E29=4,1.4,IF(E29=6,1.5,IF(E29=8,1.8,1.8))))","v":1.5},"m/s","(max)",null,null,"f tebakan",1.6003654188171616E-2]
[null,null,null,null,{"$f":"E20*10^-3","v":1.20876935038482E-4},"Nm2/s",null,null,"Reynold number",{"$f":"E18*J20*J18/E21","v":827217.36530270067},null,null,null,null,"f left",{"$f":"1/(P20)^0.5","v":7.9047915270892677}]
[null,null,"Vapor pressure",null,{"$f":"0.0995668199210105+1.01","v":1.1095668199210105},"bara",null,null,"Pipe DP",{"$f":"P26","v":1.2217341201729433E-2},"bar/100m",null,null,null,"f right",{"$f":"-2*LOG(P14/(3.7*J18*0.3048)+2.51/(J21*(P20)^0.5))","v":7.9042320801047534}]
[null,null,"Pump efficiency",null,0.45,null,null,null,"Pipe DP acceptance",0.54,"bar/100m",null,null,null,"f left/f right",{"$f":"P21/P22","v":1.0000707781576812},"Goal seek"]
[null,null,null,null,null,null,null,null,"Static head",{"$f":"E18*9.8*E27/10^5","v":2.1185830605713482E-2},"bar",null,null,null,"psi/100 ft",{"$f":"0.000336*P20*P16^2/(J18*1000/25.4)^5/P17","v":5.3995761175163408E-2}]
[null,null,"SUCTION",null,null,null,null,null,"Pipe friction loss",{"$f":"J22*E28/100","v":1.8326011802594149E-3},"bar",null,null,null,"psi/ft",{"$f":"P24/100","v":5.3995761175163403E-4}]
[null,null,"Pressure",null,9.9722385970032204E-2,"barg",null,null,"Fitting friction loss",{"$f":"G44","v":5.7885903563254164E-5},"bar",null,null,null,"bar/100 m",{"$f":"P25*100/14.5/0.3048","v":1.2217341201729433E-2}]
[null,null,"Static head",null,0.5,"m","note 1",null,"Suction Pressure",{"$f":"E26+J24-SUM(J25:J26)","v":0.11901772949192302},"bara"]
[null,null,"Length",null,15,"m","assumption",null,"Result",{"$f":"IF(AND(J19<J20,J22<J23),\"OK\",\"NOT OK\")","v":"OK"}]
[null,null,"Pipe size",null,6,"in",null,null,null,null,null,null,null,null,"Side Calculation (Discharge)",null,null,null,"Pipe Nominal Diameter (in)","Maximum velocity (m/s)",null,"Allowable Pressure Drop "]
[null,null,"Schedule",null,40,null,null,null,"Discharge Hydraulic",null,null,null,null,null,"f tebakan",1.8171706458057275E-2,null,null,null,null,null,"(bar/100 m)"]
[null,null,"Fittings",null,null,null,null,null,"Pipe ID",{"$f":"VLOOKUP(E50,'Pipe size sch 40'!$A$5:$C$27,3,FALSE)*25.4/1000","v":7.7977999999999992E-2},"m",null,null,null,"f left",{"$f":"1/(P30)^0.5","v":7.4182615878101998},null,null,null,"Pump Suction","Pump Discharge","Pump Suction","Pump Discharge"]
[null,null,null,null,"Qty","K","DP",null,"Velocity",{"$f":"E17/(PI()/4*J18^2)/3600","v":0.73179880557147314},"m/s",null,null,null,"f right",{"$f":"-2*LOG(P14/(3.7*J31*0.3048)+2.51/(J34*(P30)^0.5))","v":7.4172808957535503},null,null,"< 4",0.9,1.8,"0.23 to 0.54","0.34 to 0.68"]
[null,null,"Elbow 90 LR",{"$f":"C33&$E$29","v":"Elbow 90 LR6"},null,{"$f":"VLOOKUP(D33,'K-value'!$D$48:$E$146,2,FALSE)","v":0.24},{"$f":"E33*F33*$J$19^2/(2*9.8)*$E$18*9.8/10^5","v":0},null,"Velocity acceptance",{"$f":"IF(E29<4,1.8,IF(E29=4,2.4,IF(E29=6,3,IF(E29=8,4.3,5))))","v":3},"m/s","(max)",null,null,"f left/f right",{"$f":"P31/P32","v":1.0001322171925848},"Goal seek",null,4,1.4,2.4,"0.23 to 0.54","0.34 to 0.68"]
[null,null,"Elbow 45 LR","Elbow 45 LR6",null,{"$f":"VLOOKUP(D34,'K-value'!$D$48:$E$146,2,FALSE)","v":0.24},0,null,"Reynold number",{"$f":"E18*J33*J31/E21","v":836756.93953189149},null,null,null,null,"psi/100 ft",{"$f":"0.000336*P30*P16^2/(J31*1000/25.4)^5/P17","v":1.852626193320881},null,null,6,1.5,3,"0.23 to 0.54","0.34 to 0.68"]
[null,null,"Tee thru","Tee thru6",null,{"$f":"VLOOKUP(D35,'K-value'!$D$48:$E$146,2,FALSE)","v":0.3},0,null,"Pipe DP",{"$f":"P36","v":0.41918413279954769},"bar/100m",null,null,null,"psi/ft",{"$f":"P34/100","v":1.8526261933208811E-2},null,null,8,1.8,4.3,"0.23 to 0.54","0.34 to 0.68"]
[null,null,"Tee branch","Tee branch6",null,{"$f":"VLOOKUP(D36,'K-value'!$D$48:$E$146,2,FALSE)","v":0.9},0,null,"Pipe DP acceptance",0.54,"bar/100m",null,null,null,"bar/100 m",{"$f":"P35*100/14.5/0.3048","v":0.41918413279954769},null,null,">8",1.8,5,"0.23 to 0.54","0.34 to 0.68"]
[null,null,"Ball valve","Ball valve6",1,{"$f":"VLOOKUP(D37,'K-value'!$D$48:$E$146,2,FALSE)","v":0.05},5.7885903563254164E-5,null,"Static head",{"$f":"E17*9.8*E48/10^5","v":0.14460264077436683},"bar","note 2"]
[null,null,"Butterfly valve","Butterfly valve6",null,{"$f":"VLOOKUP(D38,'K-value'!$D$48:$E$146,2,FALSE)","v":0.68},0,null,"Line losses",{"$f":"J35*E49/100","v":0.16767365311981908},"bar"]
[null,null,"Gate valve","Gate valve6",null,{"$f":"VLOOKUP(D39,'K-value'!$D$48:$E$146,2,FALSE)","v":0.12},0,null,"Fitting & eqp losses",{"$f":"G65","v":2.1417784318404041E-3},"bar",null,null,null,"NPSHA calculation"]
[null,null,"Globe valve","Globe valve6",null,{"$f":"VLOOKUP(D40,'K-value'!$D$48:$E$146,2,FALSE)","v":5.0999999999999996},0,null,"Discharge Pressure",{"$f":"E47+J37+J38+J39","v":0.56441807232602625},"barg",null,null,null,"HA",{"$f":"(E26+1.01)*100000/(E18*9.81)","v":26.163505012424931},"m"]
[null,null,"Check valve","Check valve6",null,{"$f":"VLOOKUP(D41,'K-value'!$D$48:$E$146,2,FALSE)","v":1.5},0,null,"Result",{"$f":"IF(AND(J32<J33,J35<J36),\"OK\",\"NOT OK\")","v":"OK"},null,null,null,null,"HZ",{"$f":"E27","v":0.5},"m"]
[null,null,"Plug valve","Plug valve6",null,{"$f":"VLOOKUP(D42,'K-value'!$D$48:$E$146,2,FALSE)","v":1.35},0,null,null,null,null,null,null,null,"HF",{"$f":"SUM(J25:J26)*-1","v":-1.890487083822669E-3}]
[null,null,"Pipe entrance","Pipe entrance6",null,{"$f":"VLOOKUP(D43,'K-value'!$D$48:$E$146,2,FALSE)","v":0.78},0,null,"Pump Data",null,null,null,null,null,"HV",0]
[null,null,"Total, barg",null,null,null,{"$f":"SUM(G33:G43)","v":5.7885903563254164E-5},null,"Suction Pressure",{"$f":"J27","v":0.11901772949192302},"barg",null,null,null,"HVP",{"$f":"E22*10^5/(E18*9.8)*-1","v":-26.186531002041004},"m"]
[null,null,null,null,null,null,null,null,"Discharge Pressure",{"$f":"J40","v":0.56441807232602625},"barg",null,null,null,"NPSHA",{"$f":"SUM(P40:P44)","v":0.47508352330010339},"m"]
[null,null,"DISCHARGE",null,null,null,null,null,"Differential Pressure",{"$f":"J45-J44","v":0.44540034283410324},"bar"]
[null,null,"Source pressure",null,0.25,"barg",null,null,"Differential Head",{"$f":"J46*10^5/(E18*9.8)","v":10.511750781061796},"m"]
[null,null,"Static head",null,30,"m","note 2",null,"Hydraulic Power",{"$f":"E18*9.8*J47*E17/3600000","v":0.60852291927078273},"kW"]
[null,null,"Length",null,40,"m",null,null,"Pump BHP",{"$f":"J48/E23","v":1.3522731539350727},"kW"]
[null,null,"Pipe size",null,3,"in",null,null,"NPSHa",{"$f":"P45","v":0.47508352330010339},"m","note 3"]
[null,null,"Schedule",null,40]
[null,null,"Fittings",null,null,null,null,null,"Note:"]
[null,null,null,null,"Qty","K","DP",null,"1. The minimum height of tank is assumed 0,5 m (LLLL)"]
[null,null,"Elbow 90 LR",{"$f":"C54&$E$50","v":"Elbow 90 LR3"},null,{"$f":"VLOOKUP(D54,'K-value'!$D$48:$E$124,2,FALSE)","v":0.28999999999999998},{"$f":"E54*F54*$J$19^2/(2*9.8)*$E$18*9.8/10^5","v":0},null,"2. Discharge liquid level is assumed 30 m above elevation (HHLL)"]
[null,null,"Elbow 45 LR","Elbow 45 LR3",null,{"$f":"VLOOKUP(D55,'K-value'!$D$48:$E$124,2,FALSE)","v":0.28999999999999998},0,null,"3. Calculated NPSHA is without margin"]
[null,null,"Tee thru","Tee thru3",null,{"$f":"VLOOKUP(D56,'K-value'!$D$48:$E$124,2,FALSE)","v":0.36},0]
[null,null,"Tee branch","Tee branch3",null,{"$f":"VLOOKUP(D57,'K-value'!$D$48:$E$124,2,FALSE)","v":1.08},0]
[null,null,"Ball valve","Ball valve3",1,{"$f":"VLOOKUP(D58,'K-value'!$D$48:$E$124,2,FALSE)","v":0.05},5.7885903563254164E-5]
[null,null,"Butterfly valve","Butterfly valve3",null,{"$f":"VLOOKUP(D59,'K-value'!$D$48:$E$124,2,FALSE)","v":0.81},0]
[null,null,"Gate valve","Gate valve3",null,{"$f":"VLOOKUP(D60,'K-value'!$D$48:$E$124,2,FALSE)","v":0.14000000000000001},0]
[null,null,"Globe valve","Globe valve3",null,{"$f":"VLOOKUP(D61,'K-value'!$D$48:$E$124,2,FALSE)","v":6.1},0]
[null,null,"Check valve","Check valve3",1,{"$f":"VLOOKUP(D62,'K-value'!$D$48:$E$124,2,FALSE)","v":1.8},2.0838925282771498E-3]
[null,null,"Plug valve","Plug valve3",null,{"$f":"VLOOKUP(D63,'K-value'!$D$48:$E$124,2,FALSE)","v":1.62},0]
[null,null,"Pipe entrance","Pipe entrance3",null,{"$f":"VLOOKUP(D64,'K-value'!$D$48:$E$124,2,FALSE)","v":0.78},0]
[null,null,"Total, barg",null,null,null,{"$f":"SUM(G54:G64)","v":2.1417784318404041E-3}]

{"sheet":"75.6 - BOOSTER (G-3AB)","index":54,"n_rows":65,"n_cols":23,"rows_kept":65,"cut":false,"hidden":true,"merged":[[0,5,3,10],[28,18,30,18],[28,19,29,20],[28,21,28,22],[29,21,29,22]]}
[null,null,null,null,null,"PUMP SIZING"]
[]
[]
[]
[null,null,"Project: LNG Regasification in Central Region of Indonesia"]
[]
[null,null,"Equipment Design Group",null,"> 30","MMscfd"]
[null,null,"Equipment Design",null,75.599999999999994,"MMscfd"]
[null,null,null,null,"Booster compressor scheme"]
[null,null,"Tag No:",null,"SLP-G-003A/B"]
[null,null,null,null,"MKP-G-003A/B"]
[null,null,"Description:",null,"Seawater Pump"]
[null,null,"Location:",null,"Sulsel Peaker",null,null,null,null,null,null,null,null,null,"Pipe roughness",0.05,"mm"]
[null,null,null,null,"Makasar Peaker",null,null,null,null,null,null,null,null,null,null,{"$f":"P13/1000/3.28","v":1.5243902439024392E-5},"ft"]
[]
[null,null,"DATA",null,null,null,null,null,"RESULTS",null,null,null,null,null,"Mass flow",{"$f":"E17*E18/0.45","v":3364538.616896763},"lb/hr"]
[null,null,"Flow rate",null,1503.0270620095901,"m3/h",null,null,"Suction Hydraulic",null,null,null,null,null,"Rho",{"$f":"E18/16.02","v":62.879447815278404},"lb/ft3"]
[null,null,"Density",null,1007.32875400076,"kg/m3",null,null,"Pipe ID",{"$f":"VLOOKUP(E29,'Pipe size sch 40'!$A$5:$C$27,3,FALSE)*25.4/1000","v":0.38100000000000001},"m"]
[null,null,"Flow temperature",null,25.0035546994039,"deg C",null,null,"Velocity",{"$f":"E17/(PI()/4*J18^2)/3600","v":3.6620516609483404},"m/s",null,null,null,"Side Calculation (Suction)"]
[null,null,"Viscocity",null,0.89036677271689202,"cP",null,null,"Velocity acceptance",{"$f":"IF(E29<4,0.9,IF(E29=4,1.4,IF(E29=6,1.5,IF(E29=8,1.8,1.8))))","v":1.8},"m/s","(max)",null,null,"f tebakan",1.6003654188171616E-2]
[null,null,null,null,{"$f":"E20*10^-3","v":8.9036677271689207E-4},"Nm2/s",null,null,"Reynold number",{"$f":"E18*J20*J18/E21","v":775889.30838660314},null,null,null,null,"f left",{"$f":"1/(P20)^0.5","v":7.9047915270892677}]
[null,null,"Vapor pressure",null,{"$f":"-0.982148666890848+1.01","v":2.7851333109151999E-2},"bara",null,null,"Pipe DP",{"$f":"P26","v":0.28844398776285446},"bar/100m",null,null,null,"f right",{"$f":"-2*LOG(P14/(3.7*J18*0.3048)+2.51/(J21*(P20)^0.5))","v":8.4286343148923031}]
[null,null,"Pump efficiency",null,0.7,null,null,null,"Pipe DP acceptance",0.54,"bar/100m",null,null,null,"f left/f right",{"$f":"P21/P22","v":0.93784962447860942},"Goal seek"]
[null,null,null,null,null,null,null,null,"Static head",{"$f":"E18*9.8*E27/10^5","v":4.935910894603724E-2},"bar",null,null,null,"psi/100 ft",{"$f":"0.000336*P20*P16^2/(J18*1000/25.4)^5/P17","v":1.2748070483167115}]
[null,null,"SUCTION",null,null,null,null,null,"Pipe friction loss",{"$f":"J22*E28/100","v":4.3266598164428169E-2},"bar",null,null,null,"psi/ft",{"$f":"P24/100","v":1.2748070483167116E-2}]
[null,null,"Pressure",null,0.1,"barg",null,null,"Fitting friction loss",{"$f":"G44","v":2.7017811039565329E-3},"bar",null,null,null,"bar/100 m",{"$f":"P25*100/14.5/0.3048","v":0.28844398776285446}]
[null,null,"Static head",null,0.5,"m","note 1",null,"Suction Pressure",{"$f":"E26+J24-SUM(J25:J26)","v":0.10339072967765253},"bara"]
[null,null,"Length",null,15,"m","assumption",null,"Result",{"$f":"IF(OR(J19<J20,J22<J23),\"OK\",\"NOT OK\")","v":"OK"}]
[null,null,"Pipe size",null,16,"in",null,null,null,null,null,null,null,null,"Side Calculation (Discharge)",null,null,null,"Pipe Nominal Diameter (in)","Maximum velocity (m/s)",null,"Allowable Pressure Drop "]
[null,null,"Schedule",null,40,null,null,null,"Discharge Hydraulic",null,null,null,null,null,"f tebakan",1.8171706458057275E-2,null,null,null,null,null,"(bar/100 m)"]
[null,null,"Fittings",null,null,null,null,null,"Pipe ID",{"$f":"VLOOKUP(E50,'Pipe size sch 40'!$A$5:$C$27,3,FALSE)*25.4/1000","v":0.38100000000000001},"m",null,null,null,"f left",{"$f":"1/(P30)^0.5","v":7.4182615878101998},null,null,null,"Pump Suction","Pump Discharge","Pump Suction","Pump Discharge"]
[null,null,null,null,"Qty","K","DP",null,"Velocity",{"$f":"E17/(PI()/4*J18^2)/3600","v":3.6620516609483404},"m/s",null,null,null,"f right",{"$f":"-2*LOG(P14/(3.7*J31*0.3048)+2.51/(J34*(P30)^0.5))","v":8.7107895804548985},null,null,"< 4",0.9,1.8,"0.23 to 0.54","0.34 to 0.68"]
[null,null,"Elbow 90 LR",{"$f":"C33&$E$29","v":"Elbow 90 LR16"},null,{"$f":"VLOOKUP(D33,'K-value'!$D$48:$E$146,2,FALSE)","v":0.21},{"$f":"E33*F33*$J$19^2/(2*9.8)*$E$18*9.8/10^5","v":0},null,"Velocity acceptance",{"$f":"IF(E29<4,1.8,IF(E29=4,2.4,IF(E29=6,3,IF(E29=8,4.3,5))))","v":5},"m/s","(max)",null,null,"f left/f right",{"$f":"P31/P32","v":0.85161758521353237},"Goal seek",null,4,1.4,2.4,"0.23 to 0.54","0.34 to 0.68"]
[null,null,"Elbow 45 LR","Elbow 45 LR16",null,{"$f":"VLOOKUP(D34,'K-value'!$D$48:$E$146,2,FALSE)","v":0.21},0,null,"Reynold number",{"$f":"E18*J33*J31/E21","v":2155248.0788516756},null,null,null,null,"psi/100 ft",{"$f":"0.000336*P30*P16^2/(J31*1000/25.4)^5/P17","v":1.4475081253502342},null,null,6,1.5,3,"0.23 to 0.54","0.34 to 0.68"]
[null,null,"Tee thru","Tee thru16",null,{"$f":"VLOOKUP(D35,'K-value'!$D$48:$E$146,2,FALSE)","v":0.26},0,null,"Pipe DP",{"$f":"P36","v":0.32752016593135902},"bar/100m",null,null,null,"psi/ft",{"$f":"P34/100","v":1.4475081253502341E-2},null,null,8,1.8,4.3,"0.23 to 0.54","0.34 to 0.68"]
[null,null,"Tee branch","Tee branch16",null,{"$f":"VLOOKUP(D36,'K-value'!$D$48:$E$146,2,FALSE)","v":0.78},0,null,"Pipe DP acceptance",0.54,"bar/100m",null,null,null,"bar/100 m",{"$f":"P35*100/14.5/0.3048","v":0.32752016593135902},null,null,">8",1.8,5,"0.23 to 0.54","0.34 to 0.68"]
[null,null,"Ball valve","Ball valve16",1,{"$f":"VLOOKUP(D37,'K-value'!$D$48:$E$146,2,FALSE)","v":0.04},2.7017811039565329E-3,null,"Static head",{"$f":"E17*9.8*E48/10^5","v":1.4729665207693985},"bar","note 2"]
[null,null,"Butterfly valve","Butterfly valve16",null,{"$f":"VLOOKUP(D38,'K-value'!$D$48:$E$146,2,FALSE)","v":0.35},0,null,"Line losses",{"$f":"J35*E49/100","v":4.9128024889703852E-2},"bar"]
[null,null,"Gate valve","Gate valve16",null,{"$f":"VLOOKUP(D39,'K-value'!$D$48:$E$146,2,FALSE)","v":0.1},0,null,"Fitting & eqp losses",{"$f":"G65","v":9.0509666982543854E-2},"bar",null,null,null,"NPSHA calculation"]
[null,null,"Globe valve","Globe valve16",null,{"$f":"VLOOKUP(D40,'K-value'!$D$48:$E$146,2,FALSE)","v":4.4000000000000004},0,null,"Discharge Pressure",{"$f":"E47+J37+J38+J39","v":3.1126042126416462},"barg",null,null,null,"HA",{"$f":"(E26+1.01)*100000/(E18*9.81)","v":11.232663283501967},"m"]
[null,null,"Check valve","Check valve16",null,{"$f":"VLOOKUP(D41,'K-value'!$D$48:$E$146,2,FALSE)","v":1.3},0,null,"Result",{"$f":"IF(AND(J32<J33,J35<J36),\"OK\",\"NOT OK\")","v":"OK"},null,null,null,null,"HZ",{"$f":"E27","v":0.5},"m"]
[null,null,"Plug valve","Plug valve16",null,{"$f":"VLOOKUP(D42,'K-value'!$D$48:$E$146,2,FALSE)","v":1.17},0,null,null,null,null,null,null,null,"HF",{"$f":"SUM(J25:J26)*-1","v":-4.59683792683847E-2}]
[null,null,"Pipe entrance","Pipe entrance16",null,{"$f":"VLOOKUP(D43,'K-value'!$D$48:$E$146,2,FALSE)","v":0.78},0,null,"Pump Data",null,null,null,null,null,"HV",0]
[null,null,"Total, barg",null,null,null,{"$f":"SUM(G33:G43)","v":2.7017811039565329E-3},null,"Suction Pressure",{"$f":"J27","v":0.10339072967765253},"barg",null,null,null,"HVP",{"$f":"E22*10^5/(E18*9.8)*-1","v":-0.28212961805693232},"m"]
[null,null,null,null,null,null,null,null,"Discharge Pressure",{"$f":"J40","v":3.1126042126416462},"barg",null,null,null,"NPSHA",{"$f":"SUM(P40:P44)","v":11.40456528617665},"m"]
[null,null,"DISCHARGE",null,null,null,null,null,"Differential Pressure",{"$f":"J45-J44","v":3.0092134829639936},"bar"]
[null,null,"Source pressure",null,1.5,"barg",null,null,"Differential Head",{"$f":"J46*10^5/(E18*9.8)","v":30.482858657901136},"m"]
[null,null,"Static head",null,10,"m","note 2",null,"Hydraulic Power",{"$f":"E18*9.8*J47*E17/3600000","v":125.6369250071949},"kW"]
[null,null,"Length",null,15,"m",null,null,"Pump BHP",{"$f":"J48/E23","v":179.48132143884987},"kW"]
[null,null,"Pipe size",null,16,"in",null,null,"NPSHa",{"$f":"P45","v":11.40456528617665},"m","note 3"]
[null,null,"Schedule",null,40]
[null,null,"Fittings",null,null,null,null,null,"Note:"]
[null,null,null,null,"Qty","K","DP",null,"1. The minimum height of tank is assumed 0,5 m (LLLL)"]
[null,null,"Elbow 90 LR",{"$f":"C54&$E$50","v":"Elbow 90 LR16"},null,{"$f":"VLOOKUP(D54,'K-value'!$D$48:$E$146,2,FALSE)","v":0.21},{"$f":"E54*F54*$J$19^2/(2*9.8)*$E$18*9.8/10^5","v":0},null,"2. Discharge liquid level is assumed 10 m above elevation (HHLL)"]
[null,null,"Elbow 45 LR","Elbow 45 LR16",null,{"$f":"VLOOKUP(D55,'K-value'!$D$48:$E$146,2,FALSE)","v":0.21},0,null,"3. Calculated NPSHA is without margin"]
[null,null,"Tee thru","Tee thru16",null,{"$f":"VLOOKUP(D56,'K-value'!$D$48:$E$146,2,FALSE)","v":0.26},0]
[null,null,"Tee branch","Tee branch16",null,{"$f":"VLOOKUP(D57,'K-value'!$D$48:$E$146,2,FALSE)","v":0.78},0]
[null,null,"Ball valve","Ball valve16",1,{"$f":"VLOOKUP(D58,'K-value'!$D$48:$E$146,2,FALSE)","v":0.04},2.7017811039565329E-3]
[null,null,"Butterfly valve","Butterfly valve16",null,{"$f":"VLOOKUP(D59,'K-value'!$D$48:$E$146,2,FALSE)","v":0.35},0]
[null,null,"Gate valve","Gate valve16",null,{"$f":"VLOOKUP(D60,'K-value'!$D$48:$E$146,2,FALSE)","v":0.1},0]
[null,null,"Globe valve","Globe valve16",null,{"$f":"VLOOKUP(D61,'K-value'!$D$48:$E$146,2,FALSE)","v":4.4000000000000004},0]
[null,null,"Check valve","Check valve16",1,{"$f":"VLOOKUP(D62,'K-value'!$D$48:$E$146,2,FALSE)","v":1.3},8.7807885878587316E-2]
[null,null,"Plug valve","Plug valve16",null,{"$f":"VLOOKUP(D63,'K-value'!$D$48:$E$146,2,FALSE)","v":1.17},0]
[null,null,"Pipe entrance","Pipe entrance16",null,{"$f":"VLOOKUP(D64,'K-value'!$D$48:$E$146,2,FALSE)","v":0.78},0]
[null,null,"Total, barg",null,null,null,{"$f":"SUM(G54:G64)","v":9.0509666982543854E-2}]

{"sheet":"75.6 - VIT (G-1AB)","index":55,"n_rows":65,"n_cols":23,"rows_kept":65,"cut":false,"hidden":true,"merged":[[0,5,3,10],[28,18,30,18],[28,19,29,20],[28,21,28,22],[29,21,29,22]]}
[null,null,null,null,null,"PUMP SIZING"]
[]
[]
[]
[null,null,"Project: LNG Regasification in Central Region of Indonesia"]
[]
[null,null,"Equipment Design Group",null,"> 30","MMscfd"]
[null,null,"Equipment Design",null,75.599999999999994,"MMscfd"]
[null,null,null,null,"Recondensing Scheme"]
[null,null,"Tag No:",null,"SLP-G-001A/B"]
[null,null,null,null,"MKP-G-001A/B"]
[null,null,"Description:",null,"LNG LP Pump"]
[null,null,"Location:",null,"Sulsel Peaker",null,null,null,null,null,null,null,null,null,"Pipe roughness",0.05,"mm"]
[null,null,null,null,"Makasar Peaker",null,null,null,null,null,null,null,null,null,null,{"$f":"P13/1000/3.28","v":1.5243902439024392E-5},"ft"]
[]
[null,null,"DATA",null,null,null,null,null,"RESULTS",null,null,null,null,null,"Mass flow",{"$f":"E17*E18/0.45","v":167971.88033618635},"lb/hr"]
[null,null,"Flow rate",null,172.562917260663,"m3/h",null,null,"Suction Hydraulic",null,null,null,null,null,"Rho",{"$f":"E18/16.02","v":27.34255609663402},"lb/ft3"]
[null,null,"Density",null,438.02774866807698,"kg/m3",null,null,"Pipe ID",{"$f":"VLOOKUP(E29,'Pipe size sch 40'!$A$5:$C$27,3,FALSE)*25.4/1000","v":0.30327599999999993},"m"]
[null,null,"Flow temperature",null,-160.01271100626201,"deg C",null,null,"Velocity",{"$f":"E17/(PI()/4*J18^2)/3600","v":0.66355817672839457},"m/s",null,null,null,"Side Calculation (Suction)"]
[null,null,"Viscocity",null,0.12087492277996099,"cP",null,null,"Velocity acceptance",{"$f":"IF(E29<4,0.9,IF(E29=4,1.4,IF(E29=6,1.5,IF(E29=8,1.8,1.8))))","v":1.8},"m/s","(max)",null,null,"f tebakan",1.3804461826875503E-2]
[null,null,null,null,{"$f":"E20*10^-3","v":1.20874922779961E-4},"Nm2/s",null,null,"Reynold number",{"$f":"E18*J20*J18/E21","v":1978226.2590925859},null,null,null,null,"f left",{"$f":"1/(P20)^0.5","v":8.511189496537817}]
[null,null,"Vapor pressure",null,{"$f":"-0.0589226720496775+1.01","v":0.95107732795032252},"bara",null,null,"Pipe DP",{"$f":"P26","v":4.4626026052321643E-3},"bar/100m",null,null,null,"f right",{"$f":"-2*LOG(P14/(3.7*J18*0.3048)+2.51/(J21*(P20)^0.5))","v":8.5134668311434005}]
[null,null,"Pump efficiency",null,0.45,null,null,null,"Pipe DP acceptance",0.54,"bar/100m",null,null,null,"f left/f right",{"$f":"P21/P22","v":0.99973250208748654},"Goal seek"]
[null,null,null,null,null,null,null,null,"Static head",{"$f":"E18*9.8*E27/10^5","v":2.1463359684735773E-2},"bar",null,null,null,"psi/100 ft",{"$f":"0.000336*P20*P16^2/(J18*1000/25.4)^5/P17","v":1.9722918474084077E-2}]
[null,null,"SUCTION",null,null,null,null,null,"Pipe friction loss",{"$f":"J22*E28/100","v":6.693903907848246E-4},"bar",null,null,null,"psi/ft",{"$f":"P24/100","v":1.9722918474084075E-4}]
[null,null,"Pressure",null,9.9759656009929198E-2,"barg",null,null,"Fitting friction loss",{"$f":"G44","v":3.8573551762090063E-5},"bar",null,null,null,"bar/100 m",{"$f":"P25*100/14.5/0.3048","v":4.4626026052321643E-3}]
[null,null,"Static head",null,0.5,"m","note 1",null,"Suction Pressure",{"$f":"E26+J24-SUM(J25:J26)","v":0.12051505175211805},"bara"]
[null,null,"Length",null,15,"m","assumption",null,"Result",{"$f":"IF(AND(J19<J20,J22<J23),\"OK\",\"NOT OK\")","v":"OK"}]
[null,null,"Pipe size",null,12,"in",null,null,null,null,null,null,null,null,"Side Calculation (Discharge)",null,null,null,"Pipe Nominal Diameter (in)","Maximum velocity (m/s)",null,"Allowable Pressure Drop "]
[null,null,"Schedule",null,40,null,null,null,"Discharge Hydraulic",null,null,null,null,null,"f tebakan",1.5454831854172391E-2,null,null,null,null,null,"(bar/100 m)"]
[null,null,"Fittings",null,null,null,null,null,"Pipe ID",{"$f":"VLOOKUP(E50,'Pipe size sch 40'!$A$5:$C$27,3,FALSE)*25.4/1000","v":0.15417800000000001},"m",null,null,null,"f left",{"$f":"1/(P30)^0.5","v":8.0439221318047025},null,null,null,"Pump Suction","Pump Discharge","Pump Suction","Pump Discharge"]
[null,null,null,null,"Qty","K","DP",null,"Velocity",{"$f":"E17/(PI()/4*J18^2)/3600","v":0.66355817672839457},"m/s",null,null,null,"f right",{"$f":"-2*LOG(P14/(3.7*J31*0.3048)+2.51/(J34*(P30)^0.5))","v":8.0454799229989682},null,null,"< 4",0.9,1.8,"0.23 to 0.54","0.34 to 0.68"]
[null,null,"Elbow 90 LR",{"$f":"C33&$E$29","v":"Elbow 90 LR12"},null,{"$f":"VLOOKUP(D33,'K-value'!$D$48:$E$146,2,FALSE)","v":0.21},{"$f":"E33*F33*$J$19^2/(2*9.8)*$E$18*9.8/10^5","v":0},null,"Velocity acceptance",{"$f":"IF(E29<4,1.8,IF(E29=4,2.4,IF(E29=6,3,IF(E29=8,4.3,5))))","v":5},"m/s","(max)",null,null,"f left/f right",{"$f":"P31/P32","v":0.99980637684648088},"Goal seek",null,4,1.4,2.4,"0.23 to 0.54","0.34 to 0.68"]
[null,null,"Elbow 45 LR","Elbow 45 LR12",null,{"$f":"VLOOKUP(D34,'K-value'!$D$48:$E$146,2,FALSE)","v":0.21},0,null,"Reynold number",{"$f":"E18*J33*J31/E21","v":2793558.8574101985},null,null,null,null,"psi/100 ft",{"$f":"0.000336*P30*P16^2/(J31*1000/25.4)^5/P17","v":0.6502706647078409},null,null,6,1.5,3,"0.23 to 0.54","0.34 to 0.68"]
[null,null,"Tee thru","Tee thru12",null,{"$f":"VLOOKUP(D35,'K-value'!$D$48:$E$146,2,FALSE)","v":0.26},0,null,"Pipe DP",{"$f":"P36","v":0.14713337512621977},"bar/100m",null,null,null,"psi/ft",{"$f":"P34/100","v":6.5027066470784087E-3},null,null,8,1.8,4.3,"0.23 to 0.54","0.34 to 0.68"]
[null,null,"Tee branch","Tee branch12",null,{"$f":"VLOOKUP(D36,'K-value'!$D$48:$E$146,2,FALSE)","v":0.78},0,null,"Pipe DP acceptance",0.54,"bar/100m",null,null,null,"bar/100 m",{"$f":"P35*100/14.5/0.3048","v":0.14713337512621977},null,null,">8",1.8,5,"0.23 to 0.54","0.34 to 0.68"]
[null,null,"Ball valve","Ball valve12",1,{"$f":"VLOOKUP(D37,'K-value'!$D$48:$E$146,2,FALSE)","v":0.04},3.8573551762090063E-5,null,"Static head",{"$f":"E17*9.8*E48/10^5","v":6.7644663566179902E-2},"bar","note 2"]
[null,null,"Butterfly valve","Butterfly valve12",null,{"$f":"VLOOKUP(D38,'K-value'!$D$48:$E$146,2,FALSE)","v":0.35},0,null,"Line losses",{"$f":"J35*E49/100","v":2.2070006268932966E-2},"bar"]
[null,null,"Gate valve","Gate valve12",null,{"$f":"VLOOKUP(D39,'K-value'!$D$48:$E$146,2,FALSE)","v":0.1},0,null,"Fitting & eqp losses",{"$f":"G65","v":1.4947251307809899E-3},"bar",null,null,null,"NPSHA calculation"]
[null,null,"Globe valve","Globe valve12",null,{"$f":"VLOOKUP(D40,'K-value'!$D$48:$E$146,2,FALSE)","v":4.4000000000000004},0,null,"Discharge Pressure",{"$f":"E47+J37+J38+J39","v":6.0912093949658948},"barg",null,null,null,"HA",{"$f":"(E26+1.01)*100000/(E18*9.81)","v":25.826068677551483},"m"]
[null,null,"Check valve","Check valve12",null,{"$f":"VLOOKUP(D41,'K-value'!$D$48:$E$146,2,FALSE)","v":1.3},0,null,"Result",{"$f":"IF(AND(J32<J33,J35<J36),\"OK\",\"NOT OK\")","v":"OK"},null,null,null,null,"HZ",{"$f":"E27","v":0.5},"m"]
[null,null,"Plug valve","Plug valve12",null,{"$f":"VLOOKUP(D42,'K-value'!$D$48:$E$146,2,FALSE)","v":1.17},0,null,null,null,null,null,null,null,"HF",{"$f":"SUM(J25:J26)*-1","v":-7.0796394254691469E-4}]
[null,null,"Pipe entrance","Pipe entrance12",null,{"$f":"VLOOKUP(D43,'K-value'!$D$48:$E$146,2,FALSE)","v":0.78},0,null,"Pump Data",null,null,null,null,null,"HV",0]
[null,null,"Total, barg",null,null,null,{"$f":"SUM(G33:G43)","v":3.8573551762090063E-5},null,"Suction Pressure",{"$f":"J27","v":0.12051505175211805},"barg",null,null,null,"HVP",{"$f":"E22*10^5/(E18*9.8)*-1","v":-22.155835384585803},"m"]
[null,null,null,null,null,null,null,null,"Discharge Pressure",{"$f":"J40","v":6.0912093949658948},"barg",null,null,null,"NPSHA",{"$f":"SUM(P40:P44)","v":4.1695253290231342},"m"]
[null,null,"DISCHARGE",null,null,null,null,null,"Differential Pressure",{"$f":"J45-J44","v":5.9706943432137765},"bar"]
[null,null,"Source pressure",null,6,"barg",null,null,"Differential Head",{"$f":"J46*10^5/(E18*9.8)","v":139.09039476843859},"m"]
[null,null,"Static head",null,4,"m","note 2",null,"Hydraulic Power",{"$f":"E18*9.8*J47*E17/3600000","v":28.620012053797431},"kW"]
[null,null,"Length",null,15,"m",null,null,"Pump BHP",{"$f":"J48/E23","v":63.60002678621651},"kW"]
[null,null,"Pipe size",null,6,"in",null,null,"NPSHa",{"$f":"P45","v":4.1695253290231342},"m","note 3"]
[null,null,"Schedule",null,40]
[null,null,"Fittings",null,null,null,null,null,"Note:"]
[null,null,null,null,"Qty","K","DP",null,"1. The minimum height of tank is assumed 0,5 m (LLLL)"]
[null,null,"Elbow 90 LR",{"$f":"C54&$E$50","v":"Elbow 90 LR6"},null,{"$f":"VLOOKUP(D54,'K-value'!$D$48:$E$124,2,FALSE)","v":0.24},{"$f":"E54*F54*$J$19^2/(2*9.8)*$E$18*9.8/10^5","v":0},null,"2. Discharge liquid level is assumed 4 m above grade elevation"]
[null,null,"Elbow 45 LR","Elbow 45 LR6",null,{"$f":"VLOOKUP(D55,'K-value'!$D$48:$E$124,2,FALSE)","v":0.24},0,null,"3. Calculated NPSHA is without margin"]
[null,null,"Tee thru","Tee thru6",null,{"$f":"VLOOKUP(D56,'K-value'!$D$48:$E$124,2,FALSE)","v":0.3},0]
[null,null,"Tee branch","Tee branch6",null,{"$f":"VLOOKUP(D57,'K-value'!$D$48:$E$124,2,FALSE)","v":0.9},0]
[null,null,"Ball valve","Ball valve6",1,{"$f":"VLOOKUP(D58,'K-value'!$D$48:$E$124,2,FALSE)","v":0.05},4.8216939702612572E-5]
[null,null,"Butterfly valve","Butterfly valve6",null,{"$f":"VLOOKUP(D59,'K-value'!$D$48:$E$124,2,FALSE)","v":0.68},0]
[null,null,"Gate valve","Gate valve6",null,{"$f":"VLOOKUP(D60,'K-value'!$D$48:$E$124,2,FALSE)","v":0.12},0]
[null,null,"Globe valve","Globe valve6",null,{"$f":"VLOOKUP(D61,'K-value'!$D$48:$E$124,2,FALSE)","v":5.0999999999999996},0]
[null,null,"Check valve","Check valve6",1,{"$f":"VLOOKUP(D62,'K-value'!$D$48:$E$124,2,FALSE)","v":1.5},1.4465081910783773E-3]
[null,null,"Plug valve","Plug valve6",null,{"$f":"VLOOKUP(D63,'K-value'!$D$48:$E$124,2,FALSE)","v":1.35},0]
[null,null,"Pipe entrance","Pipe entrance6",null,{"$f":"VLOOKUP(D64,'K-value'!$D$48:$E$124,2,FALSE)","v":0.78},0]
[null,null,"Total, barg",null,null,null,{"$f":"SUM(G54:G64)","v":1.4947251307809899E-3}]

{"sheet":"75.6 - VIT (G-3AB)","index":56,"n_rows":65,"n_cols":23,"rows_kept":65,"cut":false,"hidden":true,"merged":[[0,5,3,10],[28,18,30,18],[28,19,29,20],[28,21,28,22],[29,21,29,22]]}
[null,null,null,null,null,"PUMP SIZING"]
[]
[]
[]
[null,null,"Project: LNG Regasification in Central Region of Indonesia"]
[]
[null,null,"Equipment Design Group",null,"> 30","MMscfd"]
[null,null,"Equipment Design",null,75.599999999999994,"MMscfd"]
[null,null,null,null,"Recondensing Scheme"]
[null,null,"Tag No:",null,"SLP-G-003A/B"]
[null,null,null,null,"MKP-G-003A/B"]
[null,null,"Description:",null,"Seawater Pump"]
[null,null,"Location:",null,"Sulsel Peaker",null,null,null,null,null,null,null,null,null,"Pipe roughness",0.05,"mm"]
[null,null,null,null,"Makasar Peaker",null,null,null,null,null,null,null,null,null,null,{"$f":"P13/1000/3.28","v":1.5243902439024392E-5},"ft"]
[]
[null,null,"DATA",null,null,null,null,null,"RESULTS",null,null,null,null,null,"Mass flow",{"$f":"E17*E18/0.45","v":3688888.8888888974},"lb/hr"]
[null,null,"Flow rate",null,1647.9101996808399,"m3/h",null,null,"Suction Hydraulic",null,null,null,null,null,"Rho",{"$f":"E18/16.02","v":62.879927818312112},"lb/ft3"]
[null,null,"Density",null,1007.33644364936,"kg/m3",null,null,"Pipe ID",{"$f":"VLOOKUP(E29,'Pipe size sch 40'!$A$5:$C$27,3,FALSE)*25.4/1000","v":0.30327599999999993},"m"]
[null,null,"Flow temperature",null,25,"deg C",null,null,"Velocity",{"$f":"E17/(PI()/4*J18^2)/3600","v":6.3367281039911498},"m/s",null,null,null,"Side Calculation (Suction)"]
[null,null,"Viscocity",null,0.89043897514571702,"cP",null,null,"Velocity acceptance",{"$f":"IF(E29<4,0.9,IF(E29=4,1.4,IF(E29=6,1.5,IF(E29=8,1.8,1.8))))","v":1.8},"m/s","(max)",null,null,"f tebakan",1.488835669917429E-2]
[null,null,null,null,{"$f":"E20*10^-3","v":8.9043897514571701E-4},"Nm2/s",null,null,"Reynold number",{"$f":"E18*J20*J18/E21","v":617562.52417138009},null,null,null,null,"f left",{"$f":"1/(P20)^0.5","v":8.1955219426489183}]
[null,null,"Vapor pressure",null,{"$f":"-0.0589226720496775+1.01","v":0.95107732795032252},"bara",null,null,"Pipe DP",{"$f":"P26","v":1.0093936254698324},"bar/100m",null,null,null,"f right",{"$f":"-2*LOG(P14/(3.7*J18*0.3048)+2.51/(J21*(P20)^0.5))","v":8.2171539635748942}]
[null,null,"Pump efficiency",null,0.7,null,null,null,"Pipe DP acceptance",0.54,"bar/100m",null,null,null,"f left/f right",{"$f":"P21/P22","v":0.99736745580989883},"Goal seek"]
[null,null,null,null,null,null,null,null,"Static head",{"$f":"E18*9.8*E27/10^5","v":4.9359485738818647E-2},"bar",null,null,null,"psi/100 ft",{"$f":"0.000336*P20*P16^2/(J18*1000/25.4)^5/P17","v":4.461116067126472}]
[null,null,"SUCTION",null,null,null,null,null,"Pipe friction loss",{"$f":"J22*E28/100","v":0.15140904382047485},"bar",null,null,null,"psi/ft",{"$f":"P24/100","v":4.4611160671264721E-2}]
[null,null,"Pressure",null,0.1,"barg",null,null,"Fitting friction loss",{"$f":"G44","v":8.0897423050118253E-3},"bar",null,null,null,"bar/100 m",{"$f":"P25*100/14.5/0.3048","v":1.0093936254698324}]
[null,null,"Static head",null,0.5,"m","note 1",null,"Suction Pressure",{"$f":"E26+J24-SUM(J25:J26)","v":-1.0139300386668021E-2},"bara"]
[null,null,"Length",null,15,"m","assumption",null,"Result",{"$f":"IF(AND(J19<J20,J22<J23),\"OK\",\"NOT OK\")","v":"NOT OK"}]
[null,null,"Pipe size",null,12,"in",null,null,null,null,null,null,null,null,"Side Calculation (Discharge)",null,null,null,"Pipe Nominal Diameter (in)","Maximum velocity (m/s)",null,"Allowable Pressure Drop "]
[null,null,"Schedule",null,40,null,null,null,"Discharge Hydraulic",null,null,null,null,null,"f tebakan",1.438136381941877E-2,null,null,null,null,null,"(bar/100 m)"]
[null,null,"Fittings",null,null,null,null,null,"Pipe ID",{"$f":"VLOOKUP(E50,'Pipe size sch 40'!$A$5:$C$27,3,FALSE)*25.4/1000","v":0.25450799999999996},"m",null,null,null,"f left",{"$f":"1/(P30)^0.5","v":8.3387309864091392},null,null,null,"Pump Suction","Pump Discharge","Pump Suction","Pump Discharge"]
[null,null,null,null,"Qty","K","DP",null,"Velocity",{"$f":"E17/(PI()/4*J18^2)/3600","v":6.3367281039911498},"m/s",null,null,null,"f right",{"$f":"-2*LOG(P14/(3.7*J31*0.3048)+2.51/(J34*(P30)^0.5))","v":8.3394756661558898},null,null,"< 4",0.9,1.8,"0.23 to 0.54","0.34 to 0.68"]
[null,null,"Elbow 90 LR",{"$f":"C33&$E$29","v":"Elbow 90 LR12"},null,{"$f":"VLOOKUP(D33,'K-value'!$D$48:$E$146,2,FALSE)","v":0.21},{"$f":"E33*F33*$J$19^2/(2*9.8)*$E$18*9.8/10^5","v":0},null,"Velocity acceptance",{"$f":"IF(E29<4,1.8,IF(E29=4,2.4,IF(E29=6,3,IF(E29=8,4.3,5))))","v":5},"m/s","(max)",null,null,"f left/f right",{"$f":"P31/P32","v":0.99991070424849693},"Goal seek",null,4,1.4,2.4,"0.23 to 0.54","0.34 to 0.68"]
[null,null,"Elbow 45 LR","Elbow 45 LR12",null,{"$f":"VLOOKUP(D34,'K-value'!$D$48:$E$146,2,FALSE)","v":0.21},0,null,"Reynold number",{"$f":"E18*J33*J31/E21","v":1439599.9656144683},null,null,null,null,"psi/100 ft",{"$f":"0.000336*P30*P16^2/(J31*1000/25.4)^5/P17","v":10.353325234864487},null,null,6,1.5,3,"0.23 to 0.54","0.34 to 0.68"]
[null,null,"Tee thru","Tee thru12",null,{"$f":"VLOOKUP(D35,'K-value'!$D$48:$E$146,2,FALSE)","v":0.26},0,null,"Pipe DP",{"$f":"P36","v":2.342593274247553},"bar/100m",null,null,null,"psi/ft",{"$f":"P34/100","v":0.10353325234864487},null,null,8,1.8,4.3,"0.23 to 0.54","0.34 to 0.68"]
[null,null,"Tee branch","Tee branch12",null,{"$f":"VLOOKUP(D36,'K-value'!$D$48:$E$146,2,FALSE)","v":0.78},0,null,"Pipe DP acceptance",0.54,"bar/100m",null,null,null,"bar/100 m",{"$f":"P35*100/14.5/0.3048","v":2.342593274247553},null,null,">8",1.8,5,"0.23 to 0.54","0.34 to 0.68"]
[null,null,"Ball valve","Ball valve12",1,{"$f":"VLOOKUP(D37,'K-value'!$D$48:$E$146,2,FALSE)","v":0.04},8.0897423050118253E-3,null,"Static head",{"$f":"E17*9.8*E48/10^5","v":1.6149519956872234},"bar","note 2"]
[null,null,"Butterfly valve","Butterfly valve12",null,{"$f":"VLOOKUP(D38,'K-value'!$D$48:$E$146,2,FALSE)","v":0.35},0,null,"Line losses",{"$f":"J35*E49/100","v":0.70277798227426591},"bar"]
[null,null,"Gate valve","Gate valve12",null,{"$f":"VLOOKUP(D39,'K-value'!$D$48:$E$146,2,FALSE)","v":0.1},0,null,"Fitting & eqp losses",{"$f":"G65","v":0.29123072298042563},"bar",null,null,null,"NPSHA calculation"]
[null,null,"Globe valve","Globe valve12",null,{"$f":"VLOOKUP(D40,'K-value'!$D$48:$E$146,2,FALSE)","v":4.4000000000000004},0,null,"Discharge Pressure",{"$f":"E47+J37+J38+J39","v":4.1089607009419149},"barg",null,null,null,"HA",{"$f":"(E26+1.01)*100000/(E18*9.81)","v":11.232577537340358},"m"]
[null,null,"Check valve","Check valve12",null,{"$f":"VLOOKUP(D41,'K-value'!$D$48:$E$146,2,FALSE)","v":1.3},0,null,"Result",{"$f":"IF(AND(J32<J33,J35<J36),\"OK\",\"NOT OK\")","v":"NOT OK"},null,null,null,null,"HZ",{"$f":"E27","v":0.5},"m"]
[null,null,"Plug valve","Plug valve12",null,{"$f":"VLOOKUP(D42,'K-value'!$D$48:$E$146,2,FALSE)","v":1.17},0,null,null,null,null,null,null,null,"HF",{"$f":"SUM(J25:J26)*-1","v":-0.15949878612548668}]
[null,null,"Pipe entrance","Pipe entrance12",null,{"$f":"VLOOKUP(D43,'K-value'!$D$48:$E$146,2,FALSE)","v":0.78},0,null,"Pump Data",null,null,null,null,null,"HV",0]
[null,null,"Total, barg",null,null,null,{"$f":"SUM(G33:G43)","v":8.0897423050118253E-3},null,"Suction Pressure",{"$f":"J27","v":-1.0139300386668021E-2},"barg",null,null,null,"HVP",{"$f":"E22*10^5/(E18*9.8)*-1","v":-9.6341900013187338},"m"]
[null,null,null,null,null,null,null,null,"Discharge Pressure",{"$f":"J40","v":4.1089607009419149},"barg",null,null,null,"NPSHA",{"$f":"SUM(P40:P44)","v":1.9388887498961367},"m"]
[null,null,"DISCHARGE",null,null,null,null,null,"Differential Pressure",{"$f":"J45-J44","v":4.119100001328583},"bar"]
[null,null,"Source pressure",null,1.5,"barg",null,null,"Differential Head",{"$f":"J46*10^5/(E18*9.8)","v":41.725515771420675},"m"]
[null,null,"Static head",null,10,"m","note 2",null,"Hydraulic Power",{"$f":"E18*9.8*J47*E17/3600000","v":188.55296960263146},"kW"]
[null,null,"Length",null,30,"m",null,null,"Pump BHP",{"$f":"J48/E23","v":269.36138514661639},"kW"]
[null,null,"Pipe size",null,10,"in",null,null,"NPSHa",{"$f":"P45","v":1.9388887498961367},"m","note 3"]
[null,null,"Schedule",null,40]
[null,null,"Fittings",null,null,null,null,null,"Note:"]
[null,null,null,null,"Qty","K","DP",null,"1. The minimum height of tank is assumed 0,5 m (LLLL)"]
[null,null,"Elbow 90 LR",{"$f":"C54&$E$50","v":"Elbow 90 LR10"},null,{"$f":"VLOOKUP(D54,'K-value'!$D$48:$E$124,2,FALSE)","v":0.22},{"$f":"E54*F54*$J$19^2/(2*9.8)*$E$18*9.8/10^5","v":0},null,"2. Discharge liquid level is assumed 3 m above grade elevation"]
[null,null,"Elbow 45 LR","Elbow 45 LR10",null,{"$f":"VLOOKUP(D55,'K-value'!$D$48:$E$124,2,FALSE)","v":0.22},0,null,"3. Calculated NPSHA is without margin"]
[null,null,"Tee thru","Tee thru10",null,{"$f":"VLOOKUP(D56,'K-value'!$D$48:$E$124,2,FALSE)","v":0.28000000000000003},0]
[null,null,"Tee branch","Tee branch10",null,{"$f":"VLOOKUP(D57,'K-value'!$D$48:$E$124,2,FALSE)","v":0.84},0]
[null,null,"Ball valve","Ball valve10",1,{"$f":"VLOOKUP(D58,'K-value'!$D$48:$E$124,2,FALSE)","v":0.04},8.0897423050118253E-3]
[null,null,"Butterfly valve","Butterfly valve10",null,{"$f":"VLOOKUP(D59,'K-value'!$D$48:$E$124,2,FALSE)","v":0.63},0]
[null,null,"Gate valve","Gate valve10",null,{"$f":"VLOOKUP(D60,'K-value'!$D$48:$E$124,2,FALSE)","v":0.11},0]
[null,null,"Globe valve","Globe valve10",null,{"$f":"VLOOKUP(D61,'K-value'!$D$48:$E$124,2,FALSE)","v":4.8},0]
[null,null,"Check valve","Check valve10",1,{"$f":"VLOOKUP(D62,'K-value'!$D$48:$E$124,2,FALSE)","v":1.4},0.28314098067541382]
[null,null,"Plug valve","Plug valve10",null,{"$f":"VLOOKUP(D63,'K-value'!$D$48:$E$124,2,FALSE)","v":1.26},0]
[null,null,"Pipe entrance","Pipe entrance10",null,{"$f":"VLOOKUP(D64,'K-value'!$D$48:$E$124,2,FALSE)","v":0.78},0]
[null,null,"Total, barg",null,null,null,{"$f":"SUM(G54:G64)","v":0.29123072298042563}]

{"sheet":"K-value","index":57,"n_rows":179,"n_cols":5,"rows_kept":179,"cut":false,"hidden":true,"merged":[]}
[]
[]
[null,"Component","Size",null,"K-value"]
[null,"Elbow 90 LR",0.5,{"$f":"B4&C4","v":"Elbow 90 LR0.5"},0.43]
[null,"Elbow 45 LR",0.5,"Elbow 45 LR0.5",0.43]
[null,"Tee thru",0.5,"Tee thru0.5",0.54]
[null,"Tee branch",0.5,"Tee branch0.5",1.62]
[null,"Ball valve",0.5,"Ball valve0.5",0.08]
[null,"Butterfly valve",0.5,"Butterfly valve0.5",0.86]
[null,"Gate valve",0.5,"Gate valve0.5",0.22]
[null,"Globe valve",0.5,"Globe valve0.5",9.1999999999999993]
[null,"Check valve",0.5,"Check valve0.5",2.7]
[null,"Plug valve",0.5,"Plug valve0.5",2.4300000000000002]
[null,"Pipe entrance",0.5,"Pipe entrance0.5",0.78]
[null,"Elbow 90 LR",0.75,"Elbow 90 LR0.75",0.81]
[null,"Elbow 45 LR",0.75,"Elbow 45 LR0.75",0.4]
[null,"Tee thru",0.75,"Tee thru0.75",0.5]
[null,"Tee branch",0.75,"Tee branch0.75",1.5]
[null,"Ball valve",0.75,"Ball valve0.75",0.08]
[null,"Butterfly valve",0.75,"Butterfly valve0.75",0.86]
[null,"Gate valve",0.75,"Gate valve0.75",0.2]
[null,"Globe valve",0.75,"Globe valve0.75",8.5]
[null,"Check valve",0.75,"Check valve0.75",2.5]
[null,"Plug valve",0.75,"Plug valve0.75",2.25]
[null,"Pipe entrance",0.75,"Pipe entrance0.75",0.78]
[null,"Elbow 90 LR",1,"Elbow 90 LR1",0.69]
[null,"Elbow 45 LR",1,"Elbow 45 LR1",0.37]
[null,"Tee thru",1,"Tee thru1",0.46]
[null,"Tee branch",1,"Tee branch1",1.38]
[null,"Ball valve",1,"Ball valve1",7.0000000000000007E-2]
[null,"Butterfly valve",1,"Butterfly valve1",0.86]
[null,"Gate valve",1,"Gate valve1",0.18]
[null,"Globe valve",1,"Globe valve1",7.8]
[null,"Check valve",1,"Check valve1",2.2999999999999998]
[null,"Plug valve",1,"Plug valve1",2.0699999999999998]
[null,"Pipe entrance",1,{"$f":"B36&C36","v":"Pipe entrance1"},0.78]
[null,"Elbow 90 LR",1.25,"Elbow 90 LR1.25",0.66]
[null,"Elbow 45 LR",1.25,"Elbow 45 LR1.25",0.35]
[null,"Tee thru",1.25,"Tee thru1.25",0.44]
[null,"Tee branch",1.25,"Tee branch1.25",1.32]
[null,"Ball valve",1.25,"Ball valve1.25",7.0000000000000007E-2]
[null,"Butterfly valve",1.25,"Butterfly valve1.25",0.86]
[null,"Gate valve",1.25,"Gate valve1.25",0.18]
[null,"Globe valve",1.25,"Globe valve1.25",7.5]
[null,"Check valve",1.25,"Check valve1.25",2.2000000000000002]
[null,"Plug valve",1.25,"Plug valve1.25",1.98]
[null,"Pipe entrance",1.25,"Pipe entrance1.25",0.78]
[null,"Elbow 90 LR",1.5,"Elbow 90 LR1.5",0.34]
[null,"Elbow 45 LR",1.5,"Elbow 45 LR1.5",0.34]
[null,"Tee thru",1.5,"Tee thru1.5",0.42]
[null,"Tee branch",1.5,"Tee branch1.5",1.26]
[null,"Ball valve",1.5,"Ball valve1.5",0.06]
[null,"Butterfly valve",1.5,"Butterfly valve1.5",0.86]
[null,"Gate valve",1.5,"Gate valve1.5",0.15]
[null,"Globe valve",1.5,"Globe valve1.5",7.1]
[null,"Check valve",1.5,"Check valve1.5",2.1]
[null,"Plug valve",1.5,"Plug valve1.5",1.89]
[null,"Pipe entrance",1.5,"Pipe entrance1.5",0.78]
[null,"Elbow 90 LR",2,"Elbow 90 LR2",0.3]
[null,"Elbow 45 LR",2,"Elbow 45 LR2",0.3]
[null,"Tee thru",2,"Tee thru2",0.38]
[null,"Tee branch",2,"Tee branch2",1.1399999999999999]
[null,"Ball valve",2,"Ball valve2",0.06]
[null,"Butterfly valve",2,"Butterfly valve2",0.86]
[null,"Gate valve",2,"Gate valve2",0.15]
[null,"Globe valve",2,"Globe valve2",6.5]
[null,"Check valve",2,"Check valve2",1.9]
[null,"Plug valve",2,{"$f":"B68&C68","v":"Plug valve2"},1.71]
[null,"Pipe entrance",2,"Pipe entrance2",0.78]
[null,"Elbow 90 LR",3,"Elbow 90 LR3",0.28999999999999998]
[null,"Elbow 45 LR",3,"Elbow 45 LR3",0.28999999999999998]
[null,"Tee thru",3,"Tee thru3",0.36]
[null,"Tee branch",3,"Tee branch3",1.08]
[null,"Ball valve",3,"Ball valve3",0.05]
[null,"Butterfly valve",3,"Butterfly valve3",0.81]
[null,"Gate valve",3,"Gate valve3",0.14000000000000001]
[null,"Globe valve",3,"Globe valve3",6.1]
[null,"Check valve",3,"Check valve3",1.8]
[null,"Plug valve",3,"Plug valve3",1.62]
[null,"Pipe entrance",3,"Pipe entrance3",0.78]
[null,"Elbow 90 LR",4,"Elbow 90 LR4",0.27]
[null,"Elbow 45 LR",4,"Elbow 45 LR4",0.27]
[null,"Tee thru",4,"Tee thru4",0.34]
[null,"Tee branch",4,"Tee branch4",1.02]
[null,"Ball valve",4,"Ball valve4",0.05]
[null,"Butterfly valve",4,"Butterfly valve4",0.77]
[null,"Gate valve",4,"Gate valve4",0.14000000000000001]
[null,"Globe valve",4,"Globe valve4",5.8]
[null,"Check valve",4,"Check valve4",1.7]
[null,"Plug valve",4,"Plug valve4",1.53]
[null,"Pipe entrance",4,"Pipe entrance4",0.78]
[null,"Elbow 90 LR",6,"Elbow 90 LR6",0.24]
[null,"Elbow 45 LR",6,"Elbow 45 LR6",0.24]
[null,"Tee thru",6,"Tee thru6",0.3]
[null,"Tee branch",6,"Tee branch6",0.9]
[null,"Ball valve",6,"Ball valve6",0.05]
[null,"Butterfly valve",6,"Butterfly valve6",0.68]
[null,"Gate valve",6,"Gate valve6",0.12]
[null,"Globe valve",6,"Globe valve6",5.0999999999999996]
[null,"Check valve",6,{"$f":"B100&C100","v":"Check valve6"},1.5]
[null,"Plug valve",6,"Plug valve6",1.35]
[null,"Pipe entrance",6,"Pipe entrance6",0.78]
[null,"Elbow 90 LR",8,"Elbow 90 LR8",0.22]
[null,"Elbow 45 LR",8,"Elbow 45 LR8",0.22]
[null,"Tee thru",8,"Tee thru8",0.28000000000000003]
[null,"Tee branch",8,"Tee branch8",0.84]
[null,"Ball valve",8,"Ball valve8",0.04]
[null,"Butterfly valve",8,"Butterfly valve8",0.63]
[null,"Gate valve",8,"Gate valve8",0.11]
[null,"Globe valve",8,"Globe valve8",4.8]
[null,"Check valve",8,"Check valve8",1.4]
[null,"Plug valve",8,"Plug valve8",1.26]
[null,"Pipe entrance",8,"Pipe entrance8",0.78]
[null,"Elbow 90 LR",10,"Elbow 90 LR10",0.22]
[null,"Elbow 45 LR",10,"Elbow 45 LR10",0.22]
[null,"Tee thru",10,"Tee thru10",0.28000000000000003]
[null,"Tee branch",10,"Tee branch10",0.84]
[null,"Ball valve",10,"Ball valve10",0.04]
[null,"Butterfly valve",10,"Butterfly valve10",0.63]
[null,"Gate valve",10,"Gate valve10",0.11]
[null,"Globe valve",10,"Globe valve10",4.8]
[null,"Check valve",10,"Check valve10",1.4]
[null,"Plug valve",10,"Plug valve10",1.26]
[null,"Pipe entrance",10,"Pipe entrance10",0.78]
[null,"Elbow 90 LR",12,"Elbow 90 LR12",0.21]
[null,"Elbow 45 LR",12,"Elbow 45 LR12",0.21]
[null,"Tee thru",12,"Tee thru12",0.26]
[null,"Tee branch",12,"Tee branch12",0.78]
[null,"Ball valve",12,"Ball valve12",0.04]
[null,"Butterfly valve",12,"Butterfly valve12",0.35]
[null,"Gate valve",12,"Gate valve12",0.1]
[null,"Globe valve",12,{"$f":"B132&C132","v":"Globe valve12"},4.4000000000000004]
[null,"Check valve",12,"Check valve12",1.3]
[null,"Plug valve",12,"Plug valve12",1.17]
[null,"Pipe entrance",12,"Pipe entrance12",0.78]
[null,"Elbow 90 LR",16,"Elbow 90 LR16",0.21]
[null,"Elbow 45 LR",16,"Elbow 45 LR16",0.21]
[null,"Tee thru",16,"Tee thru16",0.26]
[null,"Tee branch",16,"Tee branch16",0.78]
[null,"Ball valve",16,"Ball valve16",0.04]
[null,"Butterfly valve",16,"Butterfly valve16",0.35]
[null,"Gate valve",16,"Gate valve16",0.1]
[null,"Globe valve",16,"Globe valve16",4.4000000000000004]
[null,"Check valve",16,"Check valve16",1.3]
[null,"Plug valve",16,"Plug valve16",1.17]
[null,"Pipe entrance",16,"Pipe entrance16",0.78]
[null,"Elbow 90 LR",18,{"$f":"B147&C147","v":"Elbow 90 LR18"},0.19]
[null,"Elbow 45 LR",18,"Elbow 45 LR18",0.19]
[null,"Tee thru",18,"Tee thru18",0.26]
[null,"Tee branch",18,"Tee branch18",0.78]
[null,"Ball valve",18,"Ball valve18",0.04]
[null,"Butterfly valve",18,"Butterfly valve18",0.3]
[null,"Gate valve",18,"Gate valve18",0.1]
[null,"Globe valve",18,"Globe valve18",4.0999999999999996]
[null,"Check valve",18,"Check valve18",1.2]
[null,"Plug valve",18,"Plug valve18",1.08]
[null,"Pipe entrance",18,"Pipe entrance18",0.78]
[null,"Elbow 90 LR",20,"Elbow 90 LR20",0.19]
[null,"Elbow 45 LR",20,"Elbow 45 LR20",0.19]
[null,"Tee thru",20,"Tee thru20",0.26]
[null,"Tee branch",20,"Tee branch20",0.78]
[null,"Ball valve",20,"Ball valve20",0.04]
[null,"Butterfly valve",20,"Butterfly valve20",0.3]
[null,"Gate valve",20,"Gate valve20",0.1]
[null,"Globe valve",20,"Globe valve20",4.0999999999999996]
[null,"Check valve",20,"Check valve20",1.2]
[null,"Plug valve",20,"Plug valve20",1.08]
[null,"Pipe entrance",20,"Pipe entrance20",0.78]
[null,"Elbow 90 LR",24,"Elbow 90 LR24",0.19]
[null,"Elbow 45 LR",24,"Elbow 45 LR24",0.19]
[null,"Tee thru",24,"Tee thru24",0.26]
[null,"Tee branch",24,"Tee branch24",0.78]
[null,"Ball valve",24,"Ball valve24",0.04]
[null,"Butterfly valve",24,"Butterfly valve24",0.3]
[null,"Gate valve",24,"Gate valve24",0.1]
[null,"Globe valve",24,"Globe valve24",4.0999999999999996]
[null,"Check valve",24,"Check valve24",1.2]
[null,"Plug valve",24,"Plug valve24",1.08]
[null,"Pipe entrance",24,"Pipe entrance24",0.78]

{"sheet":"Sheet2","index":58,"n_rows":45,"n_cols":2,"rows_kept":45,"cut":false,"hidden":true,"merged":[]}
[]
[null,{"$f":"1/8","v":0.125}]
[null,{"$f":"1/4","v":0.25}]
[null,{"$f":"3/8","v":0.375}]
[null,{"$f":"1/2","v":0.5}]
[null,{"$f":"3/4","v":0.75}]
[null,1]
[null,{"$f":"1.25","v":1.25}]
[null,1.5]
[null,2]
[null,2.5]
[null,3]
[null,3.5]
[null,4]
[null,5]
[null,6]
[null,8]
[null,10]
[null,12]
[null,14]
[null,16]
[null,18]
[null,20]
[null,22]
[null,24]
[null,26]
[null,28]
[null,30]
[null,32]
[null,34]
[null,36]
[null,38]
[null,40]
[null,42]
[null,44]
[null,46]
[null,48]
[null,52]
[null,56]
[null,60]
[null,64]
[null,68]
[null,72]
[null,76]
[null,80]

{"sheet":"Sheet2 (2)","index":59,"n_rows":651,"n_cols":7,"rows_kept":651,"cut":false,"hidden":true,"merged":[]}
[]
[]
[null,"NPS","Schedule",null,"OD","Thickness","ID"]
[null,0.125,5,{"$f":"B4&\"-\"&C4","v":"0.125-5"},"-","-","-"]
[null,0.125,10,{"$f":"B5&\"-\"&C5","v":"0.125-10"},0.40500000000000003,4.9000000000000002E-2,0.307]
[null,0.125,20,"0.125-20","-","-","-"]
[null,0.125,30,"0.125-30","-","-","-"]
[null,0.125,40,"0.125-40",0.40500000000000003,6.8000000000000005E-2,0.26900000000000002]
[null,0.125,60,"0.125-60","-","-","-"]
[null,0.125,80,"0.125-80",0.40500000000000003,9.5000000000000001E-2,0.215]
[null,0.125,100,"0.125-100","-","-","-"]
[null,0.125,120,"0.125-120","-","-","-"]
[null,0.125,140,"0.125-140","-","-","-"]
[null,0.125,160,"0.125-160","-","-","-"]
[null,0.125,"10S ","0.125-10S ",0.40500000000000003,4.9000000000000002E-2,0.307]
[null,0.125,"40S","0.125-40S",0.40500000000000003,6.8000000000000005E-2,0.26900000000000002]
[null,0.125,"5S ","0.125-5S ","-","-","-"]
[null,0.125,"80S","0.125-80S",0.40500000000000003,9.5000000000000001E-2,0.215]
[null,0.125,"Std","0.125-Std",0.40500000000000003,6.8000000000000005E-2,0.26900000000000002]
[null,0.125,"XS","0.125-XS",0.40500000000000003,9.5000000000000001E-2,0.215]
[null,0.125,"XX ","0.125-XX ","-","-","-"]
[null,0.25,5,"0.25-5","-","-","-"]
[null,0.25,10,"0.25-10",0.54,6.5000000000000002E-2,0.41]
[null,0.25,20,"0.25-20","-","-","-"]
[null,0.25,30,"0.25-30","-","-","-"]
[null,0.25,40,"0.25-40",0.54,8.7999999999999995E-2,0.36399999999999999]
[null,0.25,60,"0.25-60","-","-","-"]
[null,0.25,80,"0.25-80",0.54,0.11899999999999999,0.30199999999999999]
[null,0.25,100,"0.25-100","-","-","-"]
[null,0.25,120,"0.25-120","-","-","-"]
[null,0.25,140,"0.25-140","-","-","-"]
[null,0.25,160,"0.25-160","-","-","-"]
[null,0.25,"10S ","0.25-10S ",0.54,6.5000000000000002E-2,0.41]
[null,0.25,"40S","0.25-40S",0.54,8.7999999999999995E-2,0.36399999999999999]
[null,0.25,"5S ","0.25-5S ","-","-","-"]
[null,0.25,"80S","0.25-80S",0.54,0.11899999999999999,0.30199999999999999]
[null,0.25,"Std","0.25-Std",0.54,8.7999999999999995E-2,0.36399999999999999]
[null,0.25,"XS","0.25-XS",0.54,0.11899999999999999,0.30199999999999999]
[null,0.25,"XX ","0.25-XX ","-","-","-"]
[null,0.375,5,"0.375-5",0.84,6.5000000000000002E-2,0.71]
[null,0.375,10,"0.375-10",0.67500000000000004,6.5000000000000002E-2,0.54500000000000004]
[null,0.375,20,"0.375-20","-","-","-"]
[null,0.375,30,"0.375-30","-","-","-"]
[null,0.375,40,"0.375-40",0.67500000000000004,9.0999999999999998E-2,0.49299999999999999]
[null,0.375,60,"0.375-60","-","-","-"]
[null,0.375,80,"0.375-80",0.67500000000000004,0.126,0.42299999999999999]
[null,0.375,100,"0.375-100","-","-","-"]
[null,0.375,120,"0.375-120","-","-","-"]
[null,0.375,140,"0.375-140","-","-","-"]
[null,0.375,160,"0.375-160","-","-","-"]
[null,0.375,"10S ","0.375-10S ",0.67500000000000004,6.5000000000000002E-2,0.54500000000000004]
[null,0.375,"40S","0.375-40S",0.67500000000000004,9.0999999999999998E-2,0.49299999999999999]
[null,0.375,"5S ","0.375-5S ",0.84,6.5000000000000002E-2,0.71]
[null,0.375,"80S","0.375-80S",0.67500000000000004,0.126,0.42299999999999999]
[null,0.375,"Std","0.375-Std",0.67500000000000004,9.0999999999999998E-2,0.49299999999999999]
[null,0.375,"XS","0.375-XS",0.67500000000000004,0.126,0.42299999999999999]
[null,0.375,"XX ","0.375-XX ","-","-","-"]
[null,0.5,5,"0.5-5",0.84,6.5000000000000002E-2,0.71]
[null,0.5,10,"0.5-10",0.84,8.3000000000000004E-2,0.67400000000000004]
[null,0.5,20,"0.5-20","-","-","-"]
[null,0.5,30,"0.5-30","-","-","-"]
[null,0.5,40,"0.5-40",0.84,0.11899999999999999,0.622]
[null,0.5,60,"0.5-60","-","-","-"]
[null,0.5,80,"0.5-80",0.84,0.14699999999999999,0.54600000000000004]
[null,0.5,100,"0.5-100","-","-","-"]
[null,0.5,120,"0.5-120","-","-","-"]
[null,0.5,140,"0.5-140","-","-","-"]
[null,0.5,160,"0.5-160",0.84,0.188,0.46600000000000003]
[null,0.5,"10S ",{"$f":"B69&\"-\"&C69","v":"0.5-10S "},0.84,8.3000000000000004E-2,0.67400000000000004]
[null,0.5,"40S","0.5-40S",0.84,0.11899999999999999,0.622]
[null,0.5,"5S ","0.5-5S ",0.84,6.5000000000000002E-2,0.71]
[null,0.5,"80S","0.5-80S",0.84,0.14699999999999999,0.54600000000000004]
[null,0.5,"Std","0.5-Std",0.84,0.11899999999999999,0.622]
[null,0.5,"XS","0.5-XS",0.84,0.14699999999999999,0.54600000000000004]
[null,0.5,"XX ","0.5-XX ",0.84,0.29399999999999998,0.252]
[null,0.75,5,"0.75-5",1.05,6.5000000000000002E-2,0.92]
[null,0.75,10,"0.75-10",1.05,8.3000000000000004E-2,0.88400000000000001]
[null,0.75,20,"0.75-20","-","-","-"]
[null,0.75,30,"0.75-30","-","-","-"]
[null,0.75,40,"0.75-40",1.05,0.113,0.82399999999999995]
[null,0.75,60,"0.75-60","-","-","-"]
[null,0.75,80,"0.75-80",1.05,0.154,0.74199999999999999]
[null,0.75,100,"0.75-100","-","-","-"]
[null,0.75,120,"0.75-120","-","-","-"]
[null,0.75,140,"0.75-140","-","-","-"]
[null,0.75,160,"0.75-160",1.05,0.219,0.61799999999999999]
[null,0.75,"10S ","0.75-10S ",1.05,8.3000000000000004E-2,0.88400000000000001]
[null,0.75,"40S","0.75-40S",1.05,0.113,0.82399999999999995]
[null,0.75,"5S ","0.75-5S ",1.05,6.5000000000000002E-2,0.92]
[null,0.75,"80S","0.75-80S",1.05,0.154,0.74199999999999999]
[null,0.75,"Std","0.75-Std",1.05,0.113,0.82399999999999995]
[null,0.75,"XS","0.75-XS",1.05,0.154,0.74199999999999999]
[null,0.75,"XX ","0.75-XX ",1.05,0.308,0.434]
[null,1,5,"1-5",1.3149999999999999,6.5000000000000002E-2,1.1850000000000001]
[null,1,10,"1-10",1.3149999999999999,0.109,1.097]
[null,1,20,"1-20","-","-","-"]
[null,1,30,"1-30","-","-","-"]
[null,1,40,"1-40",1.3149999999999999,0.13300000000000001,1.0489999999999999]
[null,1,60,"1-60","-","-","-"]
[null,1,80,"1-80",1.3149999999999999,0.17899999999999999,0.95699999999999996]
[null,1,100,"1-100","-","-","-"]
[null,1,120,"1-120","-","-","-"]
[null,1,140,"1-140","-","-","-"]
[null,1,160,"1-160",1.3149999999999999,0.25,0.81499999999999995]
[null,1,"10S ","1-10S ",1.3149999999999999,0.109,1.097]
[null,1,"40S","1-40S",1.3149999999999999,0.13300000000000001,1.0489999999999999]
[null,1,"5S ","1-5S ",1.3149999999999999,6.5000000000000002E-2,1.1850000000000001]
[null,1,"80S","1-80S",1.3149999999999999,0.17899999999999999,0.95699999999999996]
[null,1,"Std","1-Std",1.3149999999999999,0.13300000000000001,1.0489999999999999]
[null,1,"XS","1-XS",1.3149999999999999,0.17899999999999999,0.95699999999999996]
[null,1,"XX ","1-XX ",1.3149999999999999,0.35799999999999998,0.59899999999999998]
[null,1.25,5,"1.25-5",1.66,6.5000000000000002E-2,1.53]
[null,1.25,10,"1.25-10",1.66,0.109,1.4419999999999999]
[null,1.25,20,"1.25-20","-","-","-"]
[null,1.25,30,"1.25-30","-","-","-"]
[null,1.25,40,"1.25-40",1.66,0.14000000000000001,1.38]
[null,1.25,60,"1.25-60","-","-","-"]
[null,1.25,80,"1.25-80",1.66,0.191,1.278]
[null,1.25,100,"1.25-100","-","-","-"]
[null,1.25,120,"1.25-120","-","-","-"]
[null,1.25,140,"1.25-140","-","-","-"]
[null,1.25,160,"1.25-160",1.66,0.25,1.1599999999999999]
[null,1.25,"10S ","1.25-10S ",1.66,0.109,1.4419999999999999]
[null,1.25,"40S","1.25-40S",1.66,0.14000000000000001,1.38]
[null,1.25,"5S ","1.25-5S ",1.66,6.5000000000000002E-2,1.53]
[null,1.25,"80S","1.25-80S",1.66,0.191,1.278]
[null,1.25,"Std","1.25-Std",1.66,0.14000000000000001,1.38]
[null,1.25,"XS","1.25-XS",1.66,0.191,1.278]
[null,1.25,"XX ","1.25-XX ",1.66,0.38200000000000001,0.89600000000000002]
[null,1.5,5,"1.5-5","-","-","-"]
[null,1.5,10,"1.5-10","-","-","-"]
[null,1.5,20,"1.5-20","-","-","-"]
[null,1.5,30,{"$f":"B133&\"-\"&C133","v":"1.5-30"},"-","-","-"]
[null,1.5,40,"1.5-40","-","-","-"]
[null,1.5,60,"1.5-60","-","-","-"]
[null,1.5,80,"1.5-80","-","-","-"]
[null,1.5,100,"1.5-100","-","-","-"]
[null,1.5,120,"1.5-120","-","-","-"]
[null,1.5,140,"1.5-140","-","-","-"]
[null,1.5,160,"1.5-160","-","-","-"]
[null,1.5,"10S ","1.5-10S ","-","-","-"]
[null,1.5,"40S","1.5-40S","-","-","-"]
[null,1.5,"5S ","1.5-5S ","-","-","-"]
[null,1.5,"80S","1.5-80S","-","-","-"]
[null,1.5,"Std","1.5-Std","-","-","-"]
[null,1.5,"XS","1.5-XS","-","-","-"]
[null,1.5,"XX ","1.5-XX ","-","-","-"]
[null,2,5,"2-5",2.375,6.5000000000000002E-2,2.2450000000000001]
[null,2,10,"2-10",2.375,0.109,2.157]
[null,2,20,"2-20","-","-","-"]
[null,2,30,"2-30","-","-","-"]
[null,2,40,"2-40",2.375,0.154,2.0670000000000002]
[null,2,60,"2-60","-","-","-"]
[null,2,80,"2-80",2.375,0.218,1.9390000000000001]
[null,2,100,"2-100","-","-","-"]
[null,2,120,"2-120","-","-","-"]
[null,2,140,"2-140","-","-","-"]
[null,2,160,"2-160",2.375,0.34399999999999997,1.6890000000000001]
[null,2,"10S ","2-10S ",2.375,0.109,2.157]
[null,2,"40S","2-40S",2.375,0.154,2.0670000000000002]
[null,2,"5S ","2-5S ",2.375,6.5000000000000002E-2,2.2450000000000001]
[null,2,"80S","2-80S",2.375,0.218,1.9390000000000001]
[null,2,"Std","2-Std",2.375,0.154,2.0670000000000002]
[null,2,"XS","2-XS",2.375,0.218,1.9390000000000001]
[null,2,"XX ","2-XX ",2.375,0.436,1.5029999999999999]
[null,2.5,5,"2.5-5",2.875,8.3000000000000004E-2,2.7090000000000001]
[null,2.5,10,"2.5-10",2.875,0.12,2.6349999999999998]
[null,2.5,20,"2.5-20","-","-","-"]
[null,2.5,30,"2.5-30","-","-","-"]
[null,2.5,40,"2.5-40",2.875,0.20300000000000001,2.4689999999999999]
[null,2.5,60,"2.5-60","-","-","-"]
[null,2.5,80,"2.5-80",2.875,0.27600000000000002,2.323]
[null,2.5,100,"2.5-100","-","-","-"]
[null,2.5,120,"2.5-120","-","-","-"]
[null,2.5,140,"2.5-140","-","-","-"]
[null,2.5,160,"2.5-160",2.875,0.375,2.125]
[null,2.5,"10S ","2.5-10S ",2.875,0.12,2.6349999999999998]
[null,2.5,"40S","2.5-40S",2.875,0.20300000000000001,2.4689999999999999]
[null,2.5,"5S ","2.5-5S ",2.875,8.3000000000000004E-2,2.7090000000000001]
[null,2.5,"80S","2.5-80S",2.875,0.27600000000000002,2.323]
[null,2.5,"Std","2.5-Std",2.875,0.20300000000000001,2.4689999999999999]
[null,2.5,"XS","2.5-XS",2.875,0.27600000000000002,2.323]
[null,2.5,"XX ","2.5-XX ",2.875,0.55200000000000005,1.7709999999999999]
[null,3,5,"3-5",3.5,8.3000000000000004E-2,3.3340000000000001]
[null,3,10,"3-10",3.5,0.12,3.26]
[null,3,20,"3-20","-","-","-"]
[null,3,30,"3-30","-","-","-"]
[null,3,40,"3-40",3.5,0.216,3.0680000000000001]
[null,3,60,"3-60","-","-","-"]
[null,3,80,"3-80",3.5,0.3,2.9]
[null,3,100,"3-100","-","-","-"]
[null,3,120,"3-120","-","-","-"]
[null,3,140,"3-140","-","-","-"]
[null,3,160,"3-160",3.5,0.438,2.6240000000000001]
[null,3,"10S ","3-10S ",3.5,0.12,3.26]
[null,3,"40S","3-40S",3.5,0.216,3.0680000000000001]
[null,3,"5S ",{"$f":"B197&\"-\"&C197","v":"3-5S "},3.5,8.3000000000000004E-2,3.3340000000000001]
[null,3,"80S","3-80S",3.5,0.3,2.9]
[null,3,"Std","3-Std",3.5,0.216,3.0680000000000001]
[null,3,"XS","3-XS",3.5,0.3,2.9]
[null,3,"XX ","3-XX ",3.5,0.6,2.2999999999999998]
[null,3.5,5,"3.5-5",4,8.3000000000000004E-2,3.8340000000000001]
[null,3.5,10,"3.5-10",4,0.12,3.76]
[null,3.5,20,"3.5-20","-","-","-"]
[null,3.5,30,"3.5-30","-","-","-"]
[null,3.5,40,"3.5-40",4,0.22600000000000001,3.548]
[null,3.5,60,"3.5-60","-","-","-"]
[null,3.5,80,"3.5-80",4,0.318,3.3639999999999999]
[null,3.5,100,"3.5-100","-","-","-"]
[null,3.5,120,"3.5-120","-","-","-"]
[null,3.5,140,"3.5-140","-","-","-"]
[null,3.5,160,"3.5-160","-","-","-"]
[null,3.5,"10S ","3.5-10S ",4,0.12,3.76]
[null,3.5,"40S","3.5-40S",4,0.22600000000000001,3.548]
[null,3.5,"5S ","3.5-5S ",4,8.3000000000000004E-2,3.8340000000000001]
[null,3.5,"80S","3.5-80S",4,0.318,3.3639999999999999]
[null,3.5,"Std","3.5-Std",4,0.22600000000000001,3.548]
[null,3.5,"XS","3.5-XS",4,0.318,3.3639999999999999]
[null,3.5,"XX ","3.5-XX ",4,0.63600000000000001,2.7280000000000002]
[null,4,5,"4-5",4.5,8.3000000000000004E-2,4.3339999999999996]
[null,4,10,"4-10",4.5,0.12,4.26]
[null,4,20,"4-20","-","-","-"]
[null,4,30,"4-30","-","-","-"]
[null,4,40,"4-40",4.5,0.23699999999999999,4.0259999999999998]
[null,4,60,"4-60","-","-","-"]
[null,4,80,"4-80",4.5,0.33700000000000002,3.8260000000000001]
[null,4,100,"4-100","-","-","-"]
[null,4,120,"4-120",4.5,0.438,3.6240000000000001]
[null,4,140,"4-140","-","-","-"]
[null,4,160,"4-160",4.5,0.53100000000000003,3.4380000000000002]
[null,4,"10S ","4-10S ",4.5,0.12,4.26]
[null,4,"40S","4-40S",4.5,0.23699999999999999,4.0259999999999998]
[null,4,"5S ","4-5S ",4.5,8.3000000000000004E-2,4.3339999999999996]
[null,4,"80S","4-80S",4.5,0.33700000000000002,3.8260000000000001]
[null,4,"Std","4-Std",4.5,0.23699999999999999,4.0259999999999998]
[null,4,"XS","4-XS",4.5,0.33700000000000002,3.8260000000000001]
[null,4,"XX ","4-XX ",4.5,0.67400000000000004,3.1520000000000001]
[null,4.5,5,"4.5-5","-","-","-"]
[null,4.5,10,"4.5-10","-","-","-"]
[null,4.5,20,"4.5-20","-","-","-"]
[null,4.5,30,"4.5-30","-","-","-"]
[null,4.5,40,"4.5-40",5,0.247,4.5060000000000002]
[null,4.5,60,"4.5-60","-","-","-"]
[null,4.5,80,"4.5-80",5,0.35499999999999998,4.29]
[null,4.5,100,"4.5-100","-","-","-"]
[null,4.5,120,"4.5-120","-","-","-"]
[null,4.5,140,"4.5-140","-","-","-"]
[null,4.5,160,"4.5-160","-","-","-"]
[null,4.5,"10S ","4.5-10S ","-","-","-"]
[null,4.5,"40S","4.5-40S",5,0.247,4.5060000000000002]
[null,4.5,"5S ","4.5-5S ","-","-","-"]
[null,4.5,"80S","4.5-80S",5,0.35499999999999998,4.29]
[null,4.5,"Std","4.5-Std",5,0.247,4.5060000000000002]
[null,4.5,"XS","4.5-XS",5,0.35499999999999998,4.29]
[null,4.5,"XX ","4.5-XX ",5,0.71,3.58]
[null,5,5,"5-5",5.5629999999999997,0.109,5.3449999999999998]
[null,5,10,"5-10",5.5629999999999997,0.13400000000000001,5.2949999999999999]
[null,5,20,"5-20","-","-","-"]
[null,5,30,"5-30","-","-","-"]
[null,5,40,"5-40",5.5629999999999997,0.25800000000000001,5.0469999999999997]
[null,5,60,{"$f":"B261&\"-\"&C261","v":"5-60"},"-","-","-"]
[null,5,80,"5-80",5.5629999999999997,0.375,4.8129999999999997]
[null,5,100,"5-100","-","-","-"]
[null,5,120,"5-120",5.5629999999999997,0.5,4.5629999999999997]
[null,5,140,"5-140","-","-","-"]
[null,5,160,"5-160",5.5629999999999997,0.625,4.3129999999999997]
[null,5,"10S ","5-10S ",5.5629999999999997,0.13400000000000001,5.2949999999999999]
[null,5,"40S","5-40S",5.5629999999999997,0.25800000000000001,5.0469999999999997]
[null,5,"5S ","5-5S ",5.5629999999999997,0.109,5.3449999999999998]
[null,5,"80S","5-80S",5.5629999999999997,0.375,4.8129999999999997]
[null,5,"Std","5-Std",5.5629999999999997,0.25800000000000001,5.0469999999999997]
[null,5,"XS","5-XS",5.5629999999999997,0.375,4.8129999999999997]
[null,5,"XX ","5-XX ",5.5629999999999997,0.75,4.0629999999999997]
[null,6,5,"6-5",6.625,0.109,6.407]
[null,6,10,"6-10",6.625,0.13400000000000001,6.3570000000000002]
[null,6,20,"6-20","-","-","-"]
[null,6,30,"6-30","-","-","-"]
[null,6,40,"6-40",6.625,0.28000000000000003,6.0650000000000004]
[null,6,60,"6-60","-","-","-"]
[null,6,80,"6-80",6.625,0.432,5.7610000000000001]
[null,6,100,"6-100","-","-","-"]
[null,6,120,"6-120",6.625,0.56200000000000006,5.4909999999999997]
[null,6,140,"6-140","-","-","-"]
[null,6,160,"6-160",6.625,0.71899999999999997,5.1890000000000001]
[null,6,"10S ","6-10S ",6.625,0.13400000000000001,6.3570000000000002]
[null,6,"40S","6-40S",6.625,0.28000000000000003,6.0650000000000004]
[null,6,"5S ","6-5S ",6.625,0.109,6.407]
[null,6,"80S","6-80S",6.625,0.432,5.7610000000000001]
[null,6,"Std","6-Std",6.625,0.28000000000000003,6.0650000000000004]
[null,6,"XS","6-XS",6.625,0.432,5.7610000000000001]
[null,6,"XX ","6-XX ",6.625,0.86399999999999999,4.8970000000000002]
[null,7,5,"7-5","-","-","-"]
[null,7,10,"7-10","-","-","-"]
[null,7,20,"7-20","-","-","-"]
[null,7,30,"7-30","-","-","-"]
[null,7,40,"7-40",7.625,0.30099999999999999,7.0229999999999997]
[null,7,60,"7-60","-","-","-"]
[null,7,80,"7-80",7.625,0.5,6.625]
[null,7,100,"7-100","-","-","-"]
[null,7,120,"7-120","-","-","-"]
[null,7,140,"7-140","-","-","-"]
[null,7,160,"7-160","-","-","-"]
[null,7,"10S ","7-10S ","-","-","-"]
[null,7,"40S","7-40S",7.625,0.30099999999999999,7.0229999999999997]
[null,7,"5S ","7-5S ","-","-","-"]
[null,7,"80S","7-80S",7.625,0.5,6.625]
[null,7,"Std","7-Std",7.625,0.30099999999999999,7.0229999999999997]
[null,7,"XS","7-XS",7.625,0.5,6.625]
[null,7,"XX ","7-XX ",7.625,0.875,5.875]
[null,8,5,"8-5","-","-","-"]
[null,8,10,"8-10",8.625,0.14799999999999999,8.3290000000000006]
[null,8,20,"8-20",8.625,0.25,8.125]
[null,8,30,"8-30",8.625,0.27700000000000002,8.0709999999999997]
[null,8,40,"8-40",8.625,0.32200000000000001,7.9809999999999999]
[null,8,60,"8-60",8.625,0.40600000000000003,7.8129999999999997]
[null,8,80,"8-80",8.625,0.5,7.625]
[null,8,100,"8-100",8.625,0.59399999999999997,7.4390000000000001]
[null,8,120,"8-120",8.625,0.71899999999999997,7.1890000000000001]
[null,8,140,"8-140",8.625,0.81200000000000006,7.0010000000000003]
[null,8,160,"8-160",8.625,0.90600000000000003,6.8129999999999997]
[null,8,"10S ","8-10S ",8.625,0.14799999999999999,8.3290000000000006]
[null,8,"40S","8-40S",8.625,0.32200000000000001,7.9809999999999999]
[null,8,"5S ","8-5S ",8.625,0.109,8.407]
[null,8,"80S","8-80S",8.625,0.5,7.625]
[null,8,"Std",{"$f":"B325&\"-\"&C325","v":"8-Std"},8.625,0.32200000000000001,7.9809999999999999]
[null,8,"XS","8-XS",8.625,0.5,7.625]
[null,8,"XX ","8-XX ",8.625,0.875,6.875]
[null,9,5,"9-5","-","-","-"]
[null,9,10,"9-10","-","-","-"]
[null,9,20,"9-20","-","-","-"]
[null,9,30,"9-30","-","-","-"]
[null,9,40,"9-40",9.625,0.34200000000000003,8.9410000000000007]
[null,9,60,"9-60","-","-","-"]
[null,9,80,"9-80",9.625,0.5,8.625]
[null,9,100,"9-100","-","-","-"]
[null,9,120,"9-120","-","-","-"]
[null,9,140,"9-140","-","-","-"]
[null,9,160,"9-160","-","-","-"]
[null,9,"10S ","9-10S ","-","-","-"]
[null,9,"40S","9-40S",9.625,0.34200000000000003,8.9410000000000007]
[null,9,"5S ","9-5S ","-","-","-"]
[null,9,"80S","9-80S",9.625,0.5,8.625]
[null,9,"Std","9-Std",9.625,0.34200000000000003,8.9410000000000007]
[null,9,"XS","9-XS",9.625,0.5,8.625]
[null,9,"XX ","9-XX ",9.625,0.875,7.875]
[null,10,5,"10-5","-","-","-"]
[null,10,10,"10-10","-","-","-"]
[null,10,20,"10-20",10.75,0.25,10.25]
[null,10,30,"10-30",10.75,0.307,10.135999999999999]
[null,10,40,"10-40",10.75,0.36499999999999999,10.02]
[null,10,60,"10-60",10.75,0.5,9.75]
[null,10,80,"10-80",10.75,0.59399999999999997,9.5640000000000001]
[null,10,100,"10-100",10.75,0.71899999999999997,9.3140000000000001]
[null,10,120,"10-120",10.75,0.84399999999999997,9.0640000000000001]
[null,10,140,"10-140",10.75,1,8.75]
[null,10,160,"10-160",10.75,1.125,8.5]
[null,10,"10S ","10-10S ",10.75,0.16500000000000001,10.42]
[null,10,"40S","10-40S",10.75,0.36499999999999999,10.02]
[null,10,"5S ","10-5S ",10.75,0.13400000000000001,10.481999999999999]
[null,10,"80S","10-80S",10.75,0.5,9.75]
[null,10,"Std","10-Std",10.75,0.36499999999999999,10.02]
[null,10,"XS","10-XS","-","-","-"]
[null,10,"XX ","10-XX ",10.75,0.5,9.75]
[null,11,5,"11-5","-","-","-"]
[null,11,10,"11-10","-","-","-"]
[null,11,20,"11-20","-","-","-"]
[null,11,30,"11-30","-","-","-"]
[null,11,40,"11-40",11.75,0.375,11]
[null,11,60,"11-60","-","-","-"]
[null,11,80,"11-80",11.75,0.5,10.75]
[null,11,100,"11-100","-","-","-"]
[null,11,120,"11-120","-","-","-"]
[null,11,140,"11-140","-","-","-"]
[null,11,160,"11-160","-","-","-"]
[null,11,"10S ","11-10S ","-","-","-"]
[null,11,"40S","11-40S",11.75,0.375,11]
[null,11,"5S ","11-5S ","-","-","-"]
[null,11,"80S","11-80S",11.75,0.5,10.75]
[null,11,"Std","11-Std",11.75,0.375,11]
[null,11,"XS","11-XS",11.75,0.5,10.75]
[null,11,"XX ","11-XX ",11.75,0.875,10]
[null,12,5,"12-5","-","-","-"]
[null,12,10,"12-10","-","-","-"]
[null,12,20,"12-20",12.75,0.25,12.25]
[null,12,30,"12-30",12.75,0.33,12.09]
[null,12,40,"12-40",12.75,0.40600000000000003,11.938000000000001]
[null,12,60,"12-60",12.75,0.56200000000000006,11.625999999999999]
[null,12,80,"12-80",12.75,0.68799999999999994,11.375999999999999]
[null,12,100,{"$f":"B389&\"-\"&C389","v":"12-100"},12.75,0.84399999999999997,11.064]
[null,12,120,"12-120",12.75,1,10.75]
[null,12,140,"12-140",12.75,1.125,10.5]
[null,12,160,"12-160",12.75,1.3120000000000001,10.125999999999999]
[null,12,"10S ","12-10S ",12.75,0.18,12.39]
[null,12,"40S","12-40S",12.75,0.375,12]
[null,12,"5S ","12-5S ",12.75,0.16500000000000001,12.42]
[null,12,"80S","12-80S",12.75,0.5,11.75]
[null,12,"Std","12-Std",12.75,0.375,12]
[null,12,"XS","12-XS",12.75,0.5,11.75]
[null,12,"XX ","12-XX ","-","-","-"]
[null,14,5,"14-5","-","-","-"]
[null,14,10,"14-10",14,0.25,13.5]
[null,14,20,"14-20",14,0.312,13.375999999999999]
[null,14,30,"14-30",14,0.375,13.25]
[null,14,40,"14-40",14,0.438,13.124000000000001]
[null,14,60,"14-60",14,0.59399999999999997,12.814]
[null,14,80,"14-80",14,0.75,12.15]
[null,14,100,"14-100",14,0.93799999999999994,12.125999999999999]
[null,14,120,"14-120",14,1.0940000000000001,11.814]
[null,14,140,"14-140",14,1.25,11.5]
[null,14,160,"14-160",14,1.4059999999999999,11.188000000000001]
[null,14,"10S ","14-10S ",14,0.188,13.624000000000001]
[null,14,"40S","14-40S",14,0.375,13.25]
[null,14,"5S ","14-5S ","-","-","-"]
[null,14,"80S","14-80S",14,0.5,13]
[null,14,"Std","14-Std",14,0.375,13.25]
[null,14,"XS","14-XS",14,0.5,13]
[null,14,"XX ","14-XX ","-","-","-"]
[null,16,5,"16-5","-","-","-"]
[null,16,10,"16-10",16,0.25,15.5]
[null,16,20,"16-20",16,0.312,15.375999999999999]
[null,16,30,"16-30",16,0.375,15.25]
[null,16,40,"16-40",16,0.5,15]
[null,16,60,"16-60",16,0.65600000000000003,14.688000000000001]
[null,16,80,"16-80",16,0.84399999999999997,14.314]
[null,16,100,"16-100",16,1.0309999999999999,13.938000000000001]
[null,16,120,"16-120",16,1.2190000000000001,13.564]
[null,16,140,"16-140",16,1.4379999999999999,13.124000000000001]
[null,16,160,"16-160",16,1.5940000000000001,12.814]
[null,16,"10S ","16-10S ",16,0.188,15.624000000000001]
[null,16,"40S","16-40S",16,0.375,15.25]
[null,16,"5S ","16-5S ","-","-","-"]
[null,16,"80S","16-80S",16,0.5,15]
[null,16,"Std","16-Std",16,0.375,15.25]
[null,16,"XS","16-XS",16,0.5,15]
[null,16,"XX ","16-XX ","-","-","-"]
[null,18,5,"18-5","-","-","-"]
[null,18,10,"18-10",18,0.25,17.5]
[null,18,20,"18-20",18,0.312,17.376000000000001]
[null,18,30,"18-30",18,0.438,17.123999999999999]
[null,18,40,"18-40",18,0.56200000000000006,16.876000000000001]
[null,18,60,"18-60",18,0.75,16.5]
[null,18,80,"18-80",18,0.93799999999999994,16.126000000000001]
[null,18,100,"18-100",18,1.1559999999999999,15.688000000000001]
[null,18,120,"18-120",18,1.375,15.25]
[null,18,140,"18-140",18,1.5620000000000001,14.875999999999999]
[null,18,160,"18-160",18,1.7809999999999999,14.438000000000001]
[null,18,"10S ","18-10S ",18,0.188,17.623999999999999]
[null,18,"40S","18-40S",18,0.375,17.25]
[null,18,"5S ","18-5S ","-","-","-"]
[null,18,"80S","18-80S",18,0.5,17]
[null,18,"Std","18-Std",18,0.375,17.25]
[null,18,"XS","18-XS",18,0.5,17]
[null,18,"XX ",{"$f":"B453&\"-\"&C453","v":"18-XX "},"-","-","-"]
[null,20,5,"20-5","-","-","-"]
[null,20,10,"20-10",20,0.25,19.5]
[null,20,20,"20-20",20,0.375,19.25]
[null,20,30,"20-30",20,0.5,19]
[null,20,40,"20-40",20,5.94,18.814]
[null,20,60,"20-60",20,8.1199999999999992,18.376000000000001]
[null,20,80,"20-80",20,1.0309999999999999,17.937999999999999]
[null,20,100,"20-100",20,1.2809999999999999,17.437999999999999]
[null,20,120,"20-120",20,1.5,17]
[null,20,140,"20-140",20,1.75,16.5]
[null,20,160,"20-160",20,1.9690000000000001,16.064]
[null,20,"10S ","20-10S ","-","-","-"]
[null,20,"40S","20-40S","-","-","-"]
[null,20,"5S ","20-5S ","-","-","-"]
[null,20,"80S","20-80S","-","-","-"]
[null,20,"Std","20-Std","-","-","-"]
[null,20,"XS","20-XS","-","-","-"]
[null,20,"XX ","20-XX ","-","-","-"]
[null,22,5,"22-5","-","-","-"]
[null,22,10,"22-10",22,0.25,21.5]
[null,22,20,"22-20",22,0.375,21.25]
[null,22,30,"22-30",22,0.5,21]
[null,22,40,"22-40","-","-","-"]
[null,22,60,"22-60",22,0.875,20.25]
[null,22,80,"22-80",22,1.125,19.75]
[null,22,100,"22-100",22,1.375,19.25]
[null,22,120,"22-120",22,1.625,18.75]
[null,22,140,"22-140",22,1.875,18.25]
[null,22,160,"22-160",22,2.125,17.75]
[null,22,"10S ","22-10S ",22,0.25,21.5]
[null,22,"40S","22-40S",22,0.375,21.25]
[null,22,"5S ","22-5S ","-","-","-"]
[null,22,"80S","22-80S",22,0.5,21]
[null,22,"Std","22-Std",22,0.375,21.25]
[null,22,"XS","22-XS",22,0.5,21]
[null,22,"XX ","22-XX ","-","-","-"]
[null,24,5,"24-5","-","-","-"]
[null,24,10,"24-10",24,0.25,23.5]
[null,24,20,"24-20",24,0.375,23.25]
[null,24,30,"24-30",24,0.56200000000000006,22.876000000000001]
[null,24,40,"24-40",24,0.68799999999999994,22.626000000000001]
[null,24,60,"24-60",24,0.96899999999999997,22.064]
[null,24,80,"24-80",24,1.2190000000000001,21.564]
[null,24,100,"24-100",24,1.5309999999999999,20.937999999999999]
[null,24,120,"24-120",24,1.8120000000000001,20.376000000000001]
[null,24,140,"24-140",24,2.0619999999999998,19.876000000000001]
[null,24,160,"24-160",24,2.3439999999999999,19.314]
[null,24,"10S ","24-10S ",24,0.25,23.5]
[null,24,"40S","24-40S",24,0.375,23.25]
[null,24,"5S ","24-5S ","-","-","-"]
[null,24,"80S","24-80S",24,0.5,23]
[null,24,"Std","24-Std",24,0.375,23.25]
[null,24,"XS","24-XS",24,0.5,23]
[null,24,"XX ","24-XX ","-","-","-"]
[null,26,5,"26-5","-","-","-"]
[null,26,10,"26-10",26,0.312,25.376000000000001]
[null,26,20,"26-20","-","-","-"]
[null,26,30,"26-30","-","-","-"]
[null,26,40,"26-40","-","-","-"]
[null,26,60,"26-60","-","-","-"]
[null,26,80,"26-80","-","-","-"]
[null,26,100,"26-100","-","-","-"]
[null,26,120,"26-120","-","-","-"]
[null,26,140,{"$f":"B517&\"-\"&C517","v":"26-140"},"-","-","-"]
[null,26,160,"26-160","-","-","-"]
[null,26,"10S ","26-10S ","-","-","-"]
[null,26,"40S","26-40S",26,0.375,25.25]
[null,26,"5S ","26-5S ","-","-","-"]
[null,26,"80S","26-80S",26,0.5,25]
[null,26,"Std","26-Std",26,0.375,25.25]
[null,26,"XS","26-XS",26,0.5,25]
[null,26,"XX ","26-XX ","-","-","-"]
[null,28,5,"28-5","-","-","-"]
[null,28,10,"28-10",28,0.312,27.376000000000001]
[null,28,20,"28-20",28,0.5,27]
[null,28,30,"28-30",28,0.625,26.75]
[null,28,40,"28-40","-","-","-"]
[null,28,60,"28-60","-","-","-"]
[null,28,80,"28-80","-","-","-"]
[null,28,100,"28-100","-","-","-"]
[null,28,120,"28-120","-","-","-"]
[null,28,140,"28-140","-","-","-"]
[null,28,160,"28-160","-","-","-"]
[null,28,"10S ","28-10S ","-","-","-"]
[null,28,"40S","28-40S",28,0.375,27.25]
[null,28,"5S ","28-5S ","-","-","-"]
[null,28,"80S","28-80S",28,0.5,27]
[null,28,"Std","28-Std",28,0.375,27.25]
[null,28,"XS","28-XS","-","-","-"]
[null,28,"XX ","28-XX ","-","-","-"]
[null,30,5,"30-5","-","-","-"]
[null,30,10,"30-10","-","-","-"]
[null,30,20,"30-20",30,0.5,29]
[null,30,30,"30-30",30,0.625,28.75]
[null,30,40,"30-40","-","-","-"]
[null,30,60,"30-60","-","-","-"]
[null,30,80,"30-80","-","-","-"]
[null,30,100,"30-100","-","-","-"]
[null,30,120,"30-120","-","-","-"]
[null,30,140,"30-140","-","-","-"]
[null,30,160,"30-160","-","-","-"]
[null,30,"10S ","30-10S ","-","-","-"]
[null,30,"40S","30-40S",30,0.375,29.25]
[null,30,"5S ","30-5S ","-","-","-"]
[null,30,"80S","30-80S",30,0.5,29]
[null,30,"Std","30-Std",30,0.375,29.25]
[null,30,"XS","30-XS",30,0.5,29]
[null,30,"XX ","30-XX ","-","-","-"]
[null,32,5,"32-5","-","-","-"]
[null,32,10,"32-10",32,0.312,31.376000000000001]
[null,32,20,"32-20",32,0.5,31]
[null,32,30,"32-30",32,0.625,30.75]
[null,32,40,"32-40",32,0.68799999999999994,30.623999999999999]
[null,32,60,"32-60","-","-","-"]
[null,32,80,"32-80","-","-","-"]
[null,32,100,"32-100","-","-","-"]
[null,32,120,"32-120","-","-","-"]
[null,32,140,"32-140","-","-","-"]
[null,32,160,"32-160","-","-","-"]
[null,32,"10S ","32-10S ","-","-","-"]
[null,32,"40S","32-40S","-","-","-"]
[null,32,"5S ","32-5S ","-","-","-"]
[null,32,"80S","32-80S","-","-","-"]
[null,32,"Std","32-Std",32,0.375,31.25]
[null,32,"XS","32-XS","-","-","-"]
[null,32,"XX ","32-XX ","-","-","-"]
[null,34,5,"34-5","-","-","-"]
[null,34,10,{"$f":"B581&\"-\"&C581","v":"34-10"},34,0.312,33.375999999999998]
[null,34,20,"34-20",34,0.5,33]
[null,34,30,"34-30",34,0.625,32.75]
[null,34,40,"34-40",34,0.68799999999999994,32.624000000000002]
[null,34,60,"34-60","-","-","-"]
[null,34,80,"34-80","-","-","-"]
[null,34,100,"34-100","-","-","-"]
[null,34,120,"34-120","-","-","-"]
[null,34,140,"34-140","-","-","-"]
[null,34,160,"34-160","-","-","-"]
[null,34,"10S ","34-10S ","-","-","-"]
[null,34,"40S","34-40S","-","-","-"]
[null,34,"5S ","34-5S ","-","-","-"]
[null,34,"80S","34-80S","-","-","-"]
[null,34,"Std","34-Std",34,0.375,33.25]
[null,34,"XS","34-XS","-","-","-"]
[null,34,"XX ","34-XX ","-","-","-"]
[null,36,5,"36-5","-","-","-"]
[null,36,10,"36-10",36,0.312,35.375]
[null,36,20,"36-20","-","-","-"]
[null,36,30,"36-30","-","-","-"]
[null,36,40,"36-40","-","-","-"]
[null,36,60,"36-60","-","-","-"]
[null,36,80,"36-80","-","-","-"]
[null,36,100,"36-100","-","-","-"]
[null,36,120,"36-120","-","-","-"]
[null,36,140,"36-140","-","-","-"]
[null,36,160,"36-160","-","-","-"]
[null,36,"10S ","36-10S ","-","-","-"]
[null,36,"40S","36-40S",36,0.375,35.25]
[null,36,"5S ","36-5S ","-","-","-"]
[null,36,"80S","36-80S",36,0.5,35]
[null,36,"Std","36-Std",36,0.375,35.25]
[null,36,"XS","36-XS",36,0.5,35]
[null,36,"XX ","36-XX ","-","-","-"]
[null,42,5,"42-5","-","-","-"]
[null,42,10,"42-10","-","-","-"]
[null,42,20,"42-20","-","-","-"]
[null,42,30,"42-30",42,0.625,40.75]
[null,42,40,"42-40",42,0.75,40.5]
[null,42,60,"42-60","-","-","-"]
[null,42,80,"42-80","-","-","-"]
[null,42,100,"42-100","-","-","-"]
[null,42,120,"42-120","-","-","-"]
[null,42,140,"42-140","-","-","-"]
[null,42,160,"42-160","-","-","-"]
[null,42,"10S ","42-10S ","-","-","-"]
[null,42,"40S","42-40S",42,0.375,41.25]
[null,42,"5S ","42-5S ","-","-","-"]
[null,42,"80S","42-80S",42,0.5,41]
[null,42,"Std","42-Std",42,0.375,41.25]
[null,42,"XS","42-XS",42,0.5,41]
[null,42,"XX ","42-XX ","-","-","-"]
[null,48,5,"48-5","-","-","-"]
[null,48,10,"48-10","-","-","-"]
[null,48,20,"48-20","-","-","-"]
[null,48,30,"48-30","-","-","-"]
[null,48,40,"48-40","-","-","-"]
[null,48,60,"48-60","-","-","-"]
[null,48,80,"48-80","-","-","-"]
[null,48,100,"48-100","-","-","-"]
[null,48,120,"48-120","-","-","-"]
[null,48,140,"48-140","-","-","-"]
[null,48,160,"48-160","-","-","-"]
[null,48,"10S ",{"$f":"B645&\"-\"&C645","v":"48-10S "},"-","-","-"]
[null,48,"40S","48-40S","-","-","-"]
[null,48,"5S ","48-5S ","-","-","-"]
[null,48,"80S","48-80S","-","-","-"]
[null,48,"Std","48-Std","-","-","-"]
[null,48,"XS","48-XS","-","-","-"]
[null,48,"XX ","48-XX ","-","-","-"]

{"sheet":"Formulae","index":60,"n_rows":19,"n_cols":6,"rows_kept":19,"cut":false,"hidden":true,"merged":[[2,1,4,1],[2,2,3,3],[2,4,2,5],[3,4,3,5]]}
[]
[null,"Acceptance criteria pipe size:"]
[null,"Pipe Nominal Diameter (in)","Maximum velocity (m/s)",null,"Allowable Pressure Drop "]
[null,null,null,null,"(bar/100 m)"]
[null,null,"Pump Suction","Pump Discharge","Pump Suction","Pump Discharge"]
[null,"< 4",0.9,1.8,"0.23 to 0.54","0.34 to 0.68"]
[null,4,1.4,2.4,"0.23 to 0.54","0.34 to 0.68"]
[null,6,1.5,3,"0.23 to 0.54","0.34 to 0.68"]
[null,8,1.8,4.3,"0.23 to 0.54","0.34 to 0.68"]
[null,">8",1.8,5,"0.23 to 0.54","0.34 to 0.68"]
[]
[null,"Colebrook-White Equation:"]
[]
[]
[]
[]
[]
[]
[null,"Pressure Drop (psi/100 ft) for Turbulent flow of liquid:"]